BEGIN:VCALENDAR
VERSION:1.0
BEGIN:VEVENT
DTSTART:20251201T180000
DTEND:20251201T190000
SUMMARY:Lakers vs. Thunder
DESCRIPTION:8U Boys - Warner Robins Parks and Recreation 
LOCATION:NH Court 3
CATEGORIES:QuickScores; Basketball - Youth Game
TRANSP:0
DALARM:20251201T160000;PT10M;2;Lakers vs. Thunder
END:VEVENT
BEGIN:VEVENT
DTSTART:20251201T190000
DTEND:20251201T200000
SUMMARY:Hornets vs. Nets
DESCRIPTION:8U Boys - Warner Robins Parks and Recreation 
LOCATION:NH Court 3
CATEGORIES:QuickScores; Basketball - Youth Game
TRANSP:0
DALARM:20251201T170000;PT10M;2;Hornets vs. Nets
END:VEVENT
BEGIN:VEVENT
DTSTART:20251203T180000
DTEND:20251203T190000
SUMMARY:Timberwolves vs. Jazz
DESCRIPTION:8U Boys - Warner Robins Parks and Recreation 
LOCATION:NH Court 3
CATEGORIES:QuickScores; Basketball - Youth Game
TRANSP:0
DALARM:20251203T160000;PT10M;2;Timberwolves vs. Jazz
END:VEVENT
BEGIN:VEVENT
DTSTART:20251203T190000
DTEND:20251203T200000
SUMMARY:Celtics vs. Heat
DESCRIPTION:8U Boys - Warner Robins Parks and Recreation 
LOCATION:NH Court 3
CATEGORIES:QuickScores; Basketball - Youth Game
TRANSP:0
DALARM:20251203T170000;PT10M;2;Celtics vs. Heat
END:VEVENT
BEGIN:VEVENT
DTSTART:20251208T180000
DTEND:20251208T190000
SUMMARY:Bulls vs. Hawks
DESCRIPTION:8U Boys - Warner Robins Parks and Recreation 
LOCATION:NH Court 3
CATEGORIES:QuickScores; Basketball - Youth Game
TRANSP:0
DALARM:20251208T160000;PT10M;2;Bulls vs. Hawks
END:VEVENT
BEGIN:VEVENT
DTSTART:20251208T190000
DTEND:20251208T200000
SUMMARY:Magic vs. Heat
DESCRIPTION:8U Boys - Warner Robins Parks and Recreation 
LOCATION:NH Court 3
CATEGORIES:QuickScores; Basketball - Youth Game
TRANSP:0
DALARM:20251208T170000;PT10M;2;Magic vs. Heat
END:VEVENT
BEGIN:VEVENT
DTSTART:20251212T180000
DTEND:20251212T190000
SUMMARY:Hornets vs. Hawks
DESCRIPTION:8U Boys - Warner Robins Parks and Recreation 
LOCATION:NH Court 4
CATEGORIES:QuickScores; Basketball - Youth Game
TRANSP:0
DALARM:20251212T160000;PT10M;2;Hornets vs. Hawks
END:VEVENT
BEGIN:VEVENT
DTSTART:20251213T100000
DTEND:20251213T110000
SUMMARY:Hornets vs. Thunder
DESCRIPTION:8U Boys - Warner Robins Parks and Recreation 
LOCATION:NH Court 3
CATEGORIES:QuickScores; Basketball - Youth Game
TRANSP:0
DALARM:20251213T080000;PT10M;2;Hornets vs. Thunder
END:VEVENT
BEGIN:VEVENT
DTSTART:20251213T110000
DTEND:20251213T120000
SUMMARY:Bulls vs. Lakers
DESCRIPTION:8U Boys - Warner Robins Parks and Recreation 
LOCATION:NH Court 3
CATEGORIES:QuickScores; Basketball - Youth Game
TRANSP:0
DALARM:20251213T090000;PT10M;2;Bulls vs. Lakers
END:VEVENT
BEGIN:VEVENT
DTSTART:20251213T120000
DTEND:20251213T130000
SUMMARY:Celtics vs. Raptors
DESCRIPTION:8U Boys - Warner Robins Parks and Recreation 
LOCATION:NH Court 3
CATEGORIES:QuickScores; Basketball - Youth Game
TRANSP:0
DALARM:20251213T100000;PT10M;2;Celtics vs. Raptors
END:VEVENT
BEGIN:VEVENT
DTSTART:20251213T130000
DTEND:20251213T140000
SUMMARY:Heat vs. Bucks
DESCRIPTION:8U Boys - Warner Robins Parks and Recreation 
LOCATION:NH Court 3
CATEGORIES:QuickScores; Basketball - Youth Game
TRANSP:0
DALARM:20251213T110000;PT10M;2;Heat vs. Bucks
END:VEVENT
BEGIN:VEVENT
DTSTART:20251213T140000
DTEND:20251213T150000
SUMMARY:Jazz vs. Timberwolves
DESCRIPTION:8U Boys - Warner Robins Parks and Recreation 
LOCATION:NH Court 3
CATEGORIES:QuickScores; Basketball - Youth Game
TRANSP:0
DALARM:20251213T120000;PT10M;2;Jazz vs. Timberwolves
END:VEVENT
BEGIN:VEVENT
DTSTART:20251215T180000
DTEND:20251215T190000
SUMMARY:Raptors vs. Magic
DESCRIPTION:8U Boys - Warner Robins Parks and Recreation 
LOCATION:NH Court 3
CATEGORIES:QuickScores; Basketball - Youth Game
TRANSP:0
DALARM:20251215T160000;PT10M;2;Raptors vs. Magic
END:VEVENT
BEGIN:VEVENT
DTSTART:20251215T190000
DTEND:20251215T200000
SUMMARY:Bucks vs. Celtics
DESCRIPTION:8U Boys - Warner Robins Parks and Recreation 
LOCATION:NH Court 3
CATEGORIES:QuickScores; Basketball - Youth Game
TRANSP:0
DALARM:20251215T170000;PT10M;2;Bucks vs. Celtics
END:VEVENT
BEGIN:VEVENT
DTSTART:20251217T180000
DTEND:20251217T190000
SUMMARY:Lakers vs. Hawks
DESCRIPTION:8U Boys - Warner Robins Parks and Recreation 
LOCATION:NH Court 3
CATEGORIES:QuickScores; Basketball - Youth Game
TRANSP:0
DALARM:20251217T160000;PT10M;2;Lakers vs. Hawks
END:VEVENT
BEGIN:VEVENT
DTSTART:20251217T190000
DTEND:20251217T200000
SUMMARY:Bulls vs. Nets
DESCRIPTION:8U Boys - Warner Robins Parks and Recreation 
LOCATION:NH Court 3
CATEGORIES:QuickScores; Basketball - Youth Game
TRANSP:0
DALARM:20251217T170000;PT10M;2;Bulls vs. Nets
END:VEVENT
BEGIN:VEVENT
DTSTART:20260105T180000
DTEND:20260105T190000
SUMMARY:Jazz vs. Heat
DESCRIPTION:8U Boys - Warner Robins Parks and Recreation 
LOCATION:NH Court 3
CATEGORIES:QuickScores; Basketball - Youth Game
TRANSP:0
DALARM:20260105T160000;PT10M;2;Jazz vs. Heat
END:VEVENT
BEGIN:VEVENT
DTSTART:20260105T190000
DTEND:20260105T200000
SUMMARY:Magic vs. Timberwolves
DESCRIPTION:8U Boys - Warner Robins Parks and Recreation 
LOCATION:NH Court 3
CATEGORIES:QuickScores; Basketball - Youth Game
TRANSP:0
DALARM:20260105T170000;PT10M;2;Magic vs. Timberwolves
END:VEVENT
BEGIN:VEVENT
DTSTART:20260107T180000
DTEND:20260107T190000
SUMMARY:Lakers vs. Nets
DESCRIPTION:8U Boys - Warner Robins Parks and Recreation 
LOCATION:NH Court 3
CATEGORIES:QuickScores; Basketball - Youth Game
TRANSP:0
DALARM:20260107T160000;PT10M;2;Lakers vs. Nets
END:VEVENT
BEGIN:VEVENT
DTSTART:20260107T190000
DTEND:20260107T200000
SUMMARY:Thunder vs. Hawks
DESCRIPTION:8U Boys - Warner Robins Parks and Recreation 
LOCATION:NH Court 3
CATEGORIES:QuickScores; Basketball - Youth Game
TRANSP:0
DALARM:20260107T170000;PT10M;2;Thunder vs. Hawks
END:VEVENT
BEGIN:VEVENT
DTSTART:20260110T090000
DTEND:20260110T100000
SUMMARY:Bucks vs. Timberwolves
DESCRIPTION:8U Boys - Warner Robins Parks and Recreation 
LOCATION:NH Court 3
CATEGORIES:QuickScores; Basketball - Youth Game
TRANSP:0
DALARM:20260110T070000;PT10M;2;Bucks vs. Timberwolves
END:VEVENT
BEGIN:VEVENT
DTSTART:20260110T100000
DTEND:20260110T110000
SUMMARY:Lakers vs. Hornets
DESCRIPTION:8U Boys - Warner Robins Parks and Recreation 
LOCATION:NH Court 3
CATEGORIES:QuickScores; Basketball - Youth Game
TRANSP:0
DALARM:20260110T080000;PT10M;2;Lakers vs. Hornets
END:VEVENT
BEGIN:VEVENT
DTSTART:20260110T110000
DTEND:20260110T120000
SUMMARY:Heat vs. Magic
DESCRIPTION:8U Boys - Warner Robins Parks and Recreation 
LOCATION:NH Court 3
CATEGORIES:QuickScores; Basketball - Youth Game
TRANSP:0
DALARM:20260110T090000;PT10M;2;Heat vs. Magic
END:VEVENT
BEGIN:VEVENT
DTSTART:20260110T120000
DTEND:20260110T130000
SUMMARY:Hawks vs. Nets
DESCRIPTION:8U Boys - Warner Robins Parks and Recreation 
LOCATION:NH Court 3
CATEGORIES:QuickScores; Basketball - Youth Game
TRANSP:0
DALARM:20260110T100000;PT10M;2;Hawks vs. Nets
END:VEVENT
BEGIN:VEVENT
DTSTART:20260110T130000
DTEND:20260110T140000
SUMMARY:Raptors vs. Jazz
DESCRIPTION:8U Boys - Warner Robins Parks and Recreation 
LOCATION:NH Court 3
CATEGORIES:QuickScores; Basketball - Youth Game
TRANSP:0
DALARM:20260110T110000;PT10M;2;Raptors vs. Jazz
END:VEVENT
BEGIN:VEVENT
DTSTART:20260110T140000
DTEND:20260110T150000
SUMMARY:Thunder vs. Bulls
DESCRIPTION:8U Boys - Warner Robins Parks and Recreation 
LOCATION:NH Court 3
CATEGORIES:QuickScores; Basketball - Youth Game
TRANSP:0
DALARM:20260110T120000;PT10M;2;Thunder vs. Bulls
END:VEVENT
BEGIN:VEVENT
DTSTART:20260112T180000
DTEND:20260112T190000
SUMMARY:Timberwolves vs. Celtics
DESCRIPTION:8U Boys - Warner Robins Parks and Recreation 
LOCATION:NH Court 3
CATEGORIES:QuickScores; Basketball - Youth Game
TRANSP:0
DALARM:20260112T160000;PT10M;2;Timberwolves vs. Celtics
END:VEVENT
BEGIN:VEVENT
DTSTART:20260112T190000
DTEND:20260112T200000
SUMMARY:Hawks vs. Lakers
DESCRIPTION:8U Boys - Warner Robins Parks and Recreation 
LOCATION:NH Court 3
CATEGORIES:QuickScores; Basketball - Youth Game
TRANSP:0
DALARM:20260112T170000;PT10M;2;Hawks vs. Lakers
END:VEVENT
BEGIN:VEVENT
DTSTART:20260114T180000
DTEND:20260114T190000
SUMMARY:Bucks vs. Magic
DESCRIPTION:8U Boys - Warner Robins Parks and Recreation 
LOCATION:NH Court 3
CATEGORIES:QuickScores; Basketball - Youth Game
TRANSP:0
DALARM:20260114T160000;PT10M;2;Bucks vs. Magic
END:VEVENT
BEGIN:VEVENT
DTSTART:20260114T190000
DTEND:20260114T200000
SUMMARY:Celtics vs. Jazz
DESCRIPTION:8U Boys - Warner Robins Parks and Recreation 
LOCATION:NH Court 3
CATEGORIES:QuickScores; Basketball - Youth Game
TRANSP:0
DALARM:20260114T170000;PT10M;2;Celtics vs. Jazz
END:VEVENT
BEGIN:VEVENT
DTSTART:20260117T090000
DTEND:20260117T100000
SUMMARY:Heat vs. Raptors
DESCRIPTION:8U Boys - Warner Robins Parks and Recreation 
LOCATION:NH Court 3
CATEGORIES:QuickScores; Basketball - Youth Game
TRANSP:0
DALARM:20260117T070000;PT10M;2;Heat vs. Raptors
END:VEVENT
BEGIN:VEVENT
DTSTART:20260117T100000
DTEND:20260117T110000
SUMMARY:Jazz vs. Magic
DESCRIPTION:8U Boys - Warner Robins Parks and Recreation 
LOCATION:NH Court 3
CATEGORIES:QuickScores; Basketball - Youth Game
TRANSP:0
DALARM:20260117T080000;PT10M;2;Jazz vs. Magic
END:VEVENT
BEGIN:VEVENT
DTSTART:20260117T110000
DTEND:20260117T120000
SUMMARY:Celtics vs. Bucks
DESCRIPTION:8U Boys - Warner Robins Parks and Recreation 
LOCATION:NH Court 3
CATEGORIES:QuickScores; Basketball - Youth Game
TRANSP:0
DALARM:20260117T090000;PT10M;2;Celtics vs. Bucks
END:VEVENT
BEGIN:VEVENT
DTSTART:20260117T120000
DTEND:20260117T130000
SUMMARY:Hornets vs. Bulls
DESCRIPTION:8U Boys - Warner Robins Parks and Recreation 
LOCATION:NH Court 3
CATEGORIES:QuickScores; Basketball - Youth Game
TRANSP:0
DALARM:20260117T100000;PT10M;2;Hornets vs. Bulls
END:VEVENT
BEGIN:VEVENT
DTSTART:20260117T130000
DTEND:20260117T140000
SUMMARY:Thunder vs. Lakers
DESCRIPTION:8U Boys - Warner Robins Parks and Recreation 
LOCATION:NH Court 3
CATEGORIES:QuickScores; Basketball - Youth Game
TRANSP:0
DALARM:20260117T110000;PT10M;2;Thunder vs. Lakers
END:VEVENT
BEGIN:VEVENT
DTSTART:20260117T140000
DTEND:20260117T150000
SUMMARY:Nets vs. Hawks
DESCRIPTION:8U Boys - Warner Robins Parks and Recreation 
LOCATION:NH Court 3
CATEGORIES:QuickScores; Basketball - Youth Game
TRANSP:0
DALARM:20260117T120000;PT10M;2;Nets vs. Hawks
END:VEVENT
BEGIN:VEVENT
DTSTART:20260121T180000
DTEND:20260121T190000
SUMMARY:Thunder vs. Nets
DESCRIPTION:Nets forfeit, not enough players at game time --- 8U Boys - Warner Robins Parks and Recreation 
LOCATION:NH Court 3
CATEGORIES:QuickScores; Basketball - Youth Game
TRANSP:0
DALARM:20260121T160000;PT10M;2;Thunder vs. Nets
END:VEVENT
BEGIN:VEVENT
DTSTART:20260121T190000
DTEND:20260121T200000
SUMMARY:Timberwolves vs. Heat
DESCRIPTION:8U Boys - Warner Robins Parks and Recreation 
LOCATION:NH Court 3
CATEGORIES:QuickScores; Basketball - Youth Game
TRANSP:0
DALARM:20260121T170000;PT10M;2;Timberwolves vs. Heat
END:VEVENT
BEGIN:VEVENT
DTSTART:20260124T090000
DTEND:20260124T100000
SUMMARY:Nets vs. Lakers
DESCRIPTION:8U Boys - Warner Robins Parks and Recreation 
LOCATION:NH Court 3
CATEGORIES:QuickScores; Basketball - Youth Game
TRANSP:0
DALARM:20260124T070000;PT10M;2;Nets vs. Lakers
END:VEVENT
BEGIN:VEVENT
DTSTART:20260124T100000
DTEND:20260124T110000
SUMMARY:Hawks vs. Bulls
DESCRIPTION:8U Boys - Warner Robins Parks and Recreation 
LOCATION:NH Court 3
CATEGORIES:QuickScores; Basketball - Youth Game
TRANSP:0
DALARM:20260124T080000;PT10M;2;Hawks vs. Bulls
END:VEVENT
BEGIN:VEVENT
DTSTART:20260124T110000
DTEND:20260124T120000
SUMMARY:Raptors vs. Timberwolves
DESCRIPTION:8U Boys - Warner Robins Parks and Recreation 
LOCATION:NH Court 3
CATEGORIES:QuickScores; Basketball - Youth Game
TRANSP:0
DALARM:20260124T090000;PT10M;2;Raptors vs. Timberwolves
END:VEVENT
BEGIN:VEVENT
DTSTART:20260124T120000
DTEND:20260124T130000
SUMMARY:Bucks vs. Jazz
DESCRIPTION:8U Boys - Warner Robins Parks and Recreation 
LOCATION:NH Court 3
CATEGORIES:QuickScores; Basketball - Youth Game
TRANSP:0
DALARM:20260124T100000;PT10M;2;Bucks vs. Jazz
END:VEVENT
BEGIN:VEVENT
DTSTART:20260124T130000
DTEND:20260124T140000
SUMMARY:Thunder vs. Hornets
DESCRIPTION:8U Boys - Warner Robins Parks and Recreation 
LOCATION:NH Court 3
CATEGORIES:QuickScores; Basketball - Youth Game
TRANSP:0
DALARM:20260124T110000;PT10M;2;Thunder vs. Hornets
END:VEVENT
BEGIN:VEVENT
DTSTART:20260124T140000
DTEND:20260124T150000
SUMMARY:Heat vs. Celtics
DESCRIPTION:8U Boys - Warner Robins Parks and Recreation 
LOCATION:NH Court 3
CATEGORIES:QuickScores; Basketball - Youth Game
TRANSP:0
DALARM:20260124T120000;PT10M;2;Heat vs. Celtics
END:VEVENT
BEGIN:VEVENT
DTSTART:20260126T180000
DTEND:20260126T190000
SUMMARY:Nets vs. Thunder
DESCRIPTION:Nets forfeit --- 8U Boys - Warner Robins Parks and Recreation 
LOCATION:NH Court 3
CATEGORIES:QuickScores; Basketball - Youth Game
TRANSP:0
DALARM:20260126T160000;PT10M;2;Nets vs. Thunder
END:VEVENT
BEGIN:VEVENT
DTSTART:20260126T190000
DTEND:20260126T200000
SUMMARY:Raptors vs. Bucks
DESCRIPTION:8U Boys - Warner Robins Parks and Recreation 
LOCATION:NH Court 3
CATEGORIES:QuickScores; Basketball - Youth Game
TRANSP:0
DALARM:20260126T170000;PT10M;2;Raptors vs. Bucks
END:VEVENT
BEGIN:VEVENT
DTSTART:20260128T180000
DTEND:20260128T190000
SUMMARY:Magic vs. Celtics
DESCRIPTION:8U Boys - Warner Robins Parks and Recreation 
LOCATION:NH Court 3
CATEGORIES:QuickScores; Basketball - Youth Game
TRANSP:0
DALARM:20260128T160000;PT10M;2;Magic vs. Celtics
END:VEVENT
BEGIN:VEVENT
DTSTART:20260128T190000
DTEND:20260128T200000
SUMMARY:Lakers vs. Bulls
DESCRIPTION:8U Boys - Warner Robins Parks and Recreation 
LOCATION:NH Court 3
CATEGORIES:QuickScores; Basketball - Youth Game
TRANSP:0
DALARM:20260128T170000;PT10M;2;Lakers vs. Bulls
END:VEVENT
BEGIN:VEVENT
DTSTART:20260202T180000
DTEND:20260202T190000
SUMMARY:Timberwolves vs. Bucks
DESCRIPTION:8U Boys - Warner Robins Parks and Recreation 
LOCATION:NH Court 3
CATEGORIES:QuickScores; Basketball - Youth Game
TRANSP:0
DALARM:20260202T160000;PT10M;2;Timberwolves vs. Bucks
END:VEVENT
BEGIN:VEVENT
DTSTART:20260202T190000
DTEND:20260202T200000
SUMMARY:Jazz vs. Celtics
DESCRIPTION:8U Boys - Warner Robins Parks and Recreation 
LOCATION:NH Court 3
CATEGORIES:QuickScores; Basketball - Youth Game
TRANSP:0
DALARM:20260202T170000;PT10M;2;Jazz vs. Celtics
END:VEVENT
BEGIN:VEVENT
DTSTART:20260204T180000
DTEND:20260204T190000
SUMMARY:Bulls vs. Hornets
DESCRIPTION:8U Boys - Warner Robins Parks and Recreation 
LOCATION:NH Court 3
CATEGORIES:QuickScores; Basketball - Youth Game
TRANSP:0
DALARM:20260204T160000;PT10M;2;Bulls vs. Hornets
END:VEVENT
BEGIN:VEVENT
DTSTART:20260204T190000
DTEND:20260204T200000
SUMMARY:Magic vs. Raptors
DESCRIPTION:8U Boys - Warner Robins Parks and Recreation 
LOCATION:NH Court 3
CATEGORIES:QuickScores; Basketball - Youth Game
TRANSP:0
DALARM:20260204T170000;PT10M;2;Magic vs. Raptors
END:VEVENT
BEGIN:VEVENT
DTSTART:20260209T190000
DTEND:20260209T200000
SUMMARY:Bulls vs. Thunder
DESCRIPTION:8U Boys - Warner Robins Parks and Recreation 
LOCATION:NH Court 3
CATEGORIES:QuickScores; Basketball - Youth Game
TRANSP:0
DALARM:20260209T170000;PT10M;2;Bulls vs. Thunder
END:VEVENT
BEGIN:VEVENT
DTSTART:20260209T200000
DTEND:20260209T210000
SUMMARY:Magic vs. Jazz
DESCRIPTION:8U Boys - Warner Robins Parks and Recreation 
LOCATION:NH Court 3
CATEGORIES:QuickScores; Basketball - Youth Game
TRANSP:0
DALARM:20260209T180000;PT10M;2;Magic vs. Jazz
END:VEVENT
BEGIN:VEVENT
DTSTART:20260211T180000
DTEND:20260211T190000
SUMMARY:Raptors vs. Heat
DESCRIPTION:8U Boys - Warner Robins Parks and Recreation 
LOCATION:NH Court 3
CATEGORIES:QuickScores; Basketball - Youth Game
TRANSP:0
DALARM:20260211T160000;PT10M;2;Raptors vs. Heat
END:VEVENT
BEGIN:VEVENT
DTSTART:20260211T190000
DTEND:20260211T200000
SUMMARY:Hawks vs. Hornets
DESCRIPTION:8U Boys - Warner Robins Parks and Recreation 
LOCATION:NH Court 3
CATEGORIES:QuickScores; Basketball - Youth Game
TRANSP:0
DALARM:20260211T170000;PT10M;2;Hawks vs. Hornets
END:VEVENT
BEGIN:VEVENT
DTSTART:20260214T090000
DTEND:20260214T100000
SUMMARY:Nets vs. Hornets
DESCRIPTION:8U Boys - Warner Robins Parks and Recreation 
LOCATION:NH Court 1
CATEGORIES:QuickScores; Basketball - Youth Game
TRANSP:0
DALARM:20260214T070000;PT10M;2;Nets vs. Hornets
END:VEVENT
BEGIN:VEVENT
DTSTART:20260218T180000
DTEND:20260218T190000
SUMMARY:Celtics vs. Magic
DESCRIPTION:8U Boys - Warner Robins Parks and Recreation 
LOCATION:NH Court 3
CATEGORIES:QuickScores; Basketball - Youth Game
TRANSP:0
DALARM:20260218T160000;PT10M;2;Celtics vs. Magic
END:VEVENT
BEGIN:VEVENT
DTSTART:20260218T190000
DTEND:20260218T200000
SUMMARY:Bucks vs. Raptors
DESCRIPTION:8U Boys - Warner Robins Parks and Recreation 
LOCATION:NH Court 3
CATEGORIES:QuickScores; Basketball - Youth Game
TRANSP:0
DALARM:20260218T170000;PT10M;2;Bucks vs. Raptors
END:VEVENT
BEGIN:VEVENT
DTSTART:20260218T200000
DTEND:20260218T210000
SUMMARY:Hawks vs. Thunder
DESCRIPTION:8U Boys - Warner Robins Parks and Recreation 
LOCATION:NH Court 3
CATEGORIES:QuickScores; Basketball - Youth Game
TRANSP:0
DALARM:20260218T180000;PT10M;2;Hawks vs. Thunder
END:VEVENT
BEGIN:VEVENT
DTSTART:20260221T090000
DTEND:20260221T100000
SUMMARY:Heat vs. Timberwolves
DESCRIPTION:8U Boys - Warner Robins Parks and Recreation 
LOCATION:NH Court 3
CATEGORIES:QuickScores; Basketball - Youth Game
TRANSP:0
DALARM:20260221T070000;PT10M;2;Heat vs. Timberwolves
END:VEVENT
BEGIN:VEVENT
DTSTART:20260221T100000
DTEND:20260221T110000
SUMMARY:Nets vs. Bulls
DESCRIPTION:Bulls forfeit- not enough players --- 8U Boys - Warner Robins Parks and Recreation 
LOCATION:NH Court 3
CATEGORIES:QuickScores; Basketball - Youth Game
TRANSP:0
DALARM:20260221T080000;PT10M;2;Nets vs. Bulls
END:VEVENT
BEGIN:VEVENT
DTSTART:20260221T110000
DTEND:20260221T120000
SUMMARY:Hornets vs. Lakers
DESCRIPTION:8U Boys - Warner Robins Parks and Recreation 
LOCATION:NH Court 3
CATEGORIES:QuickScores; Basketball - Youth Game
TRANSP:0
DALARM:20260221T090000;PT10M;2;Hornets vs. Lakers
END:VEVENT
BEGIN:VEVENT
DTSTART:20260223T180000
DTEND:20260223T190000
SUMMARY:Timberwolves vs. Raptors
DESCRIPTION:8U Boys - Warner Robins Parks and Recreation 
LOCATION:NH Court 3
CATEGORIES:QuickScores; Basketball - Youth Game
TRANSP:0
DALARM:20260223T160000;PT10M;2;Timberwolves vs. Raptors
END:VEVENT
BEGIN:VEVENT
DTSTART:20260223T190000
DTEND:20260223T200000
SUMMARY:Jazz vs. Bucks
DESCRIPTION:8U Boys - Warner Robins Parks and Recreation 
LOCATION:NH Court 3
CATEGORIES:QuickScores; Basketball - Youth Game
TRANSP:0
DALARM:20260223T170000;PT10M;2;Jazz vs. Bucks
END:VEVENT
BEGIN:VEVENT
DTSTART:20260225T180000
DTEND:20260225T190000
SUMMARY:[D2 #2] Hornets vs. [D1 #3] Bucks
DESCRIPTION:8U Boys - Warner Robins Parks and Recreation 
LOCATION:NH Court 1
CATEGORIES:QuickScores; Basketball - Youth Game
TRANSP:0
DALARM:20260225T160000;PT10M;2;[D2 #2] Hornets vs. [D1 #3] Bucks
END:VEVENT
BEGIN:VEVENT
DTSTART:20260225T180000
DTEND:20260225T190000
SUMMARY:[D1 #2] Heat vs. [D2 #3] Bulls
DESCRIPTION:8U Boys - Warner Robins Parks and Recreation 
LOCATION:NH Court 2
CATEGORIES:QuickScores; Basketball - Youth Game
TRANSP:0
DALARM:20260225T160000;PT10M;2;[D1 #2] Heat vs. [D2 #3] Bulls
END:VEVENT
BEGIN:VEVENT
DTSTART:20260225T190000
DTEND:20260225T200000
SUMMARY:[D1 #1] Magic vs. [D2 #4] Thunder
DESCRIPTION:8U Boys - Warner Robins Parks and Recreation 
LOCATION:NH Court 1
CATEGORIES:QuickScores; Basketball - Youth Game
TRANSP:0
DALARM:20260225T170000;PT10M;2;[D1 #1] Magic vs. [D2 #4] Thunder
END:VEVENT
BEGIN:VEVENT
DTSTART:20260225T190000
DTEND:20260225T200000
SUMMARY:[D2 #1] Hawks vs. [D1 #4] Jazz
DESCRIPTION:8U Boys - Warner Robins Parks and Recreation 
LOCATION:NH Court 2
CATEGORIES:QuickScores; Basketball - Youth Game
TRANSP:0
DALARM:20260225T170000;PT10M;2;[D2 #1] Hawks vs. [D1 #4] Jazz
END:VEVENT
BEGIN:VEVENT
DTSTART:20260302T180000
DTEND:20260302T190000
SUMMARY:[D1 #1] Magic vs. [D1 #3] Bucks
DESCRIPTION:8U Boys - Warner Robins Parks and Recreation 
LOCATION:NH Court 2
CATEGORIES:QuickScores; Basketball - Youth Game
TRANSP:0
DALARM:20260302T160000;PT10M;2;[D1 #1] Magic vs. [D1 #3] Bucks
END:VEVENT
BEGIN:VEVENT
DTSTART:20260302T190000
DTEND:20260302T200000
SUMMARY:[D2 #1] Hawks vs. [D2 #3] Bulls
DESCRIPTION:8U Boys - Warner Robins Parks and Recreation 
LOCATION:NH Court 2
CATEGORIES:QuickScores; Basketball - Youth Game
TRANSP:0
DALARM:20260302T170000;PT10M;2;[D2 #1] Hawks vs. [D2 #3] Bulls
END:VEVENT
BEGIN:VEVENT
DTSTART:20260304T193000
DTEND:20260304T203000
SUMMARY:[D1 #1] Magic vs. [D2 #1] Hawks
DESCRIPTION:8U Boys - Warner Robins Parks and Recreation 
LOCATION:NH Court 1
CATEGORIES:QuickScores; Basketball - Youth Game
TRANSP:0
DALARM:20260304T173000;PT10M;2;[D1 #1] Magic vs. [D2 #1] Hawks
END:VEVENT
END:VCALENDAR
