BEGIN:VCALENDAR
VERSION:1.0
BEGIN:VEVENT
DTSTART:20251112T181500
DTEND:20251112T191500
SUMMARY:Da Gridiron Reaperz vs. Neighborhood Heros
DESCRIPTION:Men's - Warner Robins Parks and Recreation 
LOCATION:Tanner 3
CATEGORIES:QuickScores; Flag Football Game
TRANSP:0
DALARM:20251112T161500;PT10M;2;Da Gridiron Reaperz vs. Neighborhood Heros
END:VEVENT
BEGIN:VEVENT
DTSTART:20251112T191500
DTEND:20251112T201500
SUMMARY:Predator Pack vs. Score Navigator
DESCRIPTION:Men's - Warner Robins Parks and Recreation 
LOCATION:Tanner 3
CATEGORIES:QuickScores; Flag Football Game
TRANSP:0
DALARM:20251112T171500;PT10M;2;Predator Pack vs. Score Navigator
END:VEVENT
BEGIN:VEVENT
DTSTART:20251112T201500
DTEND:20251112T211500
SUMMARY:Bandits vs. Space Jam
DESCRIPTION:Bandits forfeit --- Men's - Warner Robins Parks and Recreation 
LOCATION:Tanner 3
CATEGORIES:QuickScores; Flag Football Game
TRANSP:0
DALARM:20251112T181500;PT10M;2;Bandits vs. Space Jam
END:VEVENT
BEGIN:VEVENT
DTSTART:20251113T181500
DTEND:20251113T191500
SUMMARY:Space Jam vs. Score Navigator
DESCRIPTION:Men's - Warner Robins Parks and Recreation 
LOCATION:Tanner 3
CATEGORIES:QuickScores; Flag Football Game
TRANSP:0
DALARM:20251113T161500;PT10M;2;Space Jam vs. Score Navigator
END:VEVENT
BEGIN:VEVENT
DTSTART:20251113T191500
DTEND:20251113T201500
SUMMARY:Bandits vs. Neighborhood Heros
DESCRIPTION:Neighborhood Heros forfeit --- Men's - Warner Robins Parks and Recreation 
LOCATION:Tanner 3
CATEGORIES:QuickScores; Flag Football Game
TRANSP:0
DALARM:20251113T171500;PT10M;2;Bandits vs. Neighborhood Heros
END:VEVENT
BEGIN:VEVENT
DTSTART:20251113T201500
DTEND:20251113T211500
SUMMARY:Predator Pack vs. Bulldogs
DESCRIPTION:Men's - Warner Robins Parks and Recreation 
LOCATION:Tanner 3
CATEGORIES:QuickScores; Flag Football Game
TRANSP:0
DALARM:20251113T181500;PT10M;2;Predator Pack vs. Bulldogs
END:VEVENT
BEGIN:VEVENT
DTSTART:20251118T181500
DTEND:20251118T191500
SUMMARY:Predator Pack vs. Bandits
DESCRIPTION:Men's - Warner Robins Parks and Recreation 
LOCATION:Tanner 3
CATEGORIES:QuickScores; Flag Football Game
TRANSP:0
DALARM:20251118T161500;PT10M;2;Predator Pack vs. Bandits
END:VEVENT
BEGIN:VEVENT
DTSTART:20251118T191500
DTEND:20251118T201500
SUMMARY:Da Gridiron Reaperz vs. Space Jam
DESCRIPTION:Men's - Warner Robins Parks and Recreation 
LOCATION:Tanner 3
CATEGORIES:QuickScores; Flag Football Game
TRANSP:0
DALARM:20251118T171500;PT10M;2;Da Gridiron Reaperz vs. Space Jam
END:VEVENT
BEGIN:VEVENT
DTSTART:20251120T181500
DTEND:20251120T191500
SUMMARY:Bandits vs. Da Gridiron Reaperz
DESCRIPTION:Men's - Warner Robins Parks and Recreation 
LOCATION:Tanner 3
CATEGORIES:QuickScores; Flag Football Game
TRANSP:0
DALARM:20251120T161500;PT10M;2;Bandits vs. Da Gridiron Reaperz
END:VEVENT
BEGIN:VEVENT
DTSTART:20251120T191500
DTEND:20251120T201500
SUMMARY:Space Jam vs. Bulldogs
DESCRIPTION:Men's - Warner Robins Parks and Recreation 
LOCATION:Tanner 3
CATEGORIES:QuickScores; Flag Football Game
TRANSP:0
DALARM:20251120T171500;PT10M;2;Space Jam vs. Bulldogs
END:VEVENT
BEGIN:VEVENT
DTSTART:20251120T201500
DTEND:20251120T211500
SUMMARY:Score Navigator vs. Neighborhood Heros
DESCRIPTION:Neighborhood Heros forfeit --- Men's - Warner Robins Parks and Recreation 
LOCATION:Tanner 3
CATEGORIES:QuickScores; Flag Football Game
TRANSP:0
DALARM:20251120T181500;PT10M;2;Score Navigator vs. Neighborhood Heros
END:VEVENT
BEGIN:VEVENT
DTSTART:20251124T181500
DTEND:20251124T191500
SUMMARY:Space Jam vs. Predator Pack
DESCRIPTION:Men's - Warner Robins Parks and Recreation 
LOCATION:Tanner 3
CATEGORIES:QuickScores; Flag Football Game
TRANSP:0
DALARM:20251124T161500;PT10M;2;Space Jam vs. Predator Pack
END:VEVENT
BEGIN:VEVENT
DTSTART:20251124T191500
DTEND:20251124T201500
SUMMARY:Neighborhood Heros vs. Bulldogs
DESCRIPTION:Men's - Warner Robins Parks and Recreation 
LOCATION:Tanner 3
CATEGORIES:QuickScores; Flag Football Game
TRANSP:0
DALARM:20251124T171500;PT10M;2;Neighborhood Heros vs. Bulldogs
END:VEVENT
BEGIN:VEVENT
DTSTART:20251124T201500
DTEND:20251124T211500
SUMMARY:Score Navigator vs. Da Gridiron Reaperz
DESCRIPTION:Men's - Warner Robins Parks and Recreation 
LOCATION:Tanner 3
CATEGORIES:QuickScores; Flag Football Game
TRANSP:0
DALARM:20251124T181500;PT10M;2;Score Navigator vs. Da Gridiron Reaperz
END:VEVENT
BEGIN:VEVENT
DTSTART:20251125T181500
DTEND:20251125T191500
SUMMARY:Neighborhood Heros vs. Space Jam
DESCRIPTION:Men's - Warner Robins Parks and Recreation 
LOCATION:Tanner 3
CATEGORIES:QuickScores; Flag Football Game
TRANSP:0
DALARM:20251125T161500;PT10M;2;Neighborhood Heros vs. Space Jam
END:VEVENT
BEGIN:VEVENT
DTSTART:20251125T191500
DTEND:20251125T201500
SUMMARY:Bulldogs vs. Bandits
DESCRIPTION:Men's - Warner Robins Parks and Recreation 
LOCATION:Tanner 3
CATEGORIES:QuickScores; Flag Football Game
TRANSP:0
DALARM:20251125T171500;PT10M;2;Bulldogs vs. Bandits
END:VEVENT
BEGIN:VEVENT
DTSTART:20251125T201500
DTEND:20251125T211500
SUMMARY:Da Gridiron Reaperz vs. Predator Pack
DESCRIPTION:Men's - Warner Robins Parks and Recreation 
LOCATION:Tanner 3
CATEGORIES:QuickScores; Flag Football Game
TRANSP:0
DALARM:20251125T181500;PT10M;2;Da Gridiron Reaperz vs. Predator Pack
END:VEVENT
BEGIN:VEVENT
DTSTART:20251202T181500
DTEND:20251202T191500
SUMMARY:Bandits vs. Score Navigator
DESCRIPTION:Men's - Warner Robins Parks and Recreation 
LOCATION:Tanner 3
CATEGORIES:QuickScores; Flag Football Game
TRANSP:0
DALARM:20251202T161500;PT10M;2;Bandits vs. Score Navigator
END:VEVENT
BEGIN:VEVENT
DTSTART:20251202T191500
DTEND:20251202T201500
SUMMARY:Bulldogs vs. Da Gridiron Reaperz
DESCRIPTION:Men's - Warner Robins Parks and Recreation 
LOCATION:Tanner 3
CATEGORIES:QuickScores; Flag Football Game
TRANSP:0
DALARM:20251202T171500;PT10M;2;Bulldogs vs. Da Gridiron Reaperz
END:VEVENT
BEGIN:VEVENT
DTSTART:20251202T201500
DTEND:20251202T211500
SUMMARY:Predator Pack vs. Neighborhood Heros
DESCRIPTION:Men's - Warner Robins Parks and Recreation 
LOCATION:Tanner 3
CATEGORIES:QuickScores; Flag Football Game
TRANSP:0
DALARM:20251202T181500;PT10M;2;Predator Pack vs. Neighborhood Heros
END:VEVENT
BEGIN:VEVENT
DTSTART:20251209T181500
DTEND:20251209T191500
SUMMARY:Bulldogs vs. Predator Pack
DESCRIPTION:Men's - Warner Robins Parks and Recreation 
LOCATION:Tanner 3
CATEGORIES:QuickScores; Flag Football Game
TRANSP:0
DALARM:20251209T161500;PT10M;2;Bulldogs vs. Predator Pack
END:VEVENT
BEGIN:VEVENT
DTSTART:20251209T191500
DTEND:20251209T201500
SUMMARY:Neighborhood Heros vs. Bandits
DESCRIPTION:Men's - Warner Robins Parks and Recreation 
LOCATION:Tanner 3
CATEGORIES:QuickScores; Flag Football Game
TRANSP:0
DALARM:20251209T171500;PT10M;2;Neighborhood Heros vs. Bandits
END:VEVENT
BEGIN:VEVENT
DTSTART:20251209T201500
DTEND:20251209T211500
SUMMARY:Score Navigator vs. Space Jam
DESCRIPTION:Men's - Warner Robins Parks and Recreation 
LOCATION:Tanner 3
CATEGORIES:QuickScores; Flag Football Game
TRANSP:0
DALARM:20251209T181500;PT10M;2;Score Navigator vs. Space Jam
END:VEVENT
BEGIN:VEVENT
DTSTART:20251211T181500
DTEND:20251211T191500
SUMMARY:Da Gridiron Reaperz vs. Bulldogs
DESCRIPTION:Men's - Warner Robins Parks and Recreation 
LOCATION:Tanner 3
CATEGORIES:QuickScores; Flag Football Game
TRANSP:0
DALARM:20251211T161500;PT10M;2;Da Gridiron Reaperz vs. Bulldogs
END:VEVENT
BEGIN:VEVENT
DTSTART:20251211T191500
DTEND:20251211T201500
SUMMARY:Bulldogs vs. Score Navigator
DESCRIPTION:Men's - Warner Robins Parks and Recreation 
LOCATION:Tanner 3
CATEGORIES:QuickScores; Flag Football Game
TRANSP:0
DALARM:20251211T171500;PT10M;2;Bulldogs vs. Score Navigator
END:VEVENT
BEGIN:VEVENT
DTSTART:20251215T181500
DTEND:20251215T191500
SUMMARY:Neighborhood Heros vs. Da Gridiron Reaperz
DESCRIPTION:Rescheduled from 12/4 --- Men's - Warner Robins Parks and Recreation 
LOCATION:Tanner 3
CATEGORIES:QuickScores; Flag Football Game
TRANSP:0
DALARM:20251215T161500;PT10M;2;Neighborhood Heros vs. Da Gridiron Reaperz
END:VEVENT
BEGIN:VEVENT
DTSTART:20251215T191500
DTEND:20251215T201500
SUMMARY:Score Navigator vs. Predator Pack
DESCRIPTION:Rescheduled from 12/4; Score Navigator forfeit --- Men's - Warner Robins Parks and Recreation 
LOCATION:Tanner 3
CATEGORIES:QuickScores; Flag Football Game
TRANSP:0
DALARM:20251215T171500;PT10M;2;Score Navigator vs. Predator Pack
END:VEVENT
BEGIN:VEVENT
DTSTART:20251215T201500
DTEND:20251215T211500
SUMMARY:Space Jam vs. Bandits
DESCRIPTION:Rescheduled from 12/4 --- Men's - Warner Robins Parks and Recreation 
LOCATION:Tanner 3
CATEGORIES:QuickScores; Flag Football Game
TRANSP:0
DALARM:20251215T181500;PT10M;2;Space Jam vs. Bandits
END:VEVENT
BEGIN:VEVENT
DTSTART:20251216T181500
DTEND:20251216T191500
SUMMARY:[2] Neighborhood Heros vs. [3] Predator Pack
DESCRIPTION:Men's - Warner Robins Parks and Recreation 
LOCATION:Tanner 3
CATEGORIES:QuickScores; Flag Football Game
TRANSP:0
DALARM:20251216T161500;PT10M;2;[2] Neighborhood Heros vs. [3] Predator Pack
END:VEVENT
BEGIN:VEVENT
DTSTART:20251216T191500
DTEND:20251216T201500
SUMMARY:[1] Bulldogs vs. [4] Space Jam
DESCRIPTION:Men's - Warner Robins Parks and Recreation 
LOCATION:Tanner 3
CATEGORIES:QuickScores; Flag Football Game
TRANSP:0
DALARM:20251216T171500;PT10M;2;[1] Bulldogs vs. [4] Space Jam
END:VEVENT
BEGIN:VEVENT
DTSTART:20251216T201500
DTEND:20251216T211500
SUMMARY:[4] Space Jam vs. [2] Neighborhood Heros
DESCRIPTION:Men's - Warner Robins Parks and Recreation 
LOCATION:Tanner 3
CATEGORIES:QuickScores; Flag Football Game
TRANSP:0
DALARM:20251216T181500;PT10M;2;[4] Space Jam vs. [2] Neighborhood Heros
END:VEVENT
END:VCALENDAR
