BEGIN:VCALENDAR
VERSION:1.0
BEGIN:VEVENT
DTSTART:20260310T180000
DTEND:20260310T193000
SUMMARY:Practice: Corvallis 2 - 5
DESCRIPTION:2026 Track & Field - Valley League Sports
LOCATION:Linus Pauling MS Track
CATEGORIES:QuickScores; Track &amp; Field Game
TRANSP:0
DALARM:20260310T160000;PT10M;2;Practice: Corvallis 2 - 5
END:VEVENT
BEGIN:VEVENT
DTSTART:20260312T180000
DTEND:20260312T193000
SUMMARY:Practice: Corvallis 2 - 5
DESCRIPTION:2026 Track & Field - Valley League Sports
LOCATION:Linus Pauling MS Track
CATEGORIES:QuickScores; Track &amp; Field Game
TRANSP:0
DALARM:20260312T160000;PT10M;2;Practice: Corvallis 2 - 5
END:VEVENT
BEGIN:VEVENT
DTSTART:20260317T180000
DTEND:20260317T193000
SUMMARY:Practice: Corvallis 2 - 5
DESCRIPTION:2026 Track & Field - Valley League Sports
LOCATION:Linus Pauling MS Track
CATEGORIES:QuickScores; Track &amp; Field Game
TRANSP:0
DALARM:20260317T160000;PT10M;2;Practice: Corvallis 2 - 5
END:VEVENT
BEGIN:VEVENT
DTSTART:20260319T180000
DTEND:20260319T193000
SUMMARY:Practice: Corvallis 2 - 5
DESCRIPTION:2026 Track & Field - Valley League Sports
LOCATION:Linus Pauling MS Track
CATEGORIES:QuickScores; Track &amp; Field Game
TRANSP:0
DALARM:20260319T160000;PT10M;2;Practice: Corvallis 2 - 5
END:VEVENT
BEGIN:VEVENT
DTSTART:20260331T180000
DTEND:20260331T190000
SUMMARY:Practice: Corvallis 2 - 5 vs. Corvallis K - 1
DESCRIPTION:2026 Track & Field - Valley League Sports
LOCATION:Linus Pauling MS Track
CATEGORIES:QuickScores; Track &amp; Field Game
TRANSP:0
DALARM:20260331T160000;PT10M;2;Practice: Corvallis 2 - 5 vs. Corvallis K - 1
END:VEVENT
BEGIN:VEVENT
DTSTART:20260402T180000
DTEND:20260402T190000
SUMMARY:Practice: Corvallis 2 - 5 vs. Corvallis K - 1
DESCRIPTION:2026 Track & Field - Valley League Sports
LOCATION:Linus Pauling MS Track
CATEGORIES:QuickScores; Track &amp; Field Game
TRANSP:0
DALARM:20260402T160000;PT10M;2;Practice: Corvallis 2 - 5 vs. Corvallis K - 1
END:VEVENT
BEGIN:VEVENT
DTSTART:20260407T130000
DTEND:20260407T140000
SUMMARY:Practice: Corvallis 2 - 5 vs. Corvallis K - 1
DESCRIPTION:NO PRACTICE TODAY!!! Linus Pauling hosted Track Meet --- 2026 Track & Field - Valley League Sports
LOCATION:Linus Pauling MS Track
CATEGORIES:QuickScores; Track &amp; Field Game
TRANSP:0
DALARM:20260407T110000;PT10M;2;Practice: Corvallis 2 - 5 vs. Corvallis K - 1
END:VEVENT
BEGIN:VEVENT
DTSTART:20260409T180000
DTEND:20260409T190000
SUMMARY:Practice: Corvallis 2 - 5 vs. Corvallis K - 1
DESCRIPTION:PICTURE DAY!!! --- 2026 Track & Field - Valley League Sports
LOCATION:Linus Pauling MS Track
CATEGORIES:QuickScores; Track &amp; Field Game
TRANSP:0
DALARM:20260409T160000;PT10M;2;Practice: Corvallis 2 - 5 vs. Corvallis K - 1
END:VEVENT
BEGIN:VEVENT
DTSTART:20260414T180000
DTEND:20260414T190000
SUMMARY:Practice: Corvallis 2 - 5 vs. Corvallis K - 1
DESCRIPTION:2026 Track & Field - Valley League Sports
LOCATION:Linus Pauling MS Track
CATEGORIES:QuickScores; Track &amp; Field Game
TRANSP:0
DALARM:20260414T160000;PT10M;2;Practice: Corvallis 2 - 5 vs. Corvallis K - 1
END:VEVENT
BEGIN:VEVENT
DTSTART:20260416T180000
DTEND:20260416T190000
SUMMARY:Practice: Corvallis 2 - 5 vs. Corvallis K - 1
DESCRIPTION:2026 Track & Field - Valley League Sports
LOCATION:Linus Pauling MS Track
CATEGORIES:QuickScores; Track &amp; Field Game
TRANSP:0
DALARM:20260416T160000;PT10M;2;Practice: Corvallis 2 - 5 vs. Corvallis K - 1
END:VEVENT
BEGIN:VEVENT
DTSTART:20260418T090000
DTEND:20260418T140000
SUMMARY:Practice: Corvallis 2 - 5
DESCRIPTION:TRACK MEET!! --- 2026 Track & Field - Valley League Sports
LOCATION:Lebanon HS Field Varsity
CATEGORIES:QuickScores; Track &amp; Field Game
TRANSP:0
DALARM:20260418T070000;PT10M;2;Practice: Corvallis 2 - 5
END:VEVENT
BEGIN:VEVENT
DTSTART:20260421T180000
DTEND:20260421T190000
SUMMARY:Practice: Corvallis 2 - 5 vs. Corvallis K - 1
DESCRIPTION:2026 Track & Field - Valley League Sports
LOCATION:Linus Pauling MS Track
CATEGORIES:QuickScores; Track &amp; Field Game
TRANSP:0
DALARM:20260421T160000;PT10M;2;Practice: Corvallis 2 - 5 vs. Corvallis K - 1
END:VEVENT
BEGIN:VEVENT
DTSTART:20260423T180000
DTEND:20260423T190000
SUMMARY:Practice: Corvallis K - 1
DESCRIPTION:TRACK MEET!! --- 2026 Track & Field - Valley League Sports
LOCATION:Linus Pauling MS Track
CATEGORIES:QuickScores; Track &amp; Field Game
TRANSP:0
DALARM:20260423T160000;PT10M;2;Practice: Corvallis K - 1
END:VEVENT
BEGIN:VEVENT
DTSTART:20260425T080000
DTEND:20260425T130000
SUMMARY:Practice: Corvallis 2 - 5
DESCRIPTION:TRACK MEET!! --- 2026 Track & Field - Valley League Sports
LOCATION:Linus Pauling MS Track
CATEGORIES:QuickScores; Track &amp; Field Game
TRANSP:0
DALARM:20260425T060000;PT10M;2;Practice: Corvallis 2 - 5
END:VEVENT
BEGIN:VEVENT
DTSTART:20260428T180000
DTEND:20260428T190000
SUMMARY:Practice: Corvallis 2 - 5 vs. Corvallis K - 1
DESCRIPTION:2026 Track & Field - Valley League Sports
LOCATION:Linus Pauling MS Track
CATEGORIES:QuickScores; Track &amp; Field Game
TRANSP:0
DALARM:20260428T160000;PT10M;2;Practice: Corvallis 2 - 5 vs. Corvallis K - 1
END:VEVENT
BEGIN:VEVENT
DTSTART:20260430T180000
DTEND:20260430T190000
SUMMARY:Practice: Corvallis K - 1
DESCRIPTION:FINAL PRACTICE!!! --- 2026 Track & Field - Valley League Sports
LOCATION:Linus Pauling MS Track
CATEGORIES:QuickScores; Track &amp; Field Game
TRANSP:0
DALARM:20260430T160000;PT10M;2;Practice: Corvallis K - 1
END:VEVENT
BEGIN:VEVENT
DTSTART:20260502T090000
DTEND:20260502T140000
SUMMARY:Practice: Corvallis 2 - 5
DESCRIPTION:Tentative Date --- 2026 Track & Field - Valley League Sports
LOCATION:South Albany HS Track
CATEGORIES:QuickScores; Track &amp; Field Game
TRANSP:0
DALARM:20260502T070000;PT10M;2;Practice: Corvallis 2 - 5
END:VEVENT
BEGIN:VEVENT
DTSTART:20260505T180000
DTEND:20260505T190000
SUMMARY:Practice: Corvallis 2 - 5
DESCRIPTION:FINAL PRACTICE --- 2026 Track & Field - Valley League Sports
LOCATION:Linus Pauling MS Track
CATEGORIES:QuickScores; Track &amp; Field Game
TRANSP:0
DALARM:20260505T160000;PT10M;2;Practice: Corvallis 2 - 5
END:VEVENT
BEGIN:VEVENT
DTSTART:20260516T090000
DTEND:20260516T100000
SUMMARY:Practice: Corvallis 2 - 5
DESCRIPTION:TRACK MEET!! --- 2026 Track & Field - Valley League Sports
LOCATION:Philomath High Track
CATEGORIES:QuickScores; Track &amp; Field Game
TRANSP:0
DALARM:20260516T070000;PT10M;2;Practice: Corvallis 2 - 5
END:VEVENT
END:VCALENDAR
