BEGIN:VCALENDAR
VERSION:1.0
BEGIN:VEVENT
DTSTART:20250917T180000
DTEND:20250917T184000
SUMMARY:Brown/Godi vs. Stout/Marcotte
DESCRIPTION:CHST Wednesday High Int. Lg - Fall 25 - Paddle Up Pickleball Club
LOCATION:Court 2
CATEGORIES:QuickScores; Pickleball Game
TRANSP:0
DALARM:20250917T160000;PT10M;2;Brown/Godi vs. Stout/Marcotte
END:VEVENT
BEGIN:VEVENT
DTSTART:20250917T180000
DTEND:20250917T184000
SUMMARY:Lavallee/Peters vs. Markham/Markhan
DESCRIPTION:CHST Wednesday High Int. Lg - Fall 25 - Paddle Up Pickleball Club
LOCATION:Court 1
CATEGORIES:QuickScores; Pickleball Game
TRANSP:0
DALARM:20250917T160000;PT10M;2;Lavallee/Peters vs. Markham/Markhan
END:VEVENT
BEGIN:VEVENT
DTSTART:20250917T184000
DTEND:20250917T192000
SUMMARY:Markham/Markhan vs. Stout/Marcotte
DESCRIPTION:CHST Wednesday High Int. Lg - Fall 25 - Paddle Up Pickleball Club
LOCATION:Court 2
CATEGORIES:QuickScores; Pickleball Game
TRANSP:0
DALARM:20250917T164000;PT10M;2;Markham/Markhan vs. Stout/Marcotte
END:VEVENT
BEGIN:VEVENT
DTSTART:20250917T184000
DTEND:20250917T192000
SUMMARY:Lavallee/Peters vs. Gorman/Huber
DESCRIPTION:CHST Wednesday High Int. Lg - Fall 25 - Paddle Up Pickleball Club
LOCATION:Court 1
CATEGORIES:QuickScores; Pickleball Game
TRANSP:0
DALARM:20250917T164000;PT10M;2;Lavallee/Peters vs. Gorman/Huber
END:VEVENT
BEGIN:VEVENT
DTSTART:20250917T192000
DTEND:20250917T200000
SUMMARY:Gorman/Huber vs. Brown/Godi
DESCRIPTION:CHST Wednesday High Int. Lg - Fall 25 - Paddle Up Pickleball Club
LOCATION:Court 2
CATEGORIES:QuickScores; Pickleball Game
TRANSP:0
DALARM:20250917T172000;PT10M;2;Gorman/Huber vs. Brown/Godi
END:VEVENT
BEGIN:VEVENT
DTSTART:20250924T180000
DTEND:20250924T184000
SUMMARY:Gorman/Huber vs. Markham/Markhan
DESCRIPTION:CHST Wednesday High Int. Lg - Fall 25 - Paddle Up Pickleball Club
LOCATION:Court 2
CATEGORIES:QuickScores; Pickleball Game
TRANSP:0
DALARM:20250924T160000;PT10M;2;Gorman/Huber vs. Markham/Markhan
END:VEVENT
BEGIN:VEVENT
DTSTART:20250924T180000
DTEND:20250924T184000
SUMMARY:Brown/Godi vs. Lavallee/Peters
DESCRIPTION:CHST Wednesday High Int. Lg - Fall 25 - Paddle Up Pickleball Club
LOCATION:Court 1
CATEGORIES:QuickScores; Pickleball Game
TRANSP:0
DALARM:20250924T160000;PT10M;2;Brown/Godi vs. Lavallee/Peters
END:VEVENT
BEGIN:VEVENT
DTSTART:20250924T184000
DTEND:20250924T192000
SUMMARY:Markham/Markhan vs. Brown/Godi
DESCRIPTION:CHST Wednesday High Int. Lg - Fall 25 - Paddle Up Pickleball Club
LOCATION:Court 2
CATEGORIES:QuickScores; Pickleball Game
TRANSP:0
DALARM:20250924T164000;PT10M;2;Markham/Markhan vs. Brown/Godi
END:VEVENT
BEGIN:VEVENT
DTSTART:20250924T184000
DTEND:20250924T192000
SUMMARY:Stout/Marcotte vs. Lavallee/Peters
DESCRIPTION:CHST Wednesday High Int. Lg - Fall 25 - Paddle Up Pickleball Club
LOCATION:Court 1
CATEGORIES:QuickScores; Pickleball Game
TRANSP:0
DALARM:20250924T164000;PT10M;2;Stout/Marcotte vs. Lavallee/Peters
END:VEVENT
BEGIN:VEVENT
DTSTART:20250924T192000
DTEND:20250924T200000
SUMMARY:Stout/Marcotte vs. Gorman/Huber
DESCRIPTION:CHST Wednesday High Int. Lg - Fall 25 - Paddle Up Pickleball Club
LOCATION:Court 2
CATEGORIES:QuickScores; Pickleball Game
TRANSP:0
DALARM:20250924T172000;PT10M;2;Stout/Marcotte vs. Gorman/Huber
END:VEVENT
BEGIN:VEVENT
DTSTART:20251001T180000
DTEND:20251001T184000
SUMMARY:Stout/Marcotte vs. Markham/Markhan
DESCRIPTION:CHST Wednesday High Int. Lg - Fall 25 - Paddle Up Pickleball Club
LOCATION:Court 2
CATEGORIES:QuickScores; Pickleball Game
TRANSP:0
DALARM:20251001T160000;PT10M;2;Stout/Marcotte vs. Markham/Markhan
END:VEVENT
BEGIN:VEVENT
DTSTART:20251001T180000
DTEND:20251001T184000
SUMMARY:Gorman/Huber vs. Lavallee/Peters
DESCRIPTION:CHST Wednesday High Int. Lg - Fall 25 - Paddle Up Pickleball Club
LOCATION:Court 1
CATEGORIES:QuickScores; Pickleball Game
TRANSP:0
DALARM:20251001T160000;PT10M;2;Gorman/Huber vs. Lavallee/Peters
END:VEVENT
BEGIN:VEVENT
DTSTART:20251001T184000
DTEND:20251001T192000
SUMMARY:Markham/Markhan vs. Lavallee/Peters
DESCRIPTION:CHST Wednesday High Int. Lg - Fall 25 - Paddle Up Pickleball Club
LOCATION:Court 2
CATEGORIES:QuickScores; Pickleball Game
TRANSP:0
DALARM:20251001T164000;PT10M;2;Markham/Markhan vs. Lavallee/Peters
END:VEVENT
BEGIN:VEVENT
DTSTART:20251001T184000
DTEND:20251001T192000
SUMMARY:Brown/Godi vs. Gorman/Huber
DESCRIPTION:CHST Wednesday High Int. Lg - Fall 25 - Paddle Up Pickleball Club
LOCATION:Court 1
CATEGORIES:QuickScores; Pickleball Game
TRANSP:0
DALARM:20251001T164000;PT10M;2;Brown/Godi vs. Gorman/Huber
END:VEVENT
BEGIN:VEVENT
DTSTART:20251001T192000
DTEND:20251001T200000
SUMMARY:Stout/Marcotte vs. Brown/Godi
DESCRIPTION:CHST Wednesday High Int. Lg - Fall 25 - Paddle Up Pickleball Club
LOCATION:Court 2
CATEGORIES:QuickScores; Pickleball Game
TRANSP:0
DALARM:20251001T172000;PT10M;2;Stout/Marcotte vs. Brown/Godi
END:VEVENT
BEGIN:VEVENT
DTSTART:20251008T180000
DTEND:20251008T184000
SUMMARY:Brown/Godi vs. Markham/Markhan
DESCRIPTION:CHST Wednesday High Int. Lg - Fall 25 - Paddle Up Pickleball Club
LOCATION:Court 2
CATEGORIES:QuickScores; Pickleball Game
TRANSP:0
DALARM:20251008T160000;PT10M;2;Brown/Godi vs. Markham/Markhan
END:VEVENT
BEGIN:VEVENT
DTSTART:20251008T180000
DTEND:20251008T184000
SUMMARY:Lavallee/Peters vs. Stout/Marcotte
DESCRIPTION:CHST Wednesday High Int. Lg - Fall 25 - Paddle Up Pickleball Club
LOCATION:Court 1
CATEGORIES:QuickScores; Pickleball Game
TRANSP:0
DALARM:20251008T160000;PT10M;2;Lavallee/Peters vs. Stout/Marcotte
END:VEVENT
BEGIN:VEVENT
DTSTART:20251008T184000
DTEND:20251008T192000
SUMMARY:Gorman/Huber vs. Stout/Marcotte
DESCRIPTION:CHST Wednesday High Int. Lg - Fall 25 - Paddle Up Pickleball Club
LOCATION:Court 1
CATEGORIES:QuickScores; Pickleball Game
TRANSP:0
DALARM:20251008T164000;PT10M;2;Gorman/Huber vs. Stout/Marcotte
END:VEVENT
BEGIN:VEVENT
DTSTART:20251008T184000
DTEND:20251008T192000
SUMMARY:Lavallee/Peters vs. Brown/Godi
DESCRIPTION:CHST Wednesday High Int. Lg - Fall 25 - Paddle Up Pickleball Club
LOCATION:Court 2
CATEGORIES:QuickScores; Pickleball Game
TRANSP:0
DALARM:20251008T164000;PT10M;2;Lavallee/Peters vs. Brown/Godi
END:VEVENT
BEGIN:VEVENT
DTSTART:20251008T192000
DTEND:20251008T200000
SUMMARY:Markham/Markhan vs. Gorman/Huber
DESCRIPTION:CHST Wednesday High Int. Lg - Fall 25 - Paddle Up Pickleball Club
LOCATION:Court 2
CATEGORIES:QuickScores; Pickleball Game
TRANSP:0
DALARM:20251008T172000;PT10M;2;Markham/Markhan vs. Gorman/Huber
END:VEVENT
BEGIN:VEVENT
DTSTART:20251015T180000
DTEND:20251015T184000
SUMMARY:Brown/Godi vs. Stout/Marcotte
DESCRIPTION:CHST Wednesday High Int. Lg - Fall 25 - Paddle Up Pickleball Club
LOCATION:Court 1
CATEGORIES:QuickScores; Pickleball Game
TRANSP:0
DALARM:20251015T160000;PT10M;2;Brown/Godi vs. Stout/Marcotte
END:VEVENT
BEGIN:VEVENT
DTSTART:20251015T180000
DTEND:20251015T184000
SUMMARY:Lavallee/Peters vs. Gorman/Huber
DESCRIPTION:CHST Wednesday High Int. Lg - Fall 25 - Paddle Up Pickleball Club
LOCATION:Court 2
CATEGORIES:QuickScores; Pickleball Game
TRANSP:0
DALARM:20251015T160000;PT10M;2;Lavallee/Peters vs. Gorman/Huber
END:VEVENT
BEGIN:VEVENT
DTSTART:20251015T184000
DTEND:20251015T192000
SUMMARY:Gorman/Huber vs. Brown/Godi
DESCRIPTION:CHST Wednesday High Int. Lg - Fall 25 - Paddle Up Pickleball Club
LOCATION:Court 2
CATEGORIES:QuickScores; Pickleball Game
TRANSP:0
DALARM:20251015T164000;PT10M;2;Gorman/Huber vs. Brown/Godi
END:VEVENT
BEGIN:VEVENT
DTSTART:20251015T184000
DTEND:20251015T192000
SUMMARY:Stout/Marcotte vs. Markham/Markhan
DESCRIPTION:CHST Wednesday High Int. Lg - Fall 25 - Paddle Up Pickleball Club
LOCATION:Court 1
CATEGORIES:QuickScores; Pickleball Game
TRANSP:0
DALARM:20251015T164000;PT10M;2;Stout/Marcotte vs. Markham/Markhan
END:VEVENT
BEGIN:VEVENT
DTSTART:20251015T192000
DTEND:20251015T200000
SUMMARY:Markham/Markhan vs. Lavallee/Peters
DESCRIPTION:CHST Wednesday High Int. Lg - Fall 25 - Paddle Up Pickleball Club
LOCATION:Court 2
CATEGORIES:QuickScores; Pickleball Game
TRANSP:0
DALARM:20251015T172000;PT10M;2;Markham/Markhan vs. Lavallee/Peters
END:VEVENT
BEGIN:VEVENT
DTSTART:20251022T180000
DTEND:20251022T183000
SUMMARY:[4] Lavallee/Peters vs. [5] Gorman/Huber
DESCRIPTION:CHST Wednesday High Int. Lg - Fall 25 - Paddle Up Pickleball Club
LOCATION:Court 1
CATEGORIES:QuickScores; Pickleball Game
TRANSP:0
DALARM:20251022T160000;PT10M;2;[4] Lavallee/Peters vs. [5] Gorman/Huber
END:VEVENT
BEGIN:VEVENT
DTSTART:20251022T184000
DTEND:20251022T191000
SUMMARY:[1] Brown/Godi vs. Winner of Game 1
DESCRIPTION:CHST Wednesday High Int. Lg - Fall 25 - Paddle Up Pickleball Club
LOCATION:Court 1
CATEGORIES:QuickScores; Pickleball Game
TRANSP:0
DALARM:20251022T164000;PT10M;2;[1] Brown/Godi vs. Winner of Game 1
END:VEVENT
BEGIN:VEVENT
DTSTART:20251022T184000
DTEND:20251022T191000
SUMMARY:[2] Markham/Markhan vs. [3] Stout/Marcotte
DESCRIPTION:CHST Wednesday High Int. Lg - Fall 25 - Paddle Up Pickleball Club
LOCATION:Court 2
CATEGORIES:QuickScores; Pickleball Game
TRANSP:0
DALARM:20251022T164000;PT10M;2;[2] Markham/Markhan vs. [3] Stout/Marcotte
END:VEVENT
BEGIN:VEVENT
DTSTART:20251022T192000
DTEND:20251022T195000
SUMMARY:Loser of Game 3 vs. Loser of Game 2
DESCRIPTION:CHST Wednesday High Int. Lg - Fall 25 - Paddle Up Pickleball Club
LOCATION:Court 2
CATEGORIES:QuickScores; Pickleball Game
TRANSP:0
DALARM:20251022T172000;PT10M;2;Loser of Game 3 vs. Loser of Game 2
END:VEVENT
BEGIN:VEVENT
DTSTART:20251022T192000
DTEND:20251022T195000
SUMMARY:Winner of Game 3 vs. Winner of Game 2
DESCRIPTION:CHST Wednesday High Int. Lg - Fall 25 - Paddle Up Pickleball Club
LOCATION:Court 1
CATEGORIES:QuickScores; Pickleball Game
TRANSP:0
DALARM:20251022T172000;PT10M;2;Winner of Game 3 vs. Winner of Game 2
END:VEVENT
END:VCALENDAR
