BEGIN:VCALENDAR
VERSION:1.0
BEGIN:VEVENT
DTSTART:20250910T200000
DTEND:20250910T204000
SUMMARY:Volley Llamas vs. Balls Deep
DESCRIPTION:LSL Wednesday Intermediate Squads - 9/10 Start (8pm) - Paddle Up Pickleball Club
LOCATION:Court 4
CATEGORIES:QuickScores; Pickleball Game
TRANSP:0
DALARM:20250910T180000;PT10M;2;Volley Llamas vs. Balls Deep
END:VEVENT
BEGIN:VEVENT
DTSTART:20250910T200000
DTEND:20250910T204000
SUMMARY:Dink Responsibly vs. Go Poach Yourself
DESCRIPTION:LSL Wednesday Intermediate Squads - 9/10 Start (8pm) - Paddle Up Pickleball Club
LOCATION:Court 1
CATEGORIES:QuickScores; Pickleball Game
TRANSP:0
DALARM:20250910T180000;PT10M;2;Dink Responsibly vs. Go Poach Yourself
END:VEVENT
BEGIN:VEVENT
DTSTART:20250910T210000
DTEND:20250910T214000
SUMMARY:Go Poach Yourself vs. Balls Deep
DESCRIPTION:LSL Wednesday Intermediate Squads - 9/10 Start (8pm) - Paddle Up Pickleball Club
LOCATION:Court 4
CATEGORIES:QuickScores; Pickleball Game
TRANSP:0
DALARM:20250910T190000;PT10M;2;Go Poach Yourself vs. Balls Deep
END:VEVENT
BEGIN:VEVENT
DTSTART:20250910T210000
DTEND:20250910T214000
SUMMARY:Volley Llamas vs. Dink Responsibly
DESCRIPTION:LSL Wednesday Intermediate Squads - 9/10 Start (8pm) - Paddle Up Pickleball Club
LOCATION:Court 1
CATEGORIES:QuickScores; Pickleball Game
TRANSP:0
DALARM:20250910T190000;PT10M;2;Volley Llamas vs. Dink Responsibly
END:VEVENT
BEGIN:VEVENT
DTSTART:20250917T200000
DTEND:20250917T204000
SUMMARY:Go Poach Yourself vs. Dink Responsibly
DESCRIPTION:LSL Wednesday Intermediate Squads - 9/10 Start (8pm) - Paddle Up Pickleball Club
LOCATION:Court 4
CATEGORIES:QuickScores; Pickleball Game
TRANSP:0
DALARM:20250917T180000;PT10M;2;Go Poach Yourself vs. Dink Responsibly
END:VEVENT
BEGIN:VEVENT
DTSTART:20250917T200000
DTEND:20250917T204000
SUMMARY:Balls Deep vs. Volley Llamas
DESCRIPTION:LSL Wednesday Intermediate Squads - 9/10 Start (8pm) - Paddle Up Pickleball Club
LOCATION:Court 1
CATEGORIES:QuickScores; Pickleball Game
TRANSP:0
DALARM:20250917T180000;PT10M;2;Balls Deep vs. Volley Llamas
END:VEVENT
BEGIN:VEVENT
DTSTART:20250917T210000
DTEND:20250917T214000
SUMMARY:Volley Llamas vs. Go Poach Yourself
DESCRIPTION:LSL Wednesday Intermediate Squads - 9/10 Start (8pm) - Paddle Up Pickleball Club
LOCATION:Court 1
CATEGORIES:QuickScores; Pickleball Game
TRANSP:0
DALARM:20250917T190000;PT10M;2;Volley Llamas vs. Go Poach Yourself
END:VEVENT
BEGIN:VEVENT
DTSTART:20250917T210000
DTEND:20250917T214000
SUMMARY:Balls Deep vs. Dink Responsibly
DESCRIPTION:LSL Wednesday Intermediate Squads - 9/10 Start (8pm) - Paddle Up Pickleball Club
LOCATION:Court 4
CATEGORIES:QuickScores; Pickleball Game
TRANSP:0
DALARM:20250917T190000;PT10M;2;Balls Deep vs. Dink Responsibly
END:VEVENT
BEGIN:VEVENT
DTSTART:20250924T200000
DTEND:20250924T204000
SUMMARY:Balls Deep vs. Go Poach Yourself
DESCRIPTION:LSL Wednesday Intermediate Squads - 9/10 Start (8pm) - Paddle Up Pickleball Club
LOCATION:Court 4
CATEGORIES:QuickScores; Pickleball Game
TRANSP:0
DALARM:20250924T180000;PT10M;2;Balls Deep vs. Go Poach Yourself
END:VEVENT
BEGIN:VEVENT
DTSTART:20250924T200000
DTEND:20250924T204000
SUMMARY:Dink Responsibly vs. Volley Llamas
DESCRIPTION:LSL Wednesday Intermediate Squads - 9/10 Start (8pm) - Paddle Up Pickleball Club
LOCATION:Court 1
CATEGORIES:QuickScores; Pickleball Game
TRANSP:0
DALARM:20250924T180000;PT10M;2;Dink Responsibly vs. Volley Llamas
END:VEVENT
BEGIN:VEVENT
DTSTART:20250924T210000
DTEND:20250924T214000
SUMMARY:Dink Responsibly vs. Balls Deep
DESCRIPTION:LSL Wednesday Intermediate Squads - 9/10 Start (8pm) - Paddle Up Pickleball Club
LOCATION:Court 1
CATEGORIES:QuickScores; Pickleball Game
TRANSP:0
DALARM:20250924T190000;PT10M;2;Dink Responsibly vs. Balls Deep
END:VEVENT
BEGIN:VEVENT
DTSTART:20250924T210000
DTEND:20250924T214000
SUMMARY:Go Poach Yourself vs. Volley Llamas
DESCRIPTION:LSL Wednesday Intermediate Squads - 9/10 Start (8pm) - Paddle Up Pickleball Club
LOCATION:Court 4
CATEGORIES:QuickScores; Pickleball Game
TRANSP:0
DALARM:20250924T190000;PT10M;2;Go Poach Yourself vs. Volley Llamas
END:VEVENT
BEGIN:VEVENT
DTSTART:20251001T200000
DTEND:20251001T204000
SUMMARY:Balls Deep vs. Volley Llamas
DESCRIPTION:LSL Wednesday Intermediate Squads - 9/10 Start (8pm) - Paddle Up Pickleball Club
LOCATION:Court 1
CATEGORIES:QuickScores; Pickleball Game
TRANSP:0
DALARM:20251001T180000;PT10M;2;Balls Deep vs. Volley Llamas
END:VEVENT
BEGIN:VEVENT
DTSTART:20251001T200000
DTEND:20251001T204000
SUMMARY:Dink Responsibly vs. Go Poach Yourself
DESCRIPTION:LSL Wednesday Intermediate Squads - 9/10 Start (8pm) - Paddle Up Pickleball Club
LOCATION:Court 4
CATEGORIES:QuickScores; Pickleball Game
TRANSP:0
DALARM:20251001T180000;PT10M;2;Dink Responsibly vs. Go Poach Yourself
END:VEVENT
BEGIN:VEVENT
DTSTART:20251001T210000
DTEND:20251001T214000
SUMMARY:Go Poach Yourself vs. Balls Deep
DESCRIPTION:LSL Wednesday Intermediate Squads - 9/10 Start (8pm) - Paddle Up Pickleball Club
LOCATION:Court 1
CATEGORIES:QuickScores; Pickleball Game
TRANSP:0
DALARM:20251001T190000;PT10M;2;Go Poach Yourself vs. Balls Deep
END:VEVENT
BEGIN:VEVENT
DTSTART:20251001T210000
DTEND:20251001T214000
SUMMARY:Volley Llamas vs. Dink Responsibly
DESCRIPTION:LSL Wednesday Intermediate Squads - 9/10 Start (8pm) - Paddle Up Pickleball Club
LOCATION:Court 4
CATEGORIES:QuickScores; Pickleball Game
TRANSP:0
DALARM:20251001T190000;PT10M;2;Volley Llamas vs. Dink Responsibly
END:VEVENT
BEGIN:VEVENT
DTSTART:20251008T200500
DTEND:20251008T203500
SUMMARY:[1] Go Poach Yourself vs. [4] Volley Llamas
DESCRIPTION:LSL Wednesday Intermediate Squads - 9/10 Start (8pm) - Paddle Up Pickleball Club
LOCATION:Court 1
CATEGORIES:QuickScores; Pickleball Game
TRANSP:0
DALARM:20251008T180500;PT10M;2;[1] Go Poach Yourself vs. [4] Volley Llamas
END:VEVENT
BEGIN:VEVENT
DTSTART:20251008T200500
DTEND:20251008T203500
SUMMARY:[2] Balls Deep vs. [3] Dink Responsibly
DESCRIPTION:LSL Wednesday Intermediate Squads - 9/10 Start (8pm) - Paddle Up Pickleball Club
LOCATION:Court 4
CATEGORIES:QuickScores; Pickleball Game
TRANSP:0
DALARM:20251008T180500;PT10M;2;[2] Balls Deep vs. [3] Dink Responsibly
END:VEVENT
BEGIN:VEVENT
DTSTART:20251015T200000
DTEND:20251015T203000
SUMMARY:[4] Volley Llamas vs. [3] Dink Responsibly
DESCRIPTION:LSL Wednesday Intermediate Squads - 9/10 Start (8pm) - Paddle Up Pickleball Club
LOCATION:Court 4
CATEGORIES:QuickScores; Pickleball Game
TRANSP:0
DALARM:20251015T180000;PT10M;2;[4] Volley Llamas vs. [3] Dink Responsibly
END:VEVENT
BEGIN:VEVENT
DTSTART:20251015T200000
DTEND:20251015T203000
SUMMARY:[1] Go Poach Yourself vs. [2] Balls Deep
DESCRIPTION:LSL Wednesday Intermediate Squads - 9/10 Start (8pm) - Paddle Up Pickleball Club
LOCATION:Court 1
CATEGORIES:QuickScores; Pickleball Game
TRANSP:0
DALARM:20251015T180000;PT10M;2;[1] Go Poach Yourself vs. [2] Balls Deep
END:VEVENT
END:VCALENDAR
