BEGIN:VCALENDAR
VERSION:1.0
BEGIN:VEVENT
DTSTART:20250824T153000
DTEND:20250824T163000
SUMMARY:Joliet Ravens 9u vs. Hazel Crest Mustangs 9u
DESCRIPTION:NIUYFL-9u - Northern Illinois United Youth Football League
LOCATION:Joliet (ATI)
CATEGORIES:QuickScores; Football Game
TRANSP:0
DALARM:20250824T133000;PT10M;2;Joliet Ravens 9u vs. Hazel Crest Mustangs 9u
END:VEVENT
BEGIN:VEVENT
DTSTART:20250830T111500
DTEND:20250830T121500
SUMMARY:Glenwood Cougars 9u vs. Joliet Ravens 9u
DESCRIPTION:NIUYFL-9u - Northern Illinois United Youth Football League
LOCATION:Glenwood
CATEGORIES:QuickScores; Football Game
TRANSP:0
DALARM:20250830T091500;PT10M;2;Glenwood Cougars 9u vs. Joliet Ravens 9u
END:VEVENT
BEGIN:VEVENT
DTSTART:20250831T143000
DTEND:20250831T153000
SUMMARY:Practice: Hazel Crest Mustangs 9u vs. Matteson Bears 10u
DESCRIPTION:Matteson 9 years olds --- NIUYFL-9u - Northern Illinois United Youth Football League
LOCATION:815 united (bourbonnais highschool)
CATEGORIES:QuickScores; Football Game
TRANSP:0
DALARM:20250831T123000;PT10M;2;Practice: Hazel Crest Mustangs 9u vs. Matteson Bears 10u
END:VEVENT
BEGIN:VEVENT
DTSTART:20250907T103000
DTEND:20250907T113000
SUMMARY:Hazel Crest Mustangs 9u vs. Glenwood Cougars 9u
DESCRIPTION:NIUYFL-9u - Northern Illinois United Youth Football League
LOCATION:hazel crest (field 1)
CATEGORIES:QuickScores; Football Game
TRANSP:0
DALARM:20250907T083000;PT10M;2;Hazel Crest Mustangs 9u vs. Glenwood Cougars 9u
END:VEVENT
BEGIN:VEVENT
DTSTART:20250907T111500
DTEND:20250907T121500
SUMMARY:Practice: Joliet Ravens 9u vs. Windy City Dolphins - Non Conference
DESCRIPTION:NIUYFL-9u - Northern Illinois United Youth Football League
LOCATION:Mission Park Field 2
CATEGORIES:QuickScores; Football Game
TRANSP:0
DALARM:20250907T091500;PT10M;2;Practice: Joliet Ravens 9u vs. Windy City Dolphins - Non Conference
END:VEVENT
BEGIN:VEVENT
DTSTART:20250914T113000
DTEND:20250914T123000
SUMMARY:Practice: Joliet Ravens 9u vs. Matteson Bears 10u
DESCRIPTION:Matteson 9 years olds --- NIUYFL-9u - Northern Illinois United Youth Football League
LOCATION:Joliet (Providence Catholic HS)
CATEGORIES:QuickScores; Football Game
TRANSP:0
DALARM:20250914T093000;PT10M;2;Practice: Joliet Ravens 9u vs. Matteson Bears 10u
END:VEVENT
BEGIN:VEVENT
DTSTART:20250921T120000
DTEND:20250921T130000
SUMMARY:Joliet Ravens 9u vs. Glenwood Cougars 9u
DESCRIPTION:NIUYFL-9u - Northern Illinois United Youth Football League
LOCATION:Joliet (ATI)
CATEGORIES:QuickScores; Football Game
TRANSP:0
DALARM:20250921T100000;PT10M;2;Joliet Ravens 9u vs. Glenwood Cougars 9u
END:VEVENT
BEGIN:VEVENT
DTSTART:20250921T123000
DTEND:20250921T133000
SUMMARY:Practice: Hazel Crest Mustangs 9u vs. Windy City Dolphins - Non Conference
DESCRIPTION:NIUYFL-9u - Northern Illinois United Youth Football League
LOCATION:hazel crest (field 1)
CATEGORIES:QuickScores; Football Game
TRANSP:0
DALARM:20250921T103000;PT10M;2;Practice: Hazel Crest Mustangs 9u vs. Windy City Dolphins - Non Conference
END:VEVENT
BEGIN:VEVENT
DTSTART:20250927T123000
DTEND:20250927T133000
SUMMARY:Practice: Glenwood Cougars 9u vs. Matteson Bears 10u
DESCRIPTION:Matteson 9 years olds --- NIUYFL-9u - Northern Illinois United Youth Football League
LOCATION:Glenwood
CATEGORIES:QuickScores; Football Game
TRANSP:0
DALARM:20250927T103000;PT10M;2;Practice: Glenwood Cougars 9u vs. Matteson Bears 10u
END:VEVENT
BEGIN:VEVENT
DTSTART:20250928T114500
DTEND:20250928T124500
SUMMARY:Practice: Joliet Ravens 9u vs. Cal City Thunderbolts  - Non Conference
DESCRIPTION:NIUYFL-9u - Northern Illinois United Youth Football League
LOCATION:Joliet (ATI)
CATEGORIES:QuickScores; Football Game
TRANSP:0
DALARM:20250928T094500;PT10M;2;Practice: Joliet Ravens 9u vs. Cal City Thunderbolts  - Non Conference
END:VEVENT
BEGIN:VEVENT
DTSTART:20251005T100000
DTEND:20251005T110000
SUMMARY:Practice: Hazel Crest Mustangs 9u vs. 205 Texans 10u - Non Conference
DESCRIPTION:NIUYFL-9u - Northern Illinois United Youth Football League
LOCATION:Top Tier
CATEGORIES:QuickScores; Football Game
TRANSP:0
DALARM:20251005T080000;PT10M;2;Practice: Hazel Crest Mustangs 9u vs. 205 Texans 10u - Non Conference
END:VEVENT
BEGIN:VEVENT
DTSTART:20251005T124500
DTEND:20251005T134500
SUMMARY:Practice: Southside Wolfpack - Non Conference vs. Joliet Ravens 9u
DESCRIPTION:NIUYFL-9u - Northern Illinois United Youth Football League
LOCATION:Southside Wolfpak
CATEGORIES:QuickScores; Football Game
TRANSP:0
DALARM:20251005T104500;PT10M;2;Practice: Southside Wolfpack - Non Conference vs. Joliet Ravens 9u
END:VEVENT
BEGIN:VEVENT
DTSTART:20251019T111500
DTEND:20251019T121500
SUMMARY:[2] Joliet Ravens 9u vs. [3] Glenwood Cougars 9u
DESCRIPTION:NIUYFL-9u - Northern Illinois United Youth Football League
LOCATION:St. Rita
CATEGORIES:QuickScores; Football Game
TRANSP:0
DALARM:20251019T091500;PT10M;2;[2] Joliet Ravens 9u vs. [3] Glenwood Cougars 9u
END:VEVENT
BEGIN:VEVENT
DTSTART:20251025T180000
DTEND:20251025T190000
SUMMARY:[1] Hazel Crest Mustangs 9u vs. [2] Joliet Ravens 9u
DESCRIPTION:NIUYFL-9u - Northern Illinois United Youth Football League
LOCATION:Joliet (ATI)
CATEGORIES:QuickScores; Football Game
TRANSP:0
DALARM:20251025T160000;PT10M;2;[1] Hazel Crest Mustangs 9u vs. [2] Joliet Ravens 9u
END:VEVENT
END:VCALENDAR
