BEGIN:VCALENDAR
VERSION:1.0
BEGIN:VEVENT
DTSTART:20250811T183000
DTEND:20250811T193000
SUMMARY:Practice: DOLPHINS (SAYRE)
DESCRIPTION:Girls 7th-8th Grd Flag Football - 
LOCATION:Sycamore Field 4
CATEGORIES:QuickScores; Flag Football - Youth Game
TRANSP:0
DALARM:20250811T163000;PT10M;2;Practice: DOLPHINS (SAYRE)
END:VEVENT
BEGIN:VEVENT
DTSTART:20250812T183000
DTEND:20250812T193000
SUMMARY:Practice: PATRIOTS (LARKIN)
DESCRIPTION:Girls 7th-8th Grd Flag Football - 
LOCATION:Sycamore Field 3
CATEGORIES:QuickScores; Flag Football - Youth Game
TRANSP:0
DALARM:20250812T163000;PT10M;2;Practice: PATRIOTS (LARKIN)
END:VEVENT
BEGIN:VEVENT
DTSTART:20250813T183000
DTEND:20250813T193000
SUMMARY:Practice: DOLPHINS (SAYRE)
DESCRIPTION:Girls 7th-8th Grd Flag Football - 
LOCATION:Sycamore Field 4
CATEGORIES:QuickScores; Flag Football - Youth Game
TRANSP:0
DALARM:20250813T163000;PT10M;2;Practice: DOLPHINS (SAYRE)
END:VEVENT
BEGIN:VEVENT
DTSTART:20250814T183000
DTEND:20250814T193000
SUMMARY:Practice: PATRIOTS (LARKIN)
DESCRIPTION:Girls 7th-8th Grd Flag Football - 
LOCATION:Sycamore Field 1
CATEGORIES:QuickScores; Flag Football - Youth Game
TRANSP:0
DALARM:20250814T163000;PT10M;2;Practice: PATRIOTS (LARKIN)
END:VEVENT
BEGIN:VEVENT
DTSTART:20250818T183000
DTEND:20250818T193000
SUMMARY:Practice: DOLPHINS (SAYRE)
DESCRIPTION:Girls 7th-8th Grd Flag Football - 
LOCATION:Sycamore Field 4
CATEGORIES:QuickScores; Flag Football - Youth Game
TRANSP:0
DALARM:20250818T163000;PT10M;2;Practice: DOLPHINS (SAYRE)
END:VEVENT
BEGIN:VEVENT
DTSTART:20250819T183000
DTEND:20250819T193000
SUMMARY:Practice: PATRIOTS (LARKIN)
DESCRIPTION:Girls 7th-8th Grd Flag Football - 
LOCATION:Sycamore Field 3
CATEGORIES:QuickScores; Flag Football - Youth Game
TRANSP:0
DALARM:20250819T163000;PT10M;2;Practice: PATRIOTS (LARKIN)
END:VEVENT
BEGIN:VEVENT
DTSTART:20250820T183000
DTEND:20250820T193000
SUMMARY:Practice: DOLPHINS (SAYRE)
DESCRIPTION:Girls 7th-8th Grd Flag Football - 
LOCATION:Sycamore Field 4
CATEGORIES:QuickScores; Flag Football - Youth Game
TRANSP:0
DALARM:20250820T163000;PT10M;2;Practice: DOLPHINS (SAYRE)
END:VEVENT
BEGIN:VEVENT
DTSTART:20250821T183000
DTEND:20250821T193000
SUMMARY:Practice: PATRIOTS (LARKIN)
DESCRIPTION:Girls 7th-8th Grd Flag Football - 
LOCATION:Sycamore Field 1
CATEGORIES:QuickScores; Flag Football - Youth Game
TRANSP:0
DALARM:20250821T163000;PT10M;2;Practice: PATRIOTS (LARKIN)
END:VEVENT
BEGIN:VEVENT
DTSTART:20250825T183000
DTEND:20250825T193000
SUMMARY:Practice: DOLPHINS (SAYRE)
DESCRIPTION:Girls 7th-8th Grd Flag Football - 
LOCATION:Sycamore Field 4
CATEGORIES:QuickScores; Flag Football - Youth Game
TRANSP:0
DALARM:20250825T163000;PT10M;2;Practice: DOLPHINS (SAYRE)
END:VEVENT
BEGIN:VEVENT
DTSTART:20250826T183000
DTEND:20250826T193000
SUMMARY:Practice: PATRIOTS (LARKIN)
DESCRIPTION:Girls 7th-8th Grd Flag Football - 
LOCATION:Sycamore Field 3
CATEGORIES:QuickScores; Flag Football - Youth Game
TRANSP:0
DALARM:20250826T163000;PT10M;2;Practice: PATRIOTS (LARKIN)
END:VEVENT
BEGIN:VEVENT
DTSTART:20250827T183000
DTEND:20250827T193000
SUMMARY:Practice: DOLPHINS (SAYRE)
DESCRIPTION:Girls 7th-8th Grd Flag Football - 
LOCATION:Sycamore Field 4
CATEGORIES:QuickScores; Flag Football - Youth Game
TRANSP:0
DALARM:20250827T163000;PT10M;2;Practice: DOLPHINS (SAYRE)
END:VEVENT
BEGIN:VEVENT
DTSTART:20250828T183000
DTEND:20250828T193000
SUMMARY:Practice: PATRIOTS (LARKIN)
DESCRIPTION:Girls 7th-8th Grd Flag Football - 
LOCATION:Sycamore Field 1
CATEGORIES:QuickScores; Flag Football - Youth Game
TRANSP:0
DALARM:20250828T163000;PT10M;2;Practice: PATRIOTS (LARKIN)
END:VEVENT
BEGIN:VEVENT
DTSTART:20250901T183000
DTEND:20250901T193000
SUMMARY:Practice: DOLPHINS (SAYRE)
DESCRIPTION:Girls 7th-8th Grd Flag Football - 
LOCATION:Sycamore Field 4
CATEGORIES:QuickScores; Flag Football - Youth Game
TRANSP:0
DALARM:20250901T163000;PT10M;2;Practice: DOLPHINS (SAYRE)
END:VEVENT
BEGIN:VEVENT
DTSTART:20250902T183000
DTEND:20250902T193000
SUMMARY:Practice: PATRIOTS (LARKIN)
DESCRIPTION:Girls 7th-8th Grd Flag Football - 
LOCATION:Sycamore Field 3
CATEGORIES:QuickScores; Flag Football - Youth Game
TRANSP:0
DALARM:20250902T163000;PT10M;2;Practice: PATRIOTS (LARKIN)
END:VEVENT
BEGIN:VEVENT
DTSTART:20250903T183000
DTEND:20250903T193000
SUMMARY:Practice: DOLPHINS (SAYRE)
DESCRIPTION:Girls 7th-8th Grd Flag Football - 
LOCATION:Sycamore Field 4
CATEGORIES:QuickScores; Flag Football - Youth Game
TRANSP:0
DALARM:20250903T163000;PT10M;2;Practice: DOLPHINS (SAYRE)
END:VEVENT
BEGIN:VEVENT
DTSTART:20250904T183000
DTEND:20250904T193000
SUMMARY:Practice: PATRIOTS (LARKIN)
DESCRIPTION:Girls 7th-8th Grd Flag Football - 
LOCATION:Sycamore Field 1
CATEGORIES:QuickScores; Flag Football - Youth Game
TRANSP:0
DALARM:20250904T163000;PT10M;2;Practice: PATRIOTS (LARKIN)
END:VEVENT
BEGIN:VEVENT
DTSTART:20250904T193000
DTEND:20250904T203000
SUMMARY:ARLINGTON HTS vs. PATRIOTS (LARKIN)
DESCRIPTION:WEST --- Girls 7th-8th Grd Flag Football - 
LOCATION:Sunset Meadows A.H
CATEGORIES:QuickScores; Flag Football - Youth Game
TRANSP:0
DALARM:20250904T173000;PT10M;2;ARLINGTON HTS vs. PATRIOTS (LARKIN)
END:VEVENT
BEGIN:VEVENT
DTSTART:20250904T203000
DTEND:20250904T213000
SUMMARY:ARLINGTON HTS vs. DOLPHINS (SAYRE)
DESCRIPTION:EAST --- Girls 7th-8th Grd Flag Football - 
LOCATION:Sunset Meadows A.H
CATEGORIES:QuickScores; Flag Football - Youth Game
TRANSP:0
DALARM:20250904T183000;PT10M;2;ARLINGTON HTS vs. DOLPHINS (SAYRE)
END:VEVENT
BEGIN:VEVENT
DTSTART:20250908T183000
DTEND:20250908T193000
SUMMARY:ARLINGTON HTS vs. DOLPHINS (SAYRE)
DESCRIPTION:EAST --- Girls 7th-8th Grd Flag Football - 
LOCATION:Sunset Meadows A.H
CATEGORIES:QuickScores; Flag Football - Youth Game
TRANSP:0
DALARM:20250908T163000;PT10M;2;ARLINGTON HTS vs. DOLPHINS (SAYRE)
END:VEVENT
BEGIN:VEVENT
DTSTART:20250908T193000
DTEND:20250908T203000
SUMMARY:Practice: DOLPHINS (SAYRE)
DESCRIPTION:Girls 7th-8th Grd Flag Football - 
LOCATION:Gbur Field C - Fld 3 (Flag)
CATEGORIES:QuickScores; Flag Football - Youth Game
TRANSP:0
DALARM:20250908T173000;PT10M;2;Practice: DOLPHINS (SAYRE)
END:VEVENT
BEGIN:VEVENT
DTSTART:20250908T193000
DTEND:20250908T203000
SUMMARY:ARLINGTON HTS vs. DOLPHINS (SAYRE)
DESCRIPTION:WEST --- Girls 7th-8th Grd Flag Football - 
LOCATION:Sunset Meadows A.H
CATEGORIES:QuickScores; Flag Football - Youth Game
TRANSP:0
DALARM:20250908T173000;PT10M;2;ARLINGTON HTS vs. DOLPHINS (SAYRE)
END:VEVENT
BEGIN:VEVENT
DTSTART:20250908T203000
DTEND:20250908T213000
SUMMARY:ARLINGTON HTS vs. PATRIOTS (LARKIN)
DESCRIPTION:WEST --- Girls 7th-8th Grd Flag Football - 
LOCATION:Sunset Meadows A.H
CATEGORIES:QuickScores; Flag Football - Youth Game
TRANSP:0
DALARM:20250908T183000;PT10M;2;ARLINGTON HTS vs. PATRIOTS (LARKIN)
END:VEVENT
BEGIN:VEVENT
DTSTART:20250909T193000
DTEND:20250909T203000
SUMMARY:Practice: PATRIOTS (LARKIN)
DESCRIPTION:Girls 7th-8th Grd Flag Football - 
LOCATION:Gbur Field C - Fld 2 (Flag)
CATEGORIES:QuickScores; Flag Football - Youth Game
TRANSP:0
DALARM:20250909T173000;PT10M;2;Practice: PATRIOTS (LARKIN)
END:VEVENT
BEGIN:VEVENT
DTSTART:20250910T193000
DTEND:20250910T203000
SUMMARY:Practice: DOLPHINS (SAYRE)
DESCRIPTION:Girls 7th-8th Grd Flag Football - 
LOCATION:Gbur Field C - Fld 2 (Flag)
CATEGORIES:QuickScores; Flag Football - Youth Game
TRANSP:0
DALARM:20250910T173000;PT10M;2;Practice: DOLPHINS (SAYRE)
END:VEVENT
BEGIN:VEVENT
DTSTART:20250911T193000
DTEND:20250911T203000
SUMMARY:Practice: PATRIOTS (LARKIN)
DESCRIPTION:Girls 7th-8th Grd Flag Football - 
LOCATION:Gbur Field C - Fld 2 (Flag)
CATEGORIES:QuickScores; Flag Football - Youth Game
TRANSP:0
DALARM:20250911T173000;PT10M;2;Practice: PATRIOTS (LARKIN)
END:VEVENT
BEGIN:VEVENT
DTSTART:20250915T193000
DTEND:20250915T203000
SUMMARY:Practice: DOLPHINS (SAYRE)
DESCRIPTION:Girls 7th-8th Grd Flag Football - 
LOCATION:Gbur Field C - Fld 3 (Flag)
CATEGORIES:QuickScores; Flag Football - Youth Game
TRANSP:0
DALARM:20250915T173000;PT10M;2;Practice: DOLPHINS (SAYRE)
END:VEVENT
BEGIN:VEVENT
DTSTART:20250916T193000
DTEND:20250916T203000
SUMMARY:Practice: PATRIOTS (LARKIN)
DESCRIPTION:Girls 7th-8th Grd Flag Football - 
LOCATION:Gbur Field C - Fld 2 (Flag)
CATEGORIES:QuickScores; Flag Football - Youth Game
TRANSP:0
DALARM:20250916T173000;PT10M;2;Practice: PATRIOTS (LARKIN)
END:VEVENT
BEGIN:VEVENT
DTSTART:20250917T193000
DTEND:20250917T203000
SUMMARY:Practice: DOLPHINS (SAYRE)
DESCRIPTION:Girls 7th-8th Grd Flag Football - 
LOCATION:Gbur Field C - Fld 2 (Flag)
CATEGORIES:QuickScores; Flag Football - Youth Game
TRANSP:0
DALARM:20250917T173000;PT10M;2;Practice: DOLPHINS (SAYRE)
END:VEVENT
BEGIN:VEVENT
DTSTART:20250918T193000
DTEND:20250918T203000
SUMMARY:Practice: PATRIOTS (LARKIN)
DESCRIPTION:Girls 7th-8th Grd Flag Football - 
LOCATION:Gbur Field C - Fld 2 (Flag)
CATEGORIES:QuickScores; Flag Football - Youth Game
TRANSP:0
DALARM:20250918T173000;PT10M;2;Practice: PATRIOTS (LARKIN)
END:VEVENT
BEGIN:VEVENT
DTSTART:20250920T153000
DTEND:20250920T163000
SUMMARY:DOLPHINS (SAYRE) vs. ARLINGTON HTS
DESCRIPTION:Girls 7th-8th Grd Flag Football - 
LOCATION:Community Park Field 1A
CATEGORIES:QuickScores; Flag Football - Youth Game
TRANSP:0
DALARM:20250920T133000;PT10M;2;DOLPHINS (SAYRE) vs. ARLINGTON HTS
END:VEVENT
BEGIN:VEVENT
DTSTART:20250920T153000
DTEND:20250920T163000
SUMMARY:PATRIOTS (LARKIN) vs. ARLINGTON HTS
DESCRIPTION:Girls 7th-8th Grd Flag Football - 
LOCATION:Community Park Field 1B
CATEGORIES:QuickScores; Flag Football - Youth Game
TRANSP:0
DALARM:20250920T133000;PT10M;2;PATRIOTS (LARKIN) vs. ARLINGTON HTS
END:VEVENT
BEGIN:VEVENT
DTSTART:20250922T193000
DTEND:20250922T203000
SUMMARY:Practice: DOLPHINS (SAYRE)
DESCRIPTION:Girls 7th-8th Grd Flag Football - 
LOCATION:Gbur Field C - Fld 3 (Flag)
CATEGORIES:QuickScores; Flag Football - Youth Game
TRANSP:0
DALARM:20250922T173000;PT10M;2;Practice: DOLPHINS (SAYRE)
END:VEVENT
BEGIN:VEVENT
DTSTART:20250922T193000
DTEND:20250922T203000
SUMMARY:ARLINGTON HTS vs. PATRIOTS (LARKIN)
DESCRIPTION:Girls 7th-8th Grd Flag Football - 
LOCATION:Sunset Meadows A.H
CATEGORIES:QuickScores; Flag Football - Youth Game
TRANSP:0
DALARM:20250922T173000;PT10M;2;ARLINGTON HTS vs. PATRIOTS (LARKIN)
END:VEVENT
BEGIN:VEVENT
DTSTART:20250922T203000
DTEND:20250922T213000
SUMMARY:DOLPHINS (SAYRE) vs. PATRIOTS (LARKIN)
DESCRIPTION:Girls 7th-8th Grd Flag Football - 
LOCATION:Sunset Meadows A.H
CATEGORIES:QuickScores; Flag Football - Youth Game
TRANSP:0
DALARM:20250922T183000;PT10M;2;DOLPHINS (SAYRE) vs. PATRIOTS (LARKIN)
END:VEVENT
BEGIN:VEVENT
DTSTART:20250923T193000
DTEND:20250923T203000
SUMMARY:Practice: PATRIOTS (LARKIN)
DESCRIPTION:Girls 7th-8th Grd Flag Football - 
LOCATION:Gbur Field C - Fld 2 (Flag)
CATEGORIES:QuickScores; Flag Football - Youth Game
TRANSP:0
DALARM:20250923T173000;PT10M;2;Practice: PATRIOTS (LARKIN)
END:VEVENT
BEGIN:VEVENT
DTSTART:20250924T193000
DTEND:20250924T203000
SUMMARY:Practice: DOLPHINS (SAYRE)
DESCRIPTION:Girls 7th-8th Grd Flag Football - 
LOCATION:Gbur Field C - Fld 2 (Flag)
CATEGORIES:QuickScores; Flag Football - Youth Game
TRANSP:0
DALARM:20250924T173000;PT10M;2;Practice: DOLPHINS (SAYRE)
END:VEVENT
BEGIN:VEVENT
DTSTART:20250925T193000
DTEND:20250925T203000
SUMMARY:Practice: PATRIOTS (LARKIN)
DESCRIPTION:Girls 7th-8th Grd Flag Football - 
LOCATION:Gbur Field C - Fld 2 (Flag)
CATEGORIES:QuickScores; Flag Football - Youth Game
TRANSP:0
DALARM:20250925T173000;PT10M;2;Practice: PATRIOTS (LARKIN)
END:VEVENT
BEGIN:VEVENT
DTSTART:20250929T193000
DTEND:20250929T203000
SUMMARY:Practice: DOLPHINS (SAYRE)
DESCRIPTION:Girls 7th-8th Grd Flag Football - 
LOCATION:Gbur Field C - Fld 3 (Flag)
CATEGORIES:QuickScores; Flag Football - Youth Game
TRANSP:0
DALARM:20250929T173000;PT10M;2;Practice: DOLPHINS (SAYRE)
END:VEVENT
BEGIN:VEVENT
DTSTART:20250929T193000
DTEND:20250929T203000
SUMMARY:ARLINGTON HTS vs. PATRIOTS (LARKIN)
DESCRIPTION:Girls 7th-8th Grd Flag Football - 
LOCATION:Sunset Meadows A.H
CATEGORIES:QuickScores; Flag Football - Youth Game
TRANSP:0
DALARM:20250929T173000;PT10M;2;ARLINGTON HTS vs. PATRIOTS (LARKIN)
END:VEVENT
BEGIN:VEVENT
DTSTART:20250929T203000
DTEND:20250929T213000
SUMMARY:ARLINGTON HTS vs. DOLPHINS (SAYRE)
DESCRIPTION:Girls 7th-8th Grd Flag Football - 
LOCATION:Sunset Meadows A.H
CATEGORIES:QuickScores; Flag Football - Youth Game
TRANSP:0
DALARM:20250929T183000;PT10M;2;ARLINGTON HTS vs. DOLPHINS (SAYRE)
END:VEVENT
BEGIN:VEVENT
DTSTART:20250930T193000
DTEND:20250930T203000
SUMMARY:Practice: PATRIOTS (LARKIN)
DESCRIPTION:Girls 7th-8th Grd Flag Football - 
LOCATION:Gbur Field C - Fld 2 (Flag)
CATEGORIES:QuickScores; Flag Football - Youth Game
TRANSP:0
DALARM:20250930T173000;PT10M;2;Practice: PATRIOTS (LARKIN)
END:VEVENT
BEGIN:VEVENT
DTSTART:20251001T193000
DTEND:20251001T203000
SUMMARY:Practice: DOLPHINS (SAYRE)
DESCRIPTION:Girls 7th-8th Grd Flag Football - 
LOCATION:Gbur Field C - Fld 2 (Flag)
CATEGORIES:QuickScores; Flag Football - Youth Game
TRANSP:0
DALARM:20251001T173000;PT10M;2;Practice: DOLPHINS (SAYRE)
END:VEVENT
BEGIN:VEVENT
DTSTART:20251002T193000
DTEND:20251002T203000
SUMMARY:Practice: PATRIOTS (LARKIN)
DESCRIPTION:Girls 7th-8th Grd Flag Football - 
LOCATION:Gbur Field C - Fld 2 (Flag)
CATEGORIES:QuickScores; Flag Football - Youth Game
TRANSP:0
DALARM:20251002T173000;PT10M;2;Practice: PATRIOTS (LARKIN)
END:VEVENT
BEGIN:VEVENT
DTSTART:20251006T193000
DTEND:20251006T203000
SUMMARY:ARLINGTON HTS vs. PATRIOTS (LARKIN)
DESCRIPTION:PLAYOFF GAME - EAST FLD --- Girls 7th-8th Grd Flag Football - 
LOCATION:Sunset Meadows A.H
CATEGORIES:QuickScores; Flag Football - Youth Game
TRANSP:0
DALARM:20251006T173000;PT10M;2;ARLINGTON HTS vs. PATRIOTS (LARKIN)
END:VEVENT
BEGIN:VEVENT
DTSTART:20251006T193000
DTEND:20251006T203000
SUMMARY:ARLINGTON HTS vs. DOLPHINS (SAYRE)
DESCRIPTION:PLAYOFF GAME - WEST FLD --- Girls 7th-8th Grd Flag Football - 
LOCATION:Sunset Meadows A.H
CATEGORIES:QuickScores; Flag Football - Youth Game
TRANSP:0
DALARM:20251006T173000;PT10M;2;ARLINGTON HTS vs. DOLPHINS (SAYRE)
END:VEVENT
BEGIN:VEVENT
DTSTART:20251006T193000
DTEND:20251006T203000
SUMMARY:Practice: DOLPHINS (SAYRE)
DESCRIPTION:Girls 7th-8th Grd Flag Football - 
LOCATION:Gbur Field C - Fld 3 (Flag)
CATEGORIES:QuickScores; Flag Football - Youth Game
TRANSP:0
DALARM:20251006T173000;PT10M;2;Practice: DOLPHINS (SAYRE)
END:VEVENT
BEGIN:VEVENT
DTSTART:20251007T193000
DTEND:20251007T203000
SUMMARY:Practice: PATRIOTS (LARKIN)
DESCRIPTION:Girls 7th-8th Grd Flag Football - 
LOCATION:Gbur Field C - Fld 2 (Flag)
CATEGORIES:QuickScores; Flag Football - Youth Game
TRANSP:0
DALARM:20251007T173000;PT10M;2;Practice: PATRIOTS (LARKIN)
END:VEVENT
BEGIN:VEVENT
DTSTART:20251008T193000
DTEND:20251008T203000
SUMMARY:Practice: DOLPHINS (SAYRE)
DESCRIPTION:Girls 7th-8th Grd Flag Football - 
LOCATION:Gbur Field C - Fld 2 (Flag)
CATEGORIES:QuickScores; Flag Football - Youth Game
TRANSP:0
DALARM:20251008T173000;PT10M;2;Practice: DOLPHINS (SAYRE)
END:VEVENT
BEGIN:VEVENT
DTSTART:20251009T193000
DTEND:20251009T203000
SUMMARY:Practice: PATRIOTS (LARKIN)
DESCRIPTION:Girls 7th-8th Grd Flag Football - 
LOCATION:Gbur Field C - Fld 2 (Flag)
CATEGORIES:QuickScores; Flag Football - Youth Game
TRANSP:0
DALARM:20251009T173000;PT10M;2;Practice: PATRIOTS (LARKIN)
END:VEVENT
BEGIN:VEVENT
DTSTART:20251013T193000
DTEND:20251013T203000
SUMMARY:Practice: DOLPHINS (SAYRE)
DESCRIPTION:Girls 7th-8th Grd Flag Football - 
LOCATION:Gbur Field C - Fld 3 (Flag)
CATEGORIES:QuickScores; Flag Football - Youth Game
TRANSP:0
DALARM:20251013T173000;PT10M;2;Practice: DOLPHINS (SAYRE)
END:VEVENT
BEGIN:VEVENT
DTSTART:20251013T193000
DTEND:20251013T203000
SUMMARY:ARLINGTON HTS vs. DOLPHINS (SAYRE)
DESCRIPTION:WEST FLD --- Girls 7th-8th Grd Flag Football - 
LOCATION:Sunset Meadows A.H
CATEGORIES:QuickScores; Flag Football - Youth Game
TRANSP:0
DALARM:20251013T173000;PT10M;2;ARLINGTON HTS vs. DOLPHINS (SAYRE)
END:VEVENT
BEGIN:VEVENT
DTSTART:20251013T203000
DTEND:20251013T213000
SUMMARY:ARLINGTON HTS vs. PATRIOTS (LARKIN)
DESCRIPTION:EAST FLD --- Girls 7th-8th Grd Flag Football - 
LOCATION:Sunset Meadows A.H
CATEGORIES:QuickScores; Flag Football - Youth Game
TRANSP:0
DALARM:20251013T183000;PT10M;2;ARLINGTON HTS vs. PATRIOTS (LARKIN)
END:VEVENT
BEGIN:VEVENT
DTSTART:20251014T193000
DTEND:20251014T203000
SUMMARY:Practice: PATRIOTS (LARKIN)
DESCRIPTION:Girls 7th-8th Grd Flag Football - 
LOCATION:Gbur Field C - Fld 2 (Flag)
CATEGORIES:QuickScores; Flag Football - Youth Game
TRANSP:0
DALARM:20251014T173000;PT10M;2;Practice: PATRIOTS (LARKIN)
END:VEVENT
BEGIN:VEVENT
DTSTART:20251015T193000
DTEND:20251015T203000
SUMMARY:Practice: DOLPHINS (SAYRE)
DESCRIPTION:Girls 7th-8th Grd Flag Football - 
LOCATION:Gbur Field C - Fld 2 (Flag)
CATEGORIES:QuickScores; Flag Football - Youth Game
TRANSP:0
DALARM:20251015T173000;PT10M;2;Practice: DOLPHINS (SAYRE)
END:VEVENT
BEGIN:VEVENT
DTSTART:20251016T193000
DTEND:20251016T203000
SUMMARY:Practice: PATRIOTS (LARKIN)
DESCRIPTION:Girls 7th-8th Grd Flag Football - 
LOCATION:Gbur Field C - Fld 2 (Flag)
CATEGORIES:QuickScores; Flag Football - Youth Game
TRANSP:0
DALARM:20251016T173000;PT10M;2;Practice: PATRIOTS (LARKIN)
END:VEVENT
BEGIN:VEVENT
DTSTART:20251020T193000
DTEND:20251020T203000
SUMMARY:Practice: DOLPHINS (SAYRE)
DESCRIPTION:Girls 7th-8th Grd Flag Football - 
LOCATION:Gbur Field C - Fld 3 (Flag)
CATEGORIES:QuickScores; Flag Football - Youth Game
TRANSP:0
DALARM:20251020T173000;PT10M;2;Practice: DOLPHINS (SAYRE)
END:VEVENT
BEGIN:VEVENT
DTSTART:20251021T193000
DTEND:20251021T203000
SUMMARY:Practice: PATRIOTS (LARKIN)
DESCRIPTION:Girls 7th-8th Grd Flag Football - 
LOCATION:Gbur Field C - Fld 2 (Flag)
CATEGORIES:QuickScores; Flag Football - Youth Game
TRANSP:0
DALARM:20251021T173000;PT10M;2;Practice: PATRIOTS (LARKIN)
END:VEVENT
BEGIN:VEVENT
DTSTART:20251022T193000
DTEND:20251022T203000
SUMMARY:Practice: DOLPHINS (SAYRE)
DESCRIPTION:Girls 7th-8th Grd Flag Football - 
LOCATION:Gbur Field C - Fld 2 (Flag)
CATEGORIES:QuickScores; Flag Football - Youth Game
TRANSP:0
DALARM:20251022T173000;PT10M;2;Practice: DOLPHINS (SAYRE)
END:VEVENT
BEGIN:VEVENT
DTSTART:20251023T193000
DTEND:20251023T203000
SUMMARY:Practice: PATRIOTS (LARKIN)
DESCRIPTION:Girls 7th-8th Grd Flag Football - 
LOCATION:Gbur Field C - Fld 2 (Flag)
CATEGORIES:QuickScores; Flag Football - Youth Game
TRANSP:0
DALARM:20251023T173000;PT10M;2;Practice: PATRIOTS (LARKIN)
END:VEVENT
BEGIN:VEVENT
DTSTART:20251025T143000
DTEND:20251025T153000
SUMMARY:DOLPHINS (SAYRE) vs. ARLINGTON HTS
DESCRIPTION:Rolling Meadows HS Turf - South --- Girls 7th-8th Grd Flag Football - 
LOCATION:Rolling Meadows
CATEGORIES:QuickScores; Flag Football - Youth Game
TRANSP:0
DALARM:20251025T123000;PT10M;2;DOLPHINS (SAYRE) vs. ARLINGTON HTS
END:VEVENT
BEGIN:VEVENT
DTSTART:20251025T153000
DTEND:20251025T163000
SUMMARY:ARLINGTON HTS vs. PATRIOTS (LARKIN)
DESCRIPTION:RM High School Turf  - South Side --- Girls 7th-8th Grd Flag Football - 
LOCATION:Rolling Meadows
CATEGORIES:QuickScores; Flag Football - Youth Game
TRANSP:0
DALARM:20251025T133000;PT10M;2;ARLINGTON HTS vs. PATRIOTS (LARKIN)
END:VEVENT
END:VCALENDAR
