BEGIN:VCALENDAR
VERSION:1.0
BEGIN:VEVENT
DTSTART:20250728T173000
DTEND:20250728T183000
SUMMARY:Brewers - Kimme vs. Brewers - Kimme
DESCRIPTION:8U Baseball - Practices - Carol Stream Park District
LOCATION:McCaslin 2
CATEGORIES:QuickScores; Facilities Game
TRANSP:0
DALARM:20250728T153000;PT10M;2;Brewers - Kimme vs. Brewers - Kimme
END:VEVENT
BEGIN:VEVENT
DTSTART:20250728T173000
DTEND:20250728T183000
SUMMARY:Red Sox - Molley vs. Red Sox - Molley
DESCRIPTION:8U Baseball - Practices - Carol Stream Park District
LOCATION:McCaslin 3
CATEGORIES:QuickScores; Facilities Game
TRANSP:0
DALARM:20250728T153000;PT10M;2;Red Sox - Molley vs. Red Sox - Molley
END:VEVENT
BEGIN:VEVENT
DTSTART:20250729T173000
DTEND:20250729T183000
SUMMARY:Padres - Brown vs. Padres - Brown
DESCRIPTION:8U Baseball - Practices - Carol Stream Park District
LOCATION:Armstrong 3
CATEGORIES:QuickScores; Facilities Game
TRANSP:0
DALARM:20250729T153000;PT10M;2;Padres - Brown vs. Padres - Brown
END:VEVENT
BEGIN:VEVENT
DTSTART:20250729T173000
DTEND:20250729T183000
SUMMARY:Twins - Panvino vs. Twins - Panvino
DESCRIPTION:8U Baseball - Practices - Carol Stream Park District
LOCATION:Armstrong 4
CATEGORIES:QuickScores; Facilities Game
TRANSP:0
DALARM:20250729T153000;PT10M;2;Twins - Panvino vs. Twins - Panvino
END:VEVENT
BEGIN:VEVENT
DTSTART:20250730T173000
DTEND:20250730T183000
SUMMARY:Pirates - Garza vs. Pirates - Garza
DESCRIPTION:8U Baseball - Practices - Carol Stream Park District
LOCATION:McCaslin 2
CATEGORIES:QuickScores; Facilities Game
TRANSP:0
DALARM:20250730T153000;PT10M;2;Pirates - Garza vs. Pirates - Garza
END:VEVENT
BEGIN:VEVENT
DTSTART:20250802T090000
DTEND:20250802T103000
SUMMARY:Brewers - Kimme vs. Brewers - Kimme
DESCRIPTION:8U Baseball - Practices - Carol Stream Park District
LOCATION:Armstrong 3
CATEGORIES:QuickScores; Facilities Game
TRANSP:0
DALARM:20250802T070000;PT10M;2;Brewers - Kimme vs. Brewers - Kimme
END:VEVENT
BEGIN:VEVENT
DTSTART:20250802T090000
DTEND:20250802T103000
SUMMARY:Pirates - Garza vs. Pirates - Garza
DESCRIPTION:8U Baseball - Practices - Carol Stream Park District
LOCATION:Armstrong 1
CATEGORIES:QuickScores; Facilities Game
TRANSP:0
DALARM:20250802T070000;PT10M;2;Pirates - Garza vs. Pirates - Garza
END:VEVENT
BEGIN:VEVENT
DTSTART:20250802T103000
DTEND:20250802T120000
SUMMARY:Twins - Panvino vs. Twins - Panvino
DESCRIPTION:8U Baseball - Practices - Carol Stream Park District
LOCATION:Kent Park
CATEGORIES:QuickScores; Facilities Game
TRANSP:0
DALARM:20250802T083000;PT10M;2;Twins - Panvino vs. Twins - Panvino
END:VEVENT
BEGIN:VEVENT
DTSTART:20250802T103000
DTEND:20250802T120000
SUMMARY:Padres - Brown vs. Padres - Brown
DESCRIPTION:8U Baseball - Practices - Carol Stream Park District
LOCATION:Armstrong 3
CATEGORIES:QuickScores; Facilities Game
TRANSP:0
DALARM:20250802T083000;PT10M;2;Padres - Brown vs. Padres - Brown
END:VEVENT
BEGIN:VEVENT
DTSTART:20250802T120000
DTEND:20250802T133000
SUMMARY:Red Sox - Molley vs. Red Sox - Molley
DESCRIPTION:8U Baseball - Practices - Carol Stream Park District
LOCATION:Armstrong 3
CATEGORIES:QuickScores; Facilities Game
TRANSP:0
DALARM:20250802T100000;PT10M;2;Red Sox - Molley vs. Red Sox - Molley
END:VEVENT
BEGIN:VEVENT
DTSTART:20250802T120000
DTEND:20250802T133000
SUMMARY:A's - Michalowski vs. A's - Michalowski
DESCRIPTION:8U Baseball - Practices - Carol Stream Park District
LOCATION:Kent Park
CATEGORIES:QuickScores; Facilities Game
TRANSP:0
DALARM:20250802T100000;PT10M;2;A's - Michalowski vs. A's - Michalowski
END:VEVENT
BEGIN:VEVENT
DTSTART:20250804T173000
DTEND:20250804T183000
SUMMARY:Red Sox - Molley vs. Red Sox - Molley
DESCRIPTION:8U Baseball - Practices - Carol Stream Park District
LOCATION:McCaslin 3
CATEGORIES:QuickScores; Facilities Game
TRANSP:0
DALARM:20250804T153000;PT10M;2;Red Sox - Molley vs. Red Sox - Molley
END:VEVENT
BEGIN:VEVENT
DTSTART:20250804T183000
DTEND:20250804T193000
SUMMARY:Brewers - Kimme vs. Brewers - Kimme
DESCRIPTION:8U Baseball - Practices - Carol Stream Park District
LOCATION:McCaslin 1
CATEGORIES:QuickScores; Facilities Game
TRANSP:0
DALARM:20250804T163000;PT10M;2;Brewers - Kimme vs. Brewers - Kimme
END:VEVENT
BEGIN:VEVENT
DTSTART:20250805T173000
DTEND:20250805T183000
SUMMARY:Twins - Panvino vs. Twins - Panvino
DESCRIPTION:8U Baseball - Practices - Carol Stream Park District
LOCATION:McCaslin 2
CATEGORIES:QuickScores; Facilities Game
TRANSP:0
DALARM:20250805T153000;PT10M;2;Twins - Panvino vs. Twins - Panvino
END:VEVENT
BEGIN:VEVENT
DTSTART:20250805T173000
DTEND:20250805T183000
SUMMARY:A's - Michalowski vs. A's - Michalowski
DESCRIPTION:8U Baseball - Practices - Carol Stream Park District
LOCATION:McCaslin 4
CATEGORIES:QuickScores; Facilities Game
TRANSP:0
DALARM:20250805T153000;PT10M;2;A's - Michalowski vs. A's - Michalowski
END:VEVENT
BEGIN:VEVENT
DTSTART:20250805T173000
DTEND:20250805T183000
SUMMARY:Padres - Brown vs. Padres - Brown
DESCRIPTION:8U Baseball - Practices - Carol Stream Park District
LOCATION:McCaslin 3
CATEGORIES:QuickScores; Facilities Game
TRANSP:0
DALARM:20250805T153000;PT10M;2;Padres - Brown vs. Padres - Brown
END:VEVENT
BEGIN:VEVENT
DTSTART:20250806T173000
DTEND:20250806T183000
SUMMARY:Pirates - Garza vs. Pirates - Garza
DESCRIPTION:8U Baseball - Practices - Carol Stream Park District
LOCATION:McCaslin 2
CATEGORIES:QuickScores; Facilities Game
TRANSP:0
DALARM:20250806T153000;PT10M;2;Pirates - Garza vs. Pirates - Garza
END:VEVENT
BEGIN:VEVENT
DTSTART:20250809T090000
DTEND:20250809T103000
SUMMARY:Brewers - Kimme vs. Brewers - Kimme
DESCRIPTION:8U Baseball - Practices - Carol Stream Park District
LOCATION:Armstrong 1
CATEGORIES:QuickScores; Facilities Game
TRANSP:0
DALARM:20250809T070000;PT10M;2;Brewers - Kimme vs. Brewers - Kimme
END:VEVENT
BEGIN:VEVENT
DTSTART:20250809T090000
DTEND:20250809T103000
SUMMARY:Twins - Panvino vs. Twins - Panvino
DESCRIPTION:8U Baseball - Practices - Carol Stream Park District
LOCATION:McCaslin 1
CATEGORIES:QuickScores; Facilities Game
TRANSP:0
DALARM:20250809T070000;PT10M;2;Twins - Panvino vs. Twins - Panvino
END:VEVENT
BEGIN:VEVENT
DTSTART:20250809T090000
DTEND:20250809T103000
SUMMARY:Pirates - Garza vs. Pirates - Garza
DESCRIPTION:8U Baseball - Practices - Carol Stream Park District
LOCATION:McCaslin 3
CATEGORIES:QuickScores; Facilities Game
TRANSP:0
DALARM:20250809T070000;PT10M;2;Pirates - Garza vs. Pirates - Garza
END:VEVENT
BEGIN:VEVENT
DTSTART:20250809T103000
DTEND:20250809T120000
SUMMARY:Padres - Brown vs. Padres - Brown
DESCRIPTION:8U Baseball - Practices - Carol Stream Park District
LOCATION:McCaslin 3
CATEGORIES:QuickScores; Facilities Game
TRANSP:0
DALARM:20250809T083000;PT10M;2;Padres - Brown vs. Padres - Brown
END:VEVENT
BEGIN:VEVENT
DTSTART:20250809T120000
DTEND:20250809T133000
SUMMARY:A's - Michalowski vs. A's - Michalowski
DESCRIPTION:8U Baseball - Practices - Carol Stream Park District
LOCATION:McCaslin 3
CATEGORIES:QuickScores; Facilities Game
TRANSP:0
DALARM:20250809T100000;PT10M;2;A's - Michalowski vs. A's - Michalowski
END:VEVENT
BEGIN:VEVENT
DTSTART:20250809T120000
DTEND:20250809T133000
SUMMARY:Red Sox - Molley vs. Red Sox - Molley
DESCRIPTION:8U Baseball - Practices - Carol Stream Park District
LOCATION:Armstrong 1
CATEGORIES:QuickScores; Facilities Game
TRANSP:0
DALARM:20250809T100000;PT10M;2;Red Sox - Molley vs. Red Sox - Molley
END:VEVENT
BEGIN:VEVENT
DTSTART:20250811T173000
DTEND:20250811T183000
SUMMARY:Red Sox - Molley vs. Red Sox - Molley
DESCRIPTION:8U Baseball - Practices - Carol Stream Park District
LOCATION:McCaslin 2
CATEGORIES:QuickScores; Facilities Game
TRANSP:0
DALARM:20250811T153000;PT10M;2;Red Sox - Molley vs. Red Sox - Molley
END:VEVENT
BEGIN:VEVENT
DTSTART:20250811T183000
DTEND:20250811T193000
SUMMARY:Brewers - Kimme vs. Brewers - Kimme
DESCRIPTION:8U Baseball - Practices - Carol Stream Park District
LOCATION:McCaslin 3
CATEGORIES:QuickScores; Facilities Game
TRANSP:0
DALARM:20250811T163000;PT10M;2;Brewers - Kimme vs. Brewers - Kimme
END:VEVENT
BEGIN:VEVENT
DTSTART:20250812T173000
DTEND:20250812T183000
SUMMARY:Padres - Brown vs. Padres - Brown
DESCRIPTION:8U Baseball - Practices - Carol Stream Park District
LOCATION:McCaslin 1
CATEGORIES:QuickScores; Facilities Game
TRANSP:0
DALARM:20250812T153000;PT10M;2;Padres - Brown vs. Padres - Brown
END:VEVENT
BEGIN:VEVENT
DTSTART:20250812T173000
DTEND:20250812T183000
SUMMARY:A's - Michalowski vs. A's - Michalowski
DESCRIPTION:Location Change --- 8U Baseball - Practices - Carol Stream Park District
LOCATION:McCaslin 4
CATEGORIES:QuickScores; Facilities Game
TRANSP:0
DALARM:20250812T153000;PT10M;2;A's - Michalowski vs. A's - Michalowski
END:VEVENT
BEGIN:VEVENT
DTSTART:20250812T173000
DTEND:20250812T183000
SUMMARY:Twins - Panvino vs. Twins - Panvino
DESCRIPTION:8U Baseball - Practices - Carol Stream Park District
LOCATION:Armstrong 1
CATEGORIES:QuickScores; Facilities Game
TRANSP:0
DALARM:20250812T153000;PT10M;2;Twins - Panvino vs. Twins - Panvino
END:VEVENT
BEGIN:VEVENT
DTSTART:20250813T170000
DTEND:20250813T180000
SUMMARY:Pirates - Garza vs. Pirates - Garza
DESCRIPTION:8U Baseball - Practices - Carol Stream Park District
LOCATION:McCaslin 2
CATEGORIES:QuickScores; Facilities Game
TRANSP:0
DALARM:20250813T150000;PT10M;2;Pirates - Garza vs. Pirates - Garza
END:VEVENT
BEGIN:VEVENT
DTSTART:20250818T173000
DTEND:20250818T183000
SUMMARY:Red Sox - Molley vs. Red Sox - Molley
DESCRIPTION:8U Baseball - Practices - Carol Stream Park District
LOCATION:McCaslin 1
CATEGORIES:QuickScores; Facilities Game
TRANSP:0
DALARM:20250818T153000;PT10M;2;Red Sox - Molley vs. Red Sox - Molley
END:VEVENT
BEGIN:VEVENT
DTSTART:20250818T183000
DTEND:20250818T193000
SUMMARY:Brewers - Kimme vs. Brewers - Kimme
DESCRIPTION:8U Baseball - Practices - Carol Stream Park District
LOCATION:McCaslin 1
CATEGORIES:QuickScores; Facilities Game
TRANSP:0
DALARM:20250818T163000;PT10M;2;Brewers - Kimme vs. Brewers - Kimme
END:VEVENT
BEGIN:VEVENT
DTSTART:20250819T173000
DTEND:20250819T183000
SUMMARY:Twins - Panvino vs. Twins - Panvino
DESCRIPTION:8U Baseball - Practices - Carol Stream Park District
LOCATION:McCaslin 1
CATEGORIES:QuickScores; Facilities Game
TRANSP:0
DALARM:20250819T153000;PT10M;2;Twins - Panvino vs. Twins - Panvino
END:VEVENT
BEGIN:VEVENT
DTSTART:20250819T173000
DTEND:20250819T183000
SUMMARY:A's - Michalowski vs. A's - Michalowski
DESCRIPTION:Updated Location --- 8U Baseball - Practices - Carol Stream Park District
LOCATION:McCaslin 4
CATEGORIES:QuickScores; Facilities Game
TRANSP:0
DALARM:20250819T153000;PT10M;2;A's - Michalowski vs. A's - Michalowski
END:VEVENT
BEGIN:VEVENT
DTSTART:20250819T173000
DTEND:20250819T183000
SUMMARY:Padres - Brown vs. Padres - Brown
DESCRIPTION:Updated Location --- 8U Baseball - Practices - Carol Stream Park District
LOCATION:Armstrong 1
CATEGORIES:QuickScores; Facilities Game
TRANSP:0
DALARM:20250819T153000;PT10M;2;Padres - Brown vs. Padres - Brown
END:VEVENT
BEGIN:VEVENT
DTSTART:20250820T173000
DTEND:20250820T183000
SUMMARY:Pirates - Garza vs. Pirates - Garza
DESCRIPTION:8U Baseball - Practices - Carol Stream Park District
LOCATION:McCaslin 2
CATEGORIES:QuickScores; Facilities Game
TRANSP:0
DALARM:20250820T153000;PT10M;2;Pirates - Garza vs. Pirates - Garza
END:VEVENT
BEGIN:VEVENT
DTSTART:20250825T173000
DTEND:20250825T183000
SUMMARY:Red Sox - Molley vs. Red Sox - Molley
DESCRIPTION:8U Baseball - Practices - Carol Stream Park District
LOCATION:Armstrong 1
CATEGORIES:QuickScores; Facilities Game
TRANSP:0
DALARM:20250825T153000;PT10M;2;Red Sox - Molley vs. Red Sox - Molley
END:VEVENT
BEGIN:VEVENT
DTSTART:20250825T183000
DTEND:20250825T193000
SUMMARY:Brewers - Kimme vs. Brewers - Kimme
DESCRIPTION:8U Baseball - Practices - Carol Stream Park District
LOCATION:Armstrong 1
CATEGORIES:QuickScores; Facilities Game
TRANSP:0
DALARM:20250825T163000;PT10M;2;Brewers - Kimme vs. Brewers - Kimme
END:VEVENT
BEGIN:VEVENT
DTSTART:20250826T173000
DTEND:20250826T183000
SUMMARY:Padres - Brown vs. Padres - Brown
DESCRIPTION:8U Baseball - Practices - Carol Stream Park District
LOCATION:McCaslin 1
CATEGORIES:QuickScores; Facilities Game
TRANSP:0
DALARM:20250826T153000;PT10M;2;Padres - Brown vs. Padres - Brown
END:VEVENT
BEGIN:VEVENT
DTSTART:20250826T173000
DTEND:20250826T183000
SUMMARY:A's - Michalowski vs. A's - Michalowski
DESCRIPTION:8U Baseball - Practices - Carol Stream Park District
LOCATION:McCaslin 2
CATEGORIES:QuickScores; Facilities Game
TRANSP:0
DALARM:20250826T153000;PT10M;2;A's - Michalowski vs. A's - Michalowski
END:VEVENT
BEGIN:VEVENT
DTSTART:20250826T173000
DTEND:20250826T183000
SUMMARY:Twins - Panvino vs. Twins - Panvino
DESCRIPTION:8U Baseball - Practices - Carol Stream Park District
LOCATION:Armstrong 3
CATEGORIES:QuickScores; Facilities Game
TRANSP:0
DALARM:20250826T153000;PT10M;2;Twins - Panvino vs. Twins - Panvino
END:VEVENT
BEGIN:VEVENT
DTSTART:20250827T173000
DTEND:20250827T183000
SUMMARY:Pirates - Garza vs. Pirates - Garza
DESCRIPTION:8U Baseball - Practices - Carol Stream Park District
LOCATION:McCaslin 2
CATEGORIES:QuickScores; Facilities Game
TRANSP:0
DALARM:20250827T153000;PT10M;2;Pirates - Garza vs. Pirates - Garza
END:VEVENT
BEGIN:VEVENT
DTSTART:20250902T173000
DTEND:20250902T183000
SUMMARY:Twins - Panvino vs. Twins - Panvino
DESCRIPTION:8U Baseball - Practices - Carol Stream Park District
LOCATION:Armstrong 1
CATEGORIES:QuickScores; Facilities Game
TRANSP:0
DALARM:20250902T153000;PT10M;2;Twins - Panvino vs. Twins - Panvino
END:VEVENT
BEGIN:VEVENT
DTSTART:20250902T173000
DTEND:20250902T183000
SUMMARY:Padres - Brown vs. Padres - Brown
DESCRIPTION:8U Baseball - Practices - Carol Stream Park District
LOCATION:Armstrong 3
CATEGORIES:QuickScores; Facilities Game
TRANSP:0
DALARM:20250902T153000;PT10M;2;Padres - Brown vs. Padres - Brown
END:VEVENT
BEGIN:VEVENT
DTSTART:20250902T173000
DTEND:20250902T183000
SUMMARY:Brewers - Kimme vs. Brewers - Kimme
DESCRIPTION:8U Baseball - Practices - Carol Stream Park District
LOCATION:Walters Park - Baseball Field
CATEGORIES:QuickScores; Facilities Game
TRANSP:0
DALARM:20250902T153000;PT10M;2;Brewers - Kimme vs. Brewers - Kimme
END:VEVENT
BEGIN:VEVENT
DTSTART:20250903T173000
DTEND:20250903T183000
SUMMARY:Pirates - Garza vs. Pirates - Garza
DESCRIPTION:8U Baseball - Practices - Carol Stream Park District
LOCATION:Kent Park
CATEGORIES:QuickScores; Facilities Game
TRANSP:0
DALARM:20250903T153000;PT10M;2;Pirates - Garza vs. Pirates - Garza
END:VEVENT
BEGIN:VEVENT
DTSTART:20250903T173000
DTEND:20250903T183000
SUMMARY:A's - Michalowski vs. A's - Michalowski
DESCRIPTION:8U Baseball - Practices - Carol Stream Park District
LOCATION:Walters Park - Baseball Field
CATEGORIES:QuickScores; Facilities Game
TRANSP:0
DALARM:20250903T153000;PT10M;2;A's - Michalowski vs. A's - Michalowski
END:VEVENT
BEGIN:VEVENT
DTSTART:20250904T173000
DTEND:20250904T183000
SUMMARY:Red Sox - Molley vs. Red Sox - Molley
DESCRIPTION:8U Baseball - Practices - Carol Stream Park District
LOCATION:Pleasant Hill North
CATEGORIES:QuickScores; Facilities Game
TRANSP:0
DALARM:20250904T153000;PT10M;2;Red Sox - Molley vs. Red Sox - Molley
END:VEVENT
BEGIN:VEVENT
DTSTART:20250908T173000
DTEND:20250908T183000
SUMMARY:Red Sox - Molley vs. Red Sox - Molley
DESCRIPTION:8U Baseball - Practices - Carol Stream Park District
LOCATION:Kent Park
CATEGORIES:QuickScores; Facilities Game
TRANSP:0
DALARM:20250908T153000;PT10M;2;Red Sox - Molley vs. Red Sox - Molley
END:VEVENT
BEGIN:VEVENT
DTSTART:20250908T183000
DTEND:20250908T193000
SUMMARY:Brewers - Kimme vs. Brewers - Kimme
DESCRIPTION:8U Baseball - Practices - Carol Stream Park District
LOCATION:Armstrong 2
CATEGORIES:QuickScores; Facilities Game
TRANSP:0
DALARM:20250908T163000;PT10M;2;Brewers - Kimme vs. Brewers - Kimme
END:VEVENT
BEGIN:VEVENT
DTSTART:20250909T173000
DTEND:20250909T183000
SUMMARY:Twins - Panvino vs. Twins - Panvino
DESCRIPTION:8U Baseball - Practices - Carol Stream Park District
LOCATION:Armstrong 3
CATEGORIES:QuickScores; Facilities Game
TRANSP:0
DALARM:20250909T153000;PT10M;2;Twins - Panvino vs. Twins - Panvino
END:VEVENT
BEGIN:VEVENT
DTSTART:20250909T173000
DTEND:20250909T183000
SUMMARY:Pirates - Garza vs. Pirates - Garza
DESCRIPTION:Updated Day/Location --- 8U Baseball - Practices - Carol Stream Park District
LOCATION:Post Office
CATEGORIES:QuickScores; Facilities Game
TRANSP:0
DALARM:20250909T153000;PT10M;2;Pirates - Garza vs. Pirates - Garza
END:VEVENT
BEGIN:VEVENT
DTSTART:20250909T173000
DTEND:20250909T183000
SUMMARY:A's - Michalowski vs. A's - Michalowski
DESCRIPTION:8U Baseball - Practices - Carol Stream Park District
LOCATION:Kent Park
CATEGORIES:QuickScores; Facilities Game
TRANSP:0
DALARM:20250909T153000;PT10M;2;A's - Michalowski vs. A's - Michalowski
END:VEVENT
BEGIN:VEVENT
DTSTART:20250915T183000
DTEND:20250915T193000
SUMMARY:Brewers - Kimme vs. Brewers - Kimme
DESCRIPTION:8U Baseball - Practices - Carol Stream Park District
LOCATION:Armstrong 1
CATEGORIES:QuickScores; Facilities Game
TRANSP:0
DALARM:20250915T163000;PT10M;2;Brewers - Kimme vs. Brewers - Kimme
END:VEVENT
BEGIN:VEVENT
DTSTART:20250916T173000
DTEND:20250916T183000
SUMMARY:A's - Michalowski vs. A's - Michalowski
DESCRIPTION:8U Baseball - Practices - Carol Stream Park District
LOCATION:Kent Park
CATEGORIES:QuickScores; Facilities Game
TRANSP:0
DALARM:20250916T153000;PT10M;2;A's - Michalowski vs. A's - Michalowski
END:VEVENT
BEGIN:VEVENT
DTSTART:20250918T173000
DTEND:20250918T183000
SUMMARY:Pirates - Garza vs. Pirates - Garza
DESCRIPTION:Updated Day/Location --- 8U Baseball - Practices - Carol Stream Park District
LOCATION:Kent Park
CATEGORIES:QuickScores; Facilities Game
TRANSP:0
DALARM:20250918T153000;PT10M;2;Pirates - Garza vs. Pirates - Garza
END:VEVENT
BEGIN:VEVENT
DTSTART:20250922T173000
DTEND:20250922T183000
SUMMARY:Brewers - Kimme vs. Brewers - Kimme
DESCRIPTION:8U Baseball - Practices - Carol Stream Park District
LOCATION:Post Office
CATEGORIES:QuickScores; Facilities Game
TRANSP:0
DALARM:20250922T153000;PT10M;2;Brewers - Kimme vs. Brewers - Kimme
END:VEVENT
BEGIN:VEVENT
DTSTART:20250922T173000
DTEND:20250922T183000
SUMMARY:Red Sox - Molley vs. Red Sox - Molley
DESCRIPTION:8U Baseball - Practices - Carol Stream Park District
LOCATION:Kent Park
CATEGORIES:QuickScores; Facilities Game
TRANSP:0
DALARM:20250922T153000;PT10M;2;Red Sox - Molley vs. Red Sox - Molley
END:VEVENT
BEGIN:VEVENT
DTSTART:20250923T173000
DTEND:20250923T183000
SUMMARY:Twins - Panvino vs. Twins - Panvino
DESCRIPTION:Updated Location - Outfield Only --- 8U Baseball - Practices - Carol Stream Park District
LOCATION:Armstrong 2
CATEGORIES:QuickScores; Facilities Game
TRANSP:0
DALARM:20250923T153000;PT10M;2;Twins - Panvino vs. Twins - Panvino
END:VEVENT
BEGIN:VEVENT
DTSTART:20250923T173000
DTEND:20250923T183000
SUMMARY:Padres - Brown vs. Padres - Brown
DESCRIPTION:Shared Field/Outfield Only --- 8U Baseball - Practices - Carol Stream Park District
LOCATION:Armstrong 3
CATEGORIES:QuickScores; Facilities Game
TRANSP:0
DALARM:20250923T153000;PT10M;2;Padres - Brown vs. Padres - Brown
END:VEVENT
BEGIN:VEVENT
DTSTART:20250923T173000
DTEND:20250923T183000
SUMMARY:A's - Michalowski vs. A's - Michalowski
DESCRIPTION:Shared Field/Outfield Only --- 8U Baseball - Practices - Carol Stream Park District
LOCATION:Armstrong 3
CATEGORIES:QuickScores; Facilities Game
TRANSP:0
DALARM:20250923T153000;PT10M;2;A's - Michalowski vs. A's - Michalowski
END:VEVENT
BEGIN:VEVENT
DTSTART:20250924T173000
DTEND:20250924T183000
SUMMARY:Pirates - Garza vs. Pirates - Garza
DESCRIPTION:Updated Location --- 8U Baseball - Practices - Carol Stream Park District
LOCATION:Armstrong 4
CATEGORIES:QuickScores; Facilities Game
TRANSP:0
DALARM:20250924T153000;PT10M;2;Pirates - Garza vs. Pirates - Garza
END:VEVENT
BEGIN:VEVENT
DTSTART:20250929T173000
DTEND:20250929T183000
SUMMARY:Red Sox - Molley vs. Red Sox - Molley
DESCRIPTION:8U Baseball - Practices - Carol Stream Park District
LOCATION:Armstrong 1
CATEGORIES:QuickScores; Facilities Game
TRANSP:0
DALARM:20250929T153000;PT10M;2;Red Sox - Molley vs. Red Sox - Molley
END:VEVENT
BEGIN:VEVENT
DTSTART:20250929T173000
DTEND:20250929T183000
SUMMARY:Brewers - Kimme vs. Brewers - Kimme
DESCRIPTION:Updated Location --- 8U Baseball - Practices - Carol Stream Park District
LOCATION:Pleasant Hill North
CATEGORIES:QuickScores; Facilities Game
TRANSP:0
DALARM:20250929T153000;PT10M;2;Brewers - Kimme vs. Brewers - Kimme
END:VEVENT
BEGIN:VEVENT
DTSTART:20250930T173000
DTEND:20250930T183000
SUMMARY:A's - Michalowski vs. A's - Michalowski
DESCRIPTION:Shared Field --- 8U Baseball - Practices - Carol Stream Park District
LOCATION:Armstrong 3
CATEGORIES:QuickScores; Facilities Game
TRANSP:0
DALARM:20250930T153000;PT10M;2;A's - Michalowski vs. A's - Michalowski
END:VEVENT
BEGIN:VEVENT
DTSTART:20250930T173000
DTEND:20250930T183000
SUMMARY:Twins - Panvino vs. Twins - Panvino
DESCRIPTION:Shared Field --- 8U Baseball - Practices - Carol Stream Park District
LOCATION:Armstrong 3
CATEGORIES:QuickScores; Facilities Game
TRANSP:0
DALARM:20250930T153000;PT10M;2;Twins - Panvino vs. Twins - Panvino
END:VEVENT
BEGIN:VEVENT
DTSTART:20250930T173000
DTEND:20250930T183000
SUMMARY:Padres - Brown vs. Padres - Brown
DESCRIPTION:8U Baseball - Practices - Carol Stream Park District
LOCATION:Armstrong 1
CATEGORIES:QuickScores; Facilities Game
TRANSP:0
DALARM:20250930T153000;PT10M;2;Padres - Brown vs. Padres - Brown
END:VEVENT
BEGIN:VEVENT
DTSTART:20251001T173000
DTEND:20251001T183000
SUMMARY:Pirates - Garza vs. Pirates - Garza
DESCRIPTION:8U Baseball - Practices - Carol Stream Park District
LOCATION:Armstrong 1
CATEGORIES:QuickScores; Facilities Game
TRANSP:0
DALARM:20251001T153000;PT10M;2;Pirates - Garza vs. Pirates - Garza
END:VEVENT
BEGIN:VEVENT
DTSTART:20251002T173000
DTEND:20251002T183000
SUMMARY:Pirates - Garza vs. Pirates - Garza
DESCRIPTION:8U Baseball - Practices - Carol Stream Park District
LOCATION:Kent Park
CATEGORIES:QuickScores; Facilities Game
TRANSP:0
DALARM:20251002T153000;PT10M;2;Pirates - Garza vs. Pirates - Garza
END:VEVENT
BEGIN:VEVENT
DTSTART:20251007T173000
DTEND:20251007T183000
SUMMARY:A's - Michalowski vs. A's - Michalowski
DESCRIPTION:8U Baseball - Practices - Carol Stream Park District
LOCATION:Armstrong 3
CATEGORIES:QuickScores; Facilities Game
TRANSP:0
DALARM:20251007T153000;PT10M;2;A's - Michalowski vs. A's - Michalowski
END:VEVENT
BEGIN:VEVENT
DTSTART:20251007T173000
DTEND:20251007T183000
SUMMARY:Padres - Brown vs. Padres - Brown
DESCRIPTION:8U Baseball - Practices - Carol Stream Park District
LOCATION:Armstrong 1
CATEGORIES:QuickScores; Facilities Game
TRANSP:0
DALARM:20251007T153000;PT10M;2;Padres - Brown vs. Padres - Brown
END:VEVENT
BEGIN:VEVENT
DTSTART:20251009T173000
DTEND:20251009T183000
SUMMARY:Pirates - Garza vs. Pirates - Garza
DESCRIPTION:8U Baseball - Practices - Carol Stream Park District
LOCATION:Kent Park
CATEGORIES:QuickScores; Facilities Game
TRANSP:0
DALARM:20251009T153000;PT10M;2;Pirates - Garza vs. Pirates - Garza
END:VEVENT
BEGIN:VEVENT
DTSTART:20251009T173000
DTEND:20251009T183000
SUMMARY:Twins - Panvino vs. Twins - Panvino
DESCRIPTION:8U Baseball - Practices - Carol Stream Park District
LOCATION:Armstrong 4
CATEGORIES:QuickScores; Facilities Game
TRANSP:0
DALARM:20251009T153000;PT10M;2;Twins - Panvino vs. Twins - Panvino
END:VEVENT
END:VCALENDAR
