BEGIN:VCALENDAR
VERSION:1.0
BEGIN:VEVENT
DTSTART:20250804T180000
DTEND:20250804T190000
SUMMARY:[12] HMH vs. [13] J&J
DESCRIPTION:South Division - Smithfield Recreation
LOCATION:East Softball Field
CATEGORIES:QuickScores; Softball - Adult Game
TRANSP:0
DALARM:20250804T160000;PT10M;2;[12] HMH vs. [13] J&J
END:VEVENT
BEGIN:VEVENT
DTSTART:20250804T180000
DTEND:20250804T190000
SUMMARY:[11] Golden Steps vs. [14] Wright Angle
DESCRIPTION:South Division - Smithfield Recreation
LOCATION:West Softball Field
CATEGORIES:QuickScores; Softball - Adult Game
TRANSP:0
DALARM:20250804T160000;PT10M;2;[11] Golden Steps vs. [14] Wright Angle
END:VEVENT
BEGIN:VEVENT
DTSTART:20250804T190000
DTEND:20250804T200000
SUMMARY:[9] Couples Therapy vs. [16] Forge Batties
DESCRIPTION:South Division - Smithfield Recreation
LOCATION:West Softball Field
CATEGORIES:QuickScores; Softball - Adult Game
TRANSP:0
DALARM:20250804T170000;PT10M;2;[9] Couples Therapy vs. [16] Forge Batties
END:VEVENT
BEGIN:VEVENT
DTSTART:20250804T190000
DTEND:20250804T200000
SUMMARY:[10] Gunsight Farms vs. [15] The Hitters Full
DESCRIPTION:South Division - Smithfield Recreation
LOCATION:East Softball Field
CATEGORIES:QuickScores; Softball - Adult Game
TRANSP:0
DALARM:20250804T170000;PT10M;2;[10] Gunsight Farms vs. [15] The Hitters Full
END:VEVENT
BEGIN:VEVENT
DTSTART:20250804T200000
DTEND:20250804T210000
SUMMARY:[9] Couples Therapy vs. [12] HMH
DESCRIPTION:South Division - Smithfield Recreation
LOCATION:East Softball Field
CATEGORIES:QuickScores; Softball - Adult Game
TRANSP:0
DALARM:20250804T180000;PT10M;2;[9] Couples Therapy vs. [12] HMH
END:VEVENT
BEGIN:VEVENT
DTSTART:20250804T200000
DTEND:20250804T210000
SUMMARY:[10] Gunsight Farms vs. [14] Wright Angle
DESCRIPTION:South Division - Smithfield Recreation
LOCATION:West Softball Field
CATEGORIES:QuickScores; Softball - Adult Game
TRANSP:0
DALARM:20250804T180000;PT10M;2;[10] Gunsight Farms vs. [14] Wright Angle
END:VEVENT
BEGIN:VEVENT
DTSTART:20250804T210000
DTEND:20250804T220000
SUMMARY:[12] HMH vs. [10] Gunsight Farms
DESCRIPTION:South Division - Smithfield Recreation
LOCATION:East Softball Field
CATEGORIES:QuickScores; Softball - Adult Game
TRANSP:0
DALARM:20250804T190000;PT10M;2;[12] HMH vs. [10] Gunsight Farms
END:VEVENT
END:VCALENDAR
