BEGIN:VCALENDAR
VERSION:1.0
BEGIN:VEVENT
DTSTART:20250809T150000
DTEND:20250809T160000
SUMMARY:HF Sinclair vs. Texas Capital Bank
DESCRIPTION:Division B - City of Richardson Corporate Challenge<br>Sponsored by State Farm
LOCATION:Net Results Sports Center #1
CATEGORIES:QuickScores; Volleyball Game
TRANSP:0
DALARM:20250809T130000;PT10M;2;HF Sinclair vs. Texas Capital Bank
END:VEVENT
BEGIN:VEVENT
DTSTART:20250809T150000
DTEND:20250809T160000
SUMMARY:City of Richardson vs. Geico
DESCRIPTION:Division B - City of Richardson Corporate Challenge<br>Sponsored by State Farm
LOCATION:Net Results Sports Center #3
CATEGORIES:QuickScores; Volleyball Game
TRANSP:0
DALARM:20250809T130000;PT10M;2;City of Richardson vs. Geico
END:VEVENT
BEGIN:VEVENT
DTSTART:20250809T150000
DTEND:20250809T160000
SUMMARY:Cisco vs. 7-Eleven
DESCRIPTION:Division B - City of Richardson Corporate Challenge<br>Sponsored by State Farm
LOCATION:Net Results Sports Center #2
CATEGORIES:QuickScores; Volleyball Game
TRANSP:0
DALARM:20250809T130000;PT10M;2;Cisco vs. 7-Eleven
END:VEVENT
BEGIN:VEVENT
DTSTART:20250809T160000
DTEND:20250809T170000
SUMMARY:LJA Engineering vs. HF Sinclair
DESCRIPTION:Division B - City of Richardson Corporate Challenge<br>Sponsored by State Farm
LOCATION:Net Results Sports Center #3
CATEGORIES:QuickScores; Volleyball Game
TRANSP:0
DALARM:20250809T140000;PT10M;2;LJA Engineering vs. HF Sinclair
END:VEVENT
BEGIN:VEVENT
DTSTART:20250809T160000
DTEND:20250809T170000
SUMMARY:Globe Life vs. City of Richardson
DESCRIPTION:Division B - City of Richardson Corporate Challenge<br>Sponsored by State Farm
LOCATION:Net Results Sports Center #1
CATEGORIES:QuickScores; Volleyball Game
TRANSP:0
DALARM:20250809T140000;PT10M;2;Globe Life vs. City of Richardson
END:VEVENT
BEGIN:VEVENT
DTSTART:20250809T160000
DTEND:20250809T170000
SUMMARY:Baylor Heart Hospital vs. Cisco
DESCRIPTION:Division B - City of Richardson Corporate Challenge<br>Sponsored by State Farm
LOCATION:Net Results Sports Center #2
CATEGORIES:QuickScores; Volleyball Game
TRANSP:0
DALARM:20250809T140000;PT10M;2;Baylor Heart Hospital vs. Cisco
END:VEVENT
BEGIN:VEVENT
DTSTART:20250809T170000
DTEND:20250809T180000
SUMMARY:Texas Capital Bank vs. LJA Engineering
DESCRIPTION:Division B - City of Richardson Corporate Challenge<br>Sponsored by State Farm
LOCATION:Net Results Sports Center #3
CATEGORIES:QuickScores; Volleyball Game
TRANSP:0
DALARM:20250809T150000;PT10M;2;Texas Capital Bank vs. LJA Engineering
END:VEVENT
BEGIN:VEVENT
DTSTART:20250809T170000
DTEND:20250809T180000
SUMMARY:Geico vs. Globe Life
DESCRIPTION:Division B - City of Richardson Corporate Challenge<br>Sponsored by State Farm
LOCATION:Net Results Sports Center #2
CATEGORIES:QuickScores; Volleyball Game
TRANSP:0
DALARM:20250809T150000;PT10M;2;Geico vs. Globe Life
END:VEVENT
BEGIN:VEVENT
DTSTART:20250809T170000
DTEND:20250809T180000
SUMMARY:7-Eleven vs. Baylor Heart Hospital
DESCRIPTION:Division B - City of Richardson Corporate Challenge<br>Sponsored by State Farm
LOCATION:Net Results Sports Center #1
CATEGORIES:QuickScores; Volleyball Game
TRANSP:0
DALARM:20250809T150000;PT10M;2;7-Eleven vs. Baylor Heart Hospital
END:VEVENT
BEGIN:VEVENT
DTSTART:20250810T110000
DTEND:20250810T120000
SUMMARY:[C1] Texas Capital Bank vs. [A2] 7-Eleven
DESCRIPTION:Division B - City of Richardson Corporate Challenge<br>Sponsored by State Farm
LOCATION:Net Results Sports Center #2
CATEGORIES:QuickScores; Volleyball Game
TRANSP:0
DALARM:20250810T090000;PT10M;2;[C1] Texas Capital Bank vs. [A2] 7-Eleven
END:VEVENT
BEGIN:VEVENT
DTSTART:20250810T110000
DTEND:20250810T120000
SUMMARY:[B2] Geico vs. [C2] HF Sinclair
DESCRIPTION:Division B - City of Richardson Corporate Challenge<br>Sponsored by State Farm
LOCATION:Net Results Sports Center #1
CATEGORIES:QuickScores; Volleyball Game
TRANSP:0
DALARM:20250810T090000;PT10M;2;[B2] Geico vs. [C2] HF Sinclair
END:VEVENT
BEGIN:VEVENT
DTSTART:20250810T130000
DTEND:20250810T140000
SUMMARY:[B1] Globe Life vs. [A2] 7-Eleven
DESCRIPTION:Division B - City of Richardson Corporate Challenge<br>Sponsored by State Farm
LOCATION:Net Results Sports Center #2
CATEGORIES:QuickScores; Volleyball Game
TRANSP:0
DALARM:20250810T110000;PT10M;2;[B1] Globe Life vs. [A2] 7-Eleven
END:VEVENT
BEGIN:VEVENT
DTSTART:20250810T130000
DTEND:20250810T140000
SUMMARY:[A1] Cisco vs. [C2] HF Sinclair
DESCRIPTION:Division B - City of Richardson Corporate Challenge<br>Sponsored by State Farm
LOCATION:Net Results Sports Center #1
CATEGORIES:QuickScores; Volleyball Game
TRANSP:0
DALARM:20250810T110000;PT10M;2;[A1] Cisco vs. [C2] HF Sinclair
END:VEVENT
BEGIN:VEVENT
DTSTART:20250810T140000
DTEND:20250810T150000
SUMMARY:[A1] Cisco vs. [A2] 7-Eleven
DESCRIPTION:Division B - City of Richardson Corporate Challenge<br>Sponsored by State Farm
LOCATION:Net Results Sports Center #1
CATEGORIES:QuickScores; Volleyball Game
TRANSP:0
DALARM:20250810T120000;PT10M;2;[A1] Cisco vs. [A2] 7-Eleven
END:VEVENT
BEGIN:VEVENT
DTSTART:20250810T140000
DTEND:20250810T150000
SUMMARY:[C2] HF Sinclair vs. [B1] Globe Life
DESCRIPTION:Division B - City of Richardson Corporate Challenge<br>Sponsored by State Farm
LOCATION:Net Results Sports Center #2
CATEGORIES:QuickScores; Volleyball Game
TRANSP:0
DALARM:20250810T120000;PT10M;2;[C2] HF Sinclair vs. [B1] Globe Life
END:VEVENT
END:VCALENDAR
