BEGIN:VCALENDAR
VERSION:1.0
BEGIN:VEVENT
DTSTART:20250807T083000
DTEND:20250807T100000
SUMMARY:Pittsburgh 70s vs. Superior Team Softball
DESCRIPTION:Men 70 Major/75 Major Gold - International Senior Softball Association<br>ISSA
LOCATION:IBP 10
CATEGORIES:QuickScores; Softball Game
TRANSP:0
DALARM:20250807T063000;PT10M;2;Pittsburgh 70s vs. Superior Team Softball
END:VEVENT
BEGIN:VEVENT
DTSTART:20250807T083000
DTEND:20250807T100000
SUMMARY:Springford 70s vs. Pill and Pill 70s
DESCRIPTION:Men 70 Major/75 Major Gold - International Senior Softball Association<br>ISSA
LOCATION:IBP 7
CATEGORIES:QuickScores; Softball Game
TRANSP:0
DALARM:20250807T063000;PT10M;2;Springford 70s vs. Pill and Pill 70s
END:VEVENT
BEGIN:VEVENT
DTSTART:20250807T100000
DTEND:20250807T113000
SUMMARY:[A1] Springford 70s vs. [B2] Superior Team Softball
DESCRIPTION:Men 70 Major/75 Major Gold - International Senior Softball Association<br>ISSA
LOCATION:IBP 7
CATEGORIES:QuickScores; Softball Game
TRANSP:0
DALARM:20250807T080000;PT10M;2;[A1] Springford 70s vs. [B2] Superior Team Softball
END:VEVENT
BEGIN:VEVENT
DTSTART:20250807T100000
DTEND:20250807T113000
SUMMARY:[B1] Pittsburgh 70s vs. [A2] Pill and Pill 70s
DESCRIPTION:Men 70 Major/75 Major Gold - International Senior Softball Association<br>ISSA
LOCATION:IBP 10
CATEGORIES:QuickScores; Softball Game
TRANSP:0
DALARM:20250807T080000;PT10M;2;[B1] Pittsburgh 70s vs. [A2] Pill and Pill 70s
END:VEVENT
BEGIN:VEVENT
DTSTART:20250807T130000
DTEND:20250807T143000
SUMMARY:Winner of Game 1 vs. Winner of Game 2
DESCRIPTION:Men 70 Major/75 Major Gold - International Senior Softball Association<br>ISSA
LOCATION:IBP 10
CATEGORIES:QuickScores; Softball Game
TRANSP:0
DALARM:20250807T110000;PT10M;2;Winner of Game 1 vs. Winner of Game 2
END:VEVENT
BEGIN:VEVENT
DTSTART:20250807T130000
DTEND:20250807T143000
SUMMARY:Loser of Game 1 vs. Loser of Game 2
DESCRIPTION:Men 70 Major/75 Major Gold - International Senior Softball Association<br>ISSA
LOCATION:IBP 7
CATEGORIES:QuickScores; Softball Game
TRANSP:0
DALARM:20250807T110000;PT10M;2;Loser of Game 1 vs. Loser of Game 2
END:VEVENT
BEGIN:VEVENT
DTSTART:20250807T143000
DTEND:20250807T160000
SUMMARY:Loser of Game 3 vs. Winner of Game 4
DESCRIPTION:Men 70 Major/75 Major Gold - International Senior Softball Association<br>ISSA
LOCATION:IBP 10
CATEGORIES:QuickScores; Softball Game
TRANSP:0
DALARM:20250807T123000;PT10M;2;Loser of Game 3 vs. Winner of Game 4
END:VEVENT
BEGIN:VEVENT
DTSTART:20250808T083000
DTEND:20250808T100000
SUMMARY:Winner of Game 3 vs. Winner of Game 5
DESCRIPTION:Men 70 Major/75 Major Gold - International Senior Softball Association<br>ISSA
LOCATION:IBP 7
CATEGORIES:QuickScores; Softball Game
TRANSP:0
DALARM:20250808T063000;PT10M;2;Winner of Game 3 vs. Winner of Game 5
END:VEVENT
BEGIN:VEVENT
DTSTART:20250808T100000
DTEND:20250808T113000
SUMMARY:Winner of Game 6 vs. Loser of Game 6
DESCRIPTION:Men 70 Major/75 Major Gold - International Senior Softball Association<br>ISSA
LOCATION:IBP 7
CATEGORIES:QuickScores; Softball Game
TRANSP:0
DALARM:20250808T080000;PT10M;2;Winner of Game 6 vs. Loser of Game 6
END:VEVENT
END:VCALENDAR
