BEGIN:VCALENDAR
VERSION:1.0
BEGIN:VEVENT
DTSTART:20040628T183000
DTEND:20040628T191500
SUMMARY:TBD vs. TCS
DESCRIPTION:cc_2004_Darts_C_Mixed - City of Richardson Corporate Challenge
CATEGORIES:QuickScores;  Game
TRANSP:0
DALARM:20040628T163000;PT10M;2;TBD vs. TCS
END:VEVENT
BEGIN:VEVENT
DTSTART:20040628T183000
DTEND:20040628T191500
SUMMARY:TBD vs. TBD
DESCRIPTION:cc_2004_Darts_C_Mixed - City of Richardson Corporate Challenge
CATEGORIES:QuickScores;  Game
TRANSP:0
DALARM:20040628T163000;PT10M;2;TBD vs. TBD
END:VEVENT
BEGIN:VEVENT
DTSTART:20040628T183000
DTEND:20040628T191500
SUMMARY:TBD vs. TBD
DESCRIPTION:cc_2004_Darts_C_Mixed - City of Richardson Corporate Challenge
CATEGORIES:QuickScores;  Game
TRANSP:0
DALARM:20040628T163000;PT10M;2;TBD vs. TBD
END:VEVENT
BEGIN:VEVENT
DTSTART:20040628T183000
DTEND:20040628T191500
SUMMARY:TBD vs. Sanmina
DESCRIPTION:cc_2004_Darts_C_Mixed - City of Richardson Corporate Challenge
CATEGORIES:QuickScores;  Game
TRANSP:0
DALARM:20040628T163000;PT10M;2;TBD vs. Sanmina
END:VEVENT
BEGIN:VEVENT
DTSTART:20040628T183000
DTEND:20040628T191500
SUMMARY:TBD vs. TBD
DESCRIPTION:cc_2004_Darts_C_Mixed - City of Richardson Corporate Challenge
CATEGORIES:QuickScores;  Game
TRANSP:0
DALARM:20040628T163000;PT10M;2;TBD vs. TBD
END:VEVENT
BEGIN:VEVENT
DTSTART:20040628T183000
DTEND:20040628T191500
SUMMARY:TBD vs. TBD
DESCRIPTION:cc_2004_Darts_C_Mixed - City of Richardson Corporate Challenge
CATEGORIES:QuickScores;  Game
TRANSP:0
DALARM:20040628T163000;PT10M;2;TBD vs. TBD
END:VEVENT
BEGIN:VEVENT
DTSTART:20040628T000000
DTEND:20040628T000000
SUMMARY:Sanmina vs. ELCAN
DESCRIPTION:cc_2004_Darts_C_Mixed - City of Richardson Corporate Challenge
CATEGORIES:QuickScores;  Game
TRANSP:0
DALARM:20040628T000000;PT10M;2;Sanmina vs. ELCAN
END:VEVENT
BEGIN:VEVENT
DTSTART:20040628T000000
DTEND:20040628T000000
SUMMARY:Chiaro vs. TBD
DESCRIPTION:cc_2004_Darts_C_Mixed - City of Richardson Corporate Challenge
CATEGORIES:QuickScores;  Game
TRANSP:0
DALARM:20040628T000000;PT10M;2;Chiaro vs. TBD
END:VEVENT
BEGIN:VEVENT
DTSTART:20040628T000000
DTEND:20040628T000000
SUMMARY:TBD vs. TBD
DESCRIPTION:cc_2004_Darts_C_Mixed - City of Richardson Corporate Challenge
CATEGORIES:QuickScores;  Game
TRANSP:0
DALARM:20040628T000000;PT10M;2;TBD vs. TBD
END:VEVENT
BEGIN:VEVENT
DTSTART:20040628T000000
DTEND:20040628T000000
SUMMARY:PFSweb vs. ELCAN
DESCRIPTION:cc_2004_Darts_C_Mixed - City of Richardson Corporate Challenge
CATEGORIES:QuickScores;  Game
TRANSP:0
DALARM:20040628T000000;PT10M;2;PFSweb vs. ELCAN
END:VEVENT
BEGIN:VEVENT
DTSTART:20040628T000000
DTEND:20040628T000000
SUMMARY:TBD vs. ELCAN
DESCRIPTION:cc_2004_Darts_C_Mixed - City of Richardson Corporate Challenge
CATEGORIES:QuickScores;  Game
TRANSP:0
DALARM:20040628T000000;PT10M;2;TBD vs. ELCAN
END:VEVENT
BEGIN:VEVENT
DTSTART:20040628T000000
DTEND:20040628T000000
SUMMARY:TBD vs. PFSweb
DESCRIPTION:cc_2004_Darts_C_Mixed - City of Richardson Corporate Challenge
CATEGORIES:QuickScores;  Game
TRANSP:0
DALARM:20040628T000000;PT10M;2;TBD vs. PFSweb
END:VEVENT
BEGIN:VEVENT
DTSTART:20040628T000000
DTEND:20040628T000000
SUMMARY:Childress vs. TBD
DESCRIPTION:cc_2004_Darts_C_Mixed - City of Richardson Corporate Challenge
CATEGORIES:QuickScores;  Game
TRANSP:0
DALARM:20040628T000000;PT10M;2;Childress vs. TBD
END:VEVENT
BEGIN:VEVENT
DTSTART:20040628T000000
DTEND:20040628T000000
SUMMARY:TBD vs. TBD
DESCRIPTION:cc_2004_Darts_C_Mixed - City of Richardson Corporate Challenge
CATEGORIES:QuickScores;  Game
TRANSP:0
DALARM:20040628T000000;PT10M;2;TBD vs. TBD
END:VEVENT
BEGIN:VEVENT
DTSTART:20040628T000000
DTEND:20040628T000000
SUMMARY:ELCAN vs. TBD
DESCRIPTION:cc_2004_Darts_C_Mixed - City of Richardson Corporate Challenge
CATEGORIES:QuickScores;  Game
TRANSP:0
DALARM:20040628T000000;PT10M;2;ELCAN vs. TBD
END:VEVENT
BEGIN:VEVENT
DTSTART:20040628T000000
DTEND:20040628T000000
SUMMARY:TCS vs. Argo
DESCRIPTION:cc_2004_Darts_C_Mixed - City of Richardson Corporate Challenge
CATEGORIES:QuickScores;  Game
TRANSP:0
DALARM:20040628T000000;PT10M;2;TCS vs. Argo
END:VEVENT
BEGIN:VEVENT
DTSTART:20040628T000000
DTEND:20040628T000000
SUMMARY:Sanmina vs. ELCAN
DESCRIPTION:cc_2004_Darts_C_Mixed - City of Richardson Corporate Challenge
CATEGORIES:QuickScores;  Game
TRANSP:0
DALARM:20040628T000000;PT10M;2;Sanmina vs. ELCAN
END:VEVENT
BEGIN:VEVENT
DTSTART:20040628T000000
DTEND:20040628T000000
SUMMARY:TCS vs. Sanmina
DESCRIPTION:cc_2004_Darts_C_Mixed - City of Richardson Corporate Challenge
CATEGORIES:QuickScores;  Game
TRANSP:0
DALARM:20040628T000000;PT10M;2;TCS vs. Sanmina
END:VEVENT
BEGIN:VEVENT
DTSTART:20040628T000000
DTEND:20040628T000000
SUMMARY:TBD vs. Chiaro
DESCRIPTION:cc_2004_Darts_C_Mixed - City of Richardson Corporate Challenge
CATEGORIES:QuickScores;  Game
TRANSP:0
DALARM:20040628T000000;PT10M;2;TBD vs. Chiaro
END:VEVENT
END:VCALENDAR
