BEGIN:VCALENDAR
VERSION:1.0
BEGIN:VEVENT
DTSTART:20250517T090000
DTEND:20250517T100000
SUMMARY:[9] Bartlett- Michigan St. -  Lewensky vs. [16] Carol Stream - Green - Urquiaga
DESCRIPTION:Lower Bracket - Carol Stream Park District
LOCATION:Park Place FRC - East Court
CATEGORIES:QuickScores; Volleyball - Youth Game
TRANSP:0
DALARM:20250517T070000;PT10M;2;[9] Bartlett- Michigan St. -  Lewensky vs. [16] Carol Stream - Green - Urquiaga
END:VEVENT
BEGIN:VEVENT
DTSTART:20250517T100000
DTEND:20250517T110000
SUMMARY:[12] Carol Stream - Purple - Priest vs. [13] Streamwood 3 - Baraks
DESCRIPTION:Lower Bracket - Carol Stream Park District
LOCATION:Park Place FRC - West Court
CATEGORIES:QuickScores; Volleyball - Youth Game
TRANSP:0
DALARM:20250517T080000;PT10M;2;[12] Carol Stream - Purple - Priest vs. [13] Streamwood 3 - Baraks
END:VEVENT
BEGIN:VEVENT
DTSTART:20250517T110000
DTEND:20250517T120000
SUMMARY:[10] Carol Stream - Pink - Salazar vs. [15] Streamwood - Lakoma
DESCRIPTION:Lower Bracket - Carol Stream Park District
LOCATION:Park Place FRC - East Court
CATEGORIES:QuickScores; Volleyball - Youth Game
TRANSP:0
DALARM:20250517T090000;PT10M;2;[10] Carol Stream - Pink - Salazar vs. [15] Streamwood - Lakoma
END:VEVENT
BEGIN:VEVENT
DTSTART:20250517T120000
DTEND:20250517T130000
SUMMARY:[11] Carol Stream - Black - Jones vs. [14] Carol Stream - Blue - Coleman
DESCRIPTION:Lower Bracket - Carol Stream Park District
LOCATION:Park Place FRC - West Court
CATEGORIES:QuickScores; Volleyball - Youth Game
TRANSP:0
DALARM:20250517T100000;PT10M;2;[11] Carol Stream - Black - Jones vs. [14] Carol Stream - Blue - Coleman
END:VEVENT
BEGIN:VEVENT
DTSTART:20250517T130000
DTEND:20250517T140000
SUMMARY:[9] Bartlett- Michigan St. -  Lewensky vs. [13] Streamwood 3 - Baraks
DESCRIPTION:Lower Bracket - Carol Stream Park District
LOCATION:Park Place FRC - East Court
CATEGORIES:QuickScores; Volleyball - Youth Game
TRANSP:0
DALARM:20250517T110000;PT10M;2;[9] Bartlett- Michigan St. -  Lewensky vs. [13] Streamwood 3 - Baraks
END:VEVENT
BEGIN:VEVENT
DTSTART:20250517T140000
DTEND:20250517T150000
SUMMARY:[15] Streamwood - Lakoma vs. [11] Carol Stream - Black - Jones
DESCRIPTION:Lower Bracket - Carol Stream Park District
LOCATION:Park Place FRC - West Court
CATEGORIES:QuickScores; Volleyball - Youth Game
TRANSP:0
DALARM:20250517T120000;PT10M;2;[15] Streamwood - Lakoma vs. [11] Carol Stream - Black - Jones
END:VEVENT
BEGIN:VEVENT
DTSTART:20250517T150000
DTEND:20250517T160000
SUMMARY:[9] Bartlett- Michigan St. -  Lewensky vs. [11] Carol Stream - Black - Jones
DESCRIPTION:Lower Bracket - Carol Stream Park District
LOCATION:Park Place FRC - West Court
CATEGORIES:QuickScores; Volleyball - Youth Game
TRANSP:0
DALARM:20250517T130000;PT10M;2;[9] Bartlett- Michigan St. -  Lewensky vs. [11] Carol Stream - Black - Jones
END:VEVENT
END:VCALENDAR
