BEGIN:VCALENDAR
VERSION:1.0
BEGIN:VEVENT
DTSTART:20250606T090000
DTEND:20250606T103000
SUMMARY:TN Select/LP Sports/Wicked Mitts vs. Tri State Legends
DESCRIPTION:Men 55 Major - International Senior Softball Association<br>ISSA
LOCATION:KCS 4
CATEGORIES:QuickScores; Softball Game
TRANSP:0
DALARM:20250606T070000;PT10M;2;TN Select/LP Sports/Wicked Mitts vs. Tri State Legends
END:VEVENT
BEGIN:VEVENT
DTSTART:20250606T090000
DTEND:20250606T103000
SUMMARY:Escobar Body Shop/ Spartan Bat Co vs. Zellers Gulf
DESCRIPTION:Men 55 Major - International Senior Softball Association<br>ISSA
LOCATION:KCS 2
CATEGORIES:QuickScores; Softball Game
TRANSP:0
DALARM:20250606T070000;PT10M;2;Escobar Body Shop/ Spartan Bat Co vs. Zellers Gulf
END:VEVENT
BEGIN:VEVENT
DTSTART:20250606T090000
DTEND:20250606T103000
SUMMARY:Backside vs. Dayton Legends 55S/Flyboy Athletics
DESCRIPTION:Men 55 Major - International Senior Softball Association<br>ISSA
LOCATION:KCS 3
CATEGORIES:QuickScores; Softball Game
TRANSP:0
DALARM:20250606T070000;PT10M;2;Backside vs. Dayton Legends 55S/Flyboy Athletics
END:VEVENT
BEGIN:VEVENT
DTSTART:20250606T090000
DTEND:20250606T103000
SUMMARY:MC / Spiderz vs. HOTT Softball
DESCRIPTION:Men 55 Major - International Senior Softball Association<br>ISSA
LOCATION:KCS 1
CATEGORIES:QuickScores; Softball Game
TRANSP:0
DALARM:20250606T070000;PT10M;2;MC / Spiderz vs. HOTT Softball
END:VEVENT
BEGIN:VEVENT
DTSTART:20250606T103000
DTEND:20250606T120000
SUMMARY:Infoquest.com vs. Kincaid Sports 55
DESCRIPTION:Men 55 Major - International Senior Softball Association<br>ISSA
LOCATION:KCS 2
CATEGORIES:QuickScores; Softball Game
TRANSP:0
DALARM:20250606T083000;PT10M;2;Infoquest.com vs. Kincaid Sports 55
END:VEVENT
BEGIN:VEVENT
DTSTART:20250606T103000
DTEND:20250606T120000
SUMMARY:Pheonix Tube 55's vs. Generational Softball
DESCRIPTION:Men 55 Major - International Senior Softball Association<br>ISSA
LOCATION:KCS 4
CATEGORIES:QuickScores; Softball Game
TRANSP:0
DALARM:20250606T083000;PT10M;2;Pheonix Tube 55's vs. Generational Softball
END:VEVENT
BEGIN:VEVENT
DTSTART:20250606T103000
DTEND:20250606T120000
SUMMARY:C3 Skids/Skid Daddy vs. Chitown Assault/T2 Automotive
DESCRIPTION:Men 55 Major - International Senior Softball Association<br>ISSA
LOCATION:KCS 3
CATEGORIES:QuickScores; Softball Game
TRANSP:0
DALARM:20250606T083000;PT10M;2;C3 Skids/Skid Daddy vs. Chitown Assault/T2 Automotive
END:VEVENT
BEGIN:VEVENT
DTSTART:20250606T120000
DTEND:20250606T133000
SUMMARY:MJ Lowe Legends vs. Steve Smith Softball
DESCRIPTION:Men 55 Major - International Senior Softball Association<br>ISSA
LOCATION:KCS 4
CATEGORIES:QuickScores; Softball Game
TRANSP:0
DALARM:20250606T100000;PT10M;2;MJ Lowe Legends vs. Steve Smith Softball
END:VEVENT
BEGIN:VEVENT
DTSTART:20250606T120000
DTEND:20250606T133000
SUMMARY:Tri State Legends vs. Escobar Body Shop/ Spartan Bat Co
DESCRIPTION:Men 55 Major - International Senior Softball Association<br>ISSA
LOCATION:KCS 3
CATEGORIES:QuickScores; Softball Game
TRANSP:0
DALARM:20250606T100000;PT10M;2;Tri State Legends vs. Escobar Body Shop/ Spartan Bat Co
END:VEVENT
BEGIN:VEVENT
DTSTART:20250606T120000
DTEND:20250606T133000
SUMMARY:Zellers Gulf vs. TN Select/LP Sports/Wicked Mitts
DESCRIPTION:Men 55 Major - International Senior Softball Association<br>ISSA
LOCATION:KCS 2
CATEGORIES:QuickScores; Softball Game
TRANSP:0
DALARM:20250606T100000;PT10M;2;Zellers Gulf vs. TN Select/LP Sports/Wicked Mitts
END:VEVENT
BEGIN:VEVENT
DTSTART:20250606T120000
DTEND:20250606T133000
SUMMARY:Tiffany's 55 vs. N.E.Merchants
DESCRIPTION:Men 55 Major - International Senior Softball Association<br>ISSA
LOCATION:KCS 1
CATEGORIES:QuickScores; Softball Game
TRANSP:0
DALARM:20250606T100000;PT10M;2;Tiffany's 55 vs. N.E.Merchants
END:VEVENT
BEGIN:VEVENT
DTSTART:20250606T133000
DTEND:20250606T150000
SUMMARY:Gashouse vs. Pheonix Tube 55's
DESCRIPTION:Men 55 Major - International Senior Softball Association<br>ISSA
LOCATION:KCS 1
CATEGORIES:QuickScores; Softball Game
TRANSP:0
DALARM:20250606T113000;PT10M;2;Gashouse vs. Pheonix Tube 55's
END:VEVENT
BEGIN:VEVENT
DTSTART:20250606T133000
DTEND:20250606T150000
SUMMARY:HOTT Softball vs. Infoquest.com
DESCRIPTION:Men 55 Major - International Senior Softball Association<br>ISSA
LOCATION:KCS 2
CATEGORIES:QuickScores; Softball Game
TRANSP:0
DALARM:20250606T113000;PT10M;2;HOTT Softball vs. Infoquest.com
END:VEVENT
BEGIN:VEVENT
DTSTART:20250606T133000
DTEND:20250606T150000
SUMMARY:Dayton Legends 55S/Flyboy Athletics vs. C3 Skids/Skid Daddy
DESCRIPTION:Men 55 Major - International Senior Softball Association<br>ISSA
LOCATION:KCS 3
CATEGORIES:QuickScores; Softball Game
TRANSP:0
DALARM:20250606T113000;PT10M;2;Dayton Legends 55S/Flyboy Athletics vs. C3 Skids/Skid Daddy
END:VEVENT
BEGIN:VEVENT
DTSTART:20250606T133000
DTEND:20250606T150000
SUMMARY:Chitown Assault/T2 Automotive vs. Backside
DESCRIPTION:Men 55 Major - International Senior Softball Association<br>ISSA
LOCATION:KCS 4
CATEGORIES:QuickScores; Softball Game
TRANSP:0
DALARM:20250606T113000;PT10M;2;Chitown Assault/T2 Automotive vs. Backside
END:VEVENT
BEGIN:VEVENT
DTSTART:20250606T150000
DTEND:20250606T163000
SUMMARY:Generational Softball vs. Gashouse
DESCRIPTION:Men 55 Major - International Senior Softball Association<br>ISSA
LOCATION:KCS 1
CATEGORIES:QuickScores; Softball Game
TRANSP:0
DALARM:20250606T130000;PT10M;2;Generational Softball vs. Gashouse
END:VEVENT
BEGIN:VEVENT
DTSTART:20250606T150000
DTEND:20250606T163000
SUMMARY:N.E.Merchants vs. MJ Lowe Legends
DESCRIPTION:Men 55 Major - International Senior Softball Association<br>ISSA
LOCATION:KCS 3
CATEGORIES:QuickScores; Softball Game
TRANSP:0
DALARM:20250606T130000;PT10M;2;N.E.Merchants vs. MJ Lowe Legends
END:VEVENT
BEGIN:VEVENT
DTSTART:20250606T150000
DTEND:20250606T163000
SUMMARY:Steve Smith Softball vs. Tiffany's 55
DESCRIPTION:Men 55 Major - International Senior Softball Association<br>ISSA
LOCATION:KCS 4
CATEGORIES:QuickScores; Softball Game
TRANSP:0
DALARM:20250606T130000;PT10M;2;Steve Smith Softball vs. Tiffany's 55
END:VEVENT
BEGIN:VEVENT
DTSTART:20250606T150000
DTEND:20250606T163000
SUMMARY:Kincaid Sports 55 vs. MC / Spiderz
DESCRIPTION:Men 55 Major - International Senior Softball Association<br>ISSA
LOCATION:KCS 2
CATEGORIES:QuickScores; Softball Game
TRANSP:0
DALARM:20250606T130000;PT10M;2;Kincaid Sports 55 vs. MC / Spiderz
END:VEVENT
BEGIN:VEVENT
DTSTART:20250607T160000
DTEND:20250607T173000
SUMMARY:[D4] MJ Lowe Legends vs. [C4] Kincaid Sports 55
DESCRIPTION:Men 55 Major - International Senior Softball Association<br>ISSA
LOCATION:LMP 4
CATEGORIES:QuickScores; Softball Game
TRANSP:0
DALARM:20250607T140000;PT10M;2;[D4] MJ Lowe Legends vs. [C4] Kincaid Sports 55
END:VEVENT
BEGIN:VEVENT
DTSTART:20250607T160000
DTEND:20250607T173000
SUMMARY:[A3] Backside vs. [E4] Zellers Gulf
DESCRIPTION:Men 55 Major - International Senior Softball Association<br>ISSA
LOCATION:EP 2
CATEGORIES:QuickScores; Softball Game
TRANSP:0
DALARM:20250607T140000;PT10M;2;[A3] Backside vs. [E4] Zellers Gulf
END:VEVENT
BEGIN:VEVENT
DTSTART:20250607T173000
DTEND:20250607T190000
SUMMARY:[D3] N.E.Merchants vs. [A4] Chitown Assault/T2 Automotive
DESCRIPTION:Men 55 Major - International Senior Softball Association<br>ISSA
LOCATION:EP 1
CATEGORIES:QuickScores; Softball Game
TRANSP:0
DALARM:20250607T153000;PT10M;2;[D3] N.E.Merchants vs. [A4] Chitown Assault/T2 Automotive
END:VEVENT
BEGIN:VEVENT
DTSTART:20250607T173000
DTEND:20250607T190000
SUMMARY:[C2] HOTT Softball vs. [D2] Tiffany's 55
DESCRIPTION:Men 55 Major - International Senior Softball Association<br>ISSA
LOCATION:LMP 3
CATEGORIES:QuickScores; Softball Game
TRANSP:0
DALARM:20250607T153000;PT10M;2;[C2] HOTT Softball vs. [D2] Tiffany's 55
END:VEVENT
BEGIN:VEVENT
DTSTART:20250608T090000
DTEND:20250608T103000
SUMMARY:[B2] Generational Softball vs. [E2] Tri State Legends
DESCRIPTION:Men 55 Major - International Senior Softball Association<br>ISSA
LOCATION:CP-K 4
CATEGORIES:QuickScores; Softball Game
TRANSP:0
DALARM:20250608T070000;PT10M;2;[B2] Generational Softball vs. [E2] Tri State Legends
END:VEVENT
BEGIN:VEVENT
DTSTART:20250608T090000
DTEND:20250608T103000
SUMMARY:[E1] Escobar Body Shop/ Spartan Bat Co vs. [B3] Gashouse
DESCRIPTION:Men 55 Major - International Senior Softball Association<br>ISSA
LOCATION:CP-K 2
CATEGORIES:QuickScores; Softball Game
TRANSP:0
DALARM:20250608T070000;PT10M;2;[E1] Escobar Body Shop/ Spartan Bat Co vs. [B3] Gashouse
END:VEVENT
BEGIN:VEVENT
DTSTART:20250608T090000
DTEND:20250608T103000
SUMMARY:[D1] Steve Smith Softball vs. [C3] Infoquest.com
DESCRIPTION:Men 55 Major - International Senior Softball Association<br>ISSA
LOCATION:CP-K 3
CATEGORIES:QuickScores; Softball Game
TRANSP:0
DALARM:20250608T070000;PT10M;2;[D1] Steve Smith Softball vs. [C3] Infoquest.com
END:VEVENT
BEGIN:VEVENT
DTSTART:20250608T103000
DTEND:20250608T120000
SUMMARY:[A1] C3 Skids/Skid Daddy vs. [D4] MJ Lowe Legends
DESCRIPTION:Men 55 Major - International Senior Softball Association<br>ISSA
LOCATION:CP-K 4
CATEGORIES:QuickScores; Softball Game
TRANSP:0
DALARM:20250608T083000;PT10M;2;[A1] C3 Skids/Skid Daddy vs. [D4] MJ Lowe Legends
END:VEVENT
BEGIN:VEVENT
DTSTART:20250608T103000
DTEND:20250608T120000
SUMMARY:[C1] MC / Spiderz vs. [A4] Chitown Assault/T2 Automotive
DESCRIPTION:Men 55 Major - International Senior Softball Association<br>ISSA
LOCATION:CP-K 2
CATEGORIES:QuickScores; Softball Game
TRANSP:0
DALARM:20250608T083000;PT10M;2;[C1] MC / Spiderz vs. [A4] Chitown Assault/T2 Automotive
END:VEVENT
BEGIN:VEVENT
DTSTART:20250608T103000
DTEND:20250608T120000
SUMMARY:[A2] Dayton Legends 55S/Flyboy Athletics vs. [E3] TN Select/LP Sports/Wicked Mitts
DESCRIPTION:Men 55 Major - International Senior Softball Association<br>ISSA
LOCATION:CP-K 3
CATEGORIES:QuickScores; Softball Game
TRANSP:0
DALARM:20250608T083000;PT10M;2;[A2] Dayton Legends 55S/Flyboy Athletics vs. [E3] TN Select/LP Sports/Wicked Mitts
END:VEVENT
BEGIN:VEVENT
DTSTART:20250608T120000
DTEND:20250608T133000
SUMMARY:[B1] Pheonix Tube 55's vs. [A3] Backside
DESCRIPTION:Men 55 Major - International Senior Softball Association<br>ISSA
LOCATION:CP-K 2
CATEGORIES:QuickScores; Softball Game
TRANSP:0
DALARM:20250608T100000;PT10M;2;[B1] Pheonix Tube 55's vs. [A3] Backside
END:VEVENT
BEGIN:VEVENT
DTSTART:20250608T120000
DTEND:20250608T133000
SUMMARY:[A1] C3 Skids/Skid Daddy vs. [D2] Tiffany's 55
DESCRIPTION:Men 55 Major - International Senior Softball Association<br>ISSA
LOCATION:CP-K 4
CATEGORIES:QuickScores; Softball Game
TRANSP:0
DALARM:20250608T100000;PT10M;2;[A1] C3 Skids/Skid Daddy vs. [D2] Tiffany's 55
END:VEVENT
BEGIN:VEVENT
DTSTART:20250608T120000
DTEND:20250608T133000
SUMMARY:[C1] MC / Spiderz vs. [A2] Dayton Legends 55S/Flyboy Athletics
DESCRIPTION:Men 55 Major - International Senior Softball Association<br>ISSA
LOCATION:CP-K 3
CATEGORIES:QuickScores; Softball Game
TRANSP:0
DALARM:20250608T100000;PT10M;2;[C1] MC / Spiderz vs. [A2] Dayton Legends 55S/Flyboy Athletics
END:VEVENT
BEGIN:VEVENT
DTSTART:20250608T133000
DTEND:20250608T150000
SUMMARY:[B1] Pheonix Tube 55's vs. [B2] Generational Softball
DESCRIPTION:Men 55 Major - International Senior Softball Association<br>ISSA
LOCATION:CP-K 2
CATEGORIES:QuickScores; Softball Game
TRANSP:0
DALARM:20250608T113000;PT10M;2;[B1] Pheonix Tube 55's vs. [B2] Generational Softball
END:VEVENT
BEGIN:VEVENT
DTSTART:20250608T133000
DTEND:20250608T150000
SUMMARY:[D1] Steve Smith Softball vs. [E1] Escobar Body Shop/ Spartan Bat Co
DESCRIPTION:Men 55 Major - International Senior Softball Association<br>ISSA
LOCATION:CP-K 3
CATEGORIES:QuickScores; Softball Game
TRANSP:0
DALARM:20250608T113000;PT10M;2;[D1] Steve Smith Softball vs. [E1] Escobar Body Shop/ Spartan Bat Co
END:VEVENT
BEGIN:VEVENT
DTSTART:20250608T150000
DTEND:20250608T163000
SUMMARY:[D2] Tiffany's 55 vs. [E1] Escobar Body Shop/ Spartan Bat Co
DESCRIPTION:Men 55 Major - International Senior Softball Association<br>ISSA
LOCATION:CP-K 3
CATEGORIES:QuickScores; Softball Game
TRANSP:0
DALARM:20250608T130000;PT10M;2;[D2] Tiffany's 55 vs. [E1] Escobar Body Shop/ Spartan Bat Co
END:VEVENT
BEGIN:VEVENT
DTSTART:20250608T150000
DTEND:20250608T163000
SUMMARY:[B1] Pheonix Tube 55's vs. [C1] MC / Spiderz
DESCRIPTION:Men 55 Major - International Senior Softball Association<br>ISSA
LOCATION:CP-K 2
CATEGORIES:QuickScores; Softball Game
TRANSP:0
DALARM:20250608T130000;PT10M;2;[B1] Pheonix Tube 55's vs. [C1] MC / Spiderz
END:VEVENT
BEGIN:VEVENT
DTSTART:20250608T163000
DTEND:20250608T180000
SUMMARY:[E1] Escobar Body Shop/ Spartan Bat Co vs. [C1] MC / Spiderz
DESCRIPTION:Men 55 Major - International Senior Softball Association<br>ISSA
LOCATION:CP-K 2
CATEGORIES:QuickScores; Softball Game
TRANSP:0
DALARM:20250608T143000;PT10M;2;[E1] Escobar Body Shop/ Spartan Bat Co vs. [C1] MC / Spiderz
END:VEVENT
END:VCALENDAR
