BEGIN:VCALENDAR
VERSION:1.0
BEGIN:VEVENT
DTSTART:20250501T090000
DTEND:20250501T103000
SUMMARY:High Street Bucs 75 vs. Superior
DESCRIPTION:Men 75 Major Gold - International Senior Softball Association<br>ISSA
LOCATION:FLP 1
CATEGORIES:QuickScores; Softball Game
TRANSP:0
DALARM:20250501T070000;PT10M;2;High Street Bucs 75 vs. Superior
END:VEVENT
BEGIN:VEVENT
DTSTART:20250501T103000
DTEND:20250501T120000
SUMMARY:Superior vs. High Street Bucs 75
DESCRIPTION:Men 75 Major Gold - International Senior Softball Association<br>ISSA
LOCATION:FLP 1
CATEGORIES:QuickScores; Softball Game
TRANSP:0
DALARM:20250501T083000;PT10M;2;Superior vs. High Street Bucs 75
END:VEVENT
END:VCALENDAR
