BEGIN:VCALENDAR
VERSION:1.0
BEGIN:VEVENT
DTSTART:20250501T090000
DTEND:20250501T103000
SUMMARY:RPR Softball vs. Blaze Air
DESCRIPTION:Men 70 Major - International Senior Softball Association<br>ISSA
LOCATION:FLP 2
CATEGORIES:QuickScores; Softball Game
TRANSP:0
DALARM:20250501T070000;PT10M;2;RPR Softball vs. Blaze Air
END:VEVENT
BEGIN:VEVENT
DTSTART:20250501T103000
DTEND:20250501T120000
SUMMARY:Steele Creek vs. RPR Softball
DESCRIPTION:Men 70 Major - International Senior Softball Association<br>ISSA
LOCATION:FLP 2
CATEGORIES:QuickScores; Softball Game
TRANSP:0
DALARM:20250501T083000;PT10M;2;Steele Creek vs. RPR Softball
END:VEVENT
BEGIN:VEVENT
DTSTART:20250501T133000
DTEND:20250501T150000
SUMMARY:Steele Creek vs. Blaze Air
DESCRIPTION:Men 70 Major - International Senior Softball Association<br>ISSA
LOCATION:FLP 2
CATEGORIES:QuickScores; Softball Game
TRANSP:0
DALARM:20250501T113000;PT10M;2;Steele Creek vs. Blaze Air
END:VEVENT
BEGIN:VEVENT
DTSTART:20250501T150000
DTEND:20250501T163000
SUMMARY:RPR Softball vs. Blaze Air
DESCRIPTION:Men 70 Major - International Senior Softball Association<br>ISSA
LOCATION:FLP 2
CATEGORIES:QuickScores; Softball Game
TRANSP:0
DALARM:20250501T130000;PT10M;2;RPR Softball vs. Blaze Air
END:VEVENT
END:VCALENDAR
