BEGIN:VCALENDAR
VERSION:1.0
BEGIN:VEVENT
DTSTART:20250502T150000
DTEND:20250502T163000
SUMMARY:CSD vs. Half Century
DESCRIPTION:Men 50 Major Gold - International Senior Softball Association<br>ISSA
LOCATION:NP 1
CATEGORIES:QuickScores; Softball Game
TRANSP:0
DALARM:20250502T130000;PT10M;2;CSD vs. Half Century
END:VEVENT
BEGIN:VEVENT
DTSTART:20250502T163000
DTEND:20250502T180000
SUMMARY:Half Century vs. Baugh Ford
DESCRIPTION:Men 50 Major Gold - International Senior Softball Association<br>ISSA
LOCATION:NP 1
CATEGORIES:QuickScores; Softball Game
TRANSP:0
DALARM:20250502T143000;PT10M;2;Half Century vs. Baugh Ford
END:VEVENT
BEGIN:VEVENT
DTSTART:20250502T163000
DTEND:20250502T180000
SUMMARY:Automotive Triage vs. Pulsechain.com 50+
DESCRIPTION:Men 50 Major Gold - International Senior Softball Association<br>ISSA
LOCATION:NP 2
CATEGORIES:QuickScores; Softball Game
TRANSP:0
DALARM:20250502T143000;PT10M;2;Automotive Triage vs. Pulsechain.com 50+
END:VEVENT
BEGIN:VEVENT
DTSTART:20250502T180000
DTEND:20250502T193000
SUMMARY:Baugh Ford vs. Automotive Triage
DESCRIPTION:Men 50 Major Gold - International Senior Softball Association<br>ISSA
LOCATION:NP 2
CATEGORIES:QuickScores; Softball Game
TRANSP:0
DALARM:20250502T160000;PT10M;2;Baugh Ford vs. Automotive Triage
END:VEVENT
BEGIN:VEVENT
DTSTART:20250502T180000
DTEND:20250502T193000
SUMMARY:Pulsechain.com 50+ vs. CSD
DESCRIPTION:Men 50 Major Gold - International Senior Softball Association<br>ISSA
LOCATION:NP 1
CATEGORIES:QuickScores; Softball Game
TRANSP:0
DALARM:20250502T160000;PT10M;2;Pulsechain.com 50+ vs. CSD
END:VEVENT
BEGIN:VEVENT
DTSTART:20250503T113000
DTEND:20250503T130000
SUMMARY:[4] Half Century vs. [5] Pulsechain.com 50+
DESCRIPTION:Men 50 Major Gold - International Senior Softball Association<br>ISSA
LOCATION:NP 1
CATEGORIES:QuickScores; Softball Game
TRANSP:0
DALARM:20250503T093000;PT10M;2;[4] Half Century vs. [5] Pulsechain.com 50+
END:VEVENT
BEGIN:VEVENT
DTSTART:20250503T130000
DTEND:20250503T143000
SUMMARY:[2] CSD vs. [3] Baugh Ford
DESCRIPTION:Men 50 Major Gold - International Senior Softball Association<br>ISSA
LOCATION:NP 2
CATEGORIES:QuickScores; Softball Game
TRANSP:0
DALARM:20250503T110000;PT10M;2;[2] CSD vs. [3] Baugh Ford
END:VEVENT
BEGIN:VEVENT
DTSTART:20250503T130000
DTEND:20250503T143000
SUMMARY:[1] Automotive Triage vs. [5] Pulsechain.com 50+
DESCRIPTION:Men 50 Major Gold - International Senior Softball Association<br>ISSA
LOCATION:NP 1
CATEGORIES:QuickScores; Softball Game
TRANSP:0
DALARM:20250503T110000;PT10M;2;[1] Automotive Triage vs. [5] Pulsechain.com 50+
END:VEVENT
BEGIN:VEVENT
DTSTART:20250504T090000
DTEND:20250504T103000
SUMMARY:[3] Baugh Ford vs. [4] Half Century
DESCRIPTION:Men 50 Major Gold - International Senior Softball Association<br>ISSA
LOCATION:NP 1
CATEGORIES:QuickScores; Softball Game
TRANSP:0
DALARM:20250504T070000;PT10M;2;[3] Baugh Ford vs. [4] Half Century
END:VEVENT
BEGIN:VEVENT
DTSTART:20250504T090000
DTEND:20250504T103000
SUMMARY:[4] Half Century vs. [5] Pulsechain.com 50+
DESCRIPTION:Men 50 Major Gold - International Senior Softball Association<br>ISSA
LOCATION:NP 1
CATEGORIES:QuickScores; Softball Game
TRANSP:0
DALARM:20250504T070000;PT10M;2;[4] Half Century vs. [5] Pulsechain.com 50+
END:VEVENT
BEGIN:VEVENT
DTSTART:20250504T103000
DTEND:20250504T120000
SUMMARY:[1] Automotive Triage vs. [2] CSD
DESCRIPTION:Men 50 Major Gold - International Senior Softball Association<br>ISSA
LOCATION:NP 1
CATEGORIES:QuickScores; Softball Game
TRANSP:0
DALARM:20250504T083000;PT10M;2;[1] Automotive Triage vs. [2] CSD
END:VEVENT
BEGIN:VEVENT
DTSTART:20250504T120000
DTEND:20250504T133000
SUMMARY:[2] CSD vs. [4] Half Century
DESCRIPTION:Men 50 Major Gold - International Senior Softball Association<br>ISSA
LOCATION:NP 1
CATEGORIES:QuickScores; Softball Game
TRANSP:0
DALARM:20250504T100000;PT10M;2;[2] CSD vs. [4] Half Century
END:VEVENT
BEGIN:VEVENT
DTSTART:20250504T133000
DTEND:20250504T150000
SUMMARY:[1] Automotive Triage vs. [2] CSD
DESCRIPTION:Men 50 Major Gold - International Senior Softball Association<br>ISSA
LOCATION:NP 1
CATEGORIES:QuickScores; Softball Game
TRANSP:0
DALARM:20250504T113000;PT10M;2;[1] Automotive Triage vs. [2] CSD
END:VEVENT
END:VCALENDAR
