BEGIN:VCALENDAR
VERSION:1.0
BEGIN:VEVENT
DTSTART:20250329T134000
DTEND:20250329T140000
SUMMARY:MaryGraves/TimPlacke vs. KrisMcCann/DylanDang
DESCRIPTION:Pickle Madness All Gender U9.0 and U8.0 - 3/29 1:30pm - Paddle Up Pickleball Club
LOCATION:Court 7
CATEGORIES:QuickScores; Pickleball Game
TRANSP:0
DALARM:20250329T114000;PT10M;2;MaryGraves/TimPlacke vs. KrisMcCann/DylanDang
END:VEVENT
BEGIN:VEVENT
DTSTART:20250329T134000
DTEND:20250329T140000
SUMMARY:MichealBerry/BradNobel vs. KevinReque/PaigeReque
DESCRIPTION:Pickle Madness All Gender U9.0 and U8.0 - 3/29 1:30pm - Paddle Up Pickleball Club
LOCATION:Court 4
CATEGORIES:QuickScores; Pickleball Game
TRANSP:0
DALARM:20250329T114000;PT10M;2;MichealBerry/BradNobel vs. KevinReque/PaigeReque
END:VEVENT
BEGIN:VEVENT
DTSTART:20250329T134000
DTEND:20250329T140000
SUMMARY:MayurOstwal/NileshOstwal vs. JasonColeman/BrandonColeman
DESCRIPTION:Pickle Madness All Gender U9.0 and U8.0 - 3/29 1:30pm - Paddle Up Pickleball Club
LOCATION:Court 3
CATEGORIES:QuickScores; Pickleball Game
TRANSP:0
DALARM:20250329T114000;PT10M;2;MayurOstwal/NileshOstwal vs. JasonColeman/BrandonColeman
END:VEVENT
BEGIN:VEVENT
DTSTART:20250329T134000
DTEND:20250329T140000
SUMMARY:MaryKruse/KayleighTrokey vs. SamanthaRay/KordellStillmunkes
DESCRIPTION:Pickle Madness All Gender U9.0 and U8.0 - 3/29 1:30pm - Paddle Up Pickleball Club
LOCATION:Court 6
CATEGORIES:QuickScores; Pickleball Game
TRANSP:0
DALARM:20250329T114000;PT10M;2;MaryKruse/KayleighTrokey vs. SamanthaRay/KordellStillmunkes
END:VEVENT
BEGIN:VEVENT
DTSTART:20250329T134000
DTEND:20250329T140000
SUMMARY:AndrewShapiro/ZacharyCorson vs. JeffBee/KyleGottuso
DESCRIPTION:Pickle Madness All Gender U9.0 and U8.0 - 3/29 1:30pm - Paddle Up Pickleball Club
LOCATION:Court 8
CATEGORIES:QuickScores; Pickleball Game
TRANSP:0
DALARM:20250329T114000;PT10M;2;AndrewShapiro/ZacharyCorson vs. JeffBee/KyleGottuso
END:VEVENT
BEGIN:VEVENT
DTSTART:20250329T134000
DTEND:20250329T140000
SUMMARY:MattFleming/PrestonBehlmann vs. MattLandolt/PatAlexander
DESCRIPTION:Pickle Madness All Gender U9.0 and U8.0 - 3/29 1:30pm - Paddle Up Pickleball Club
LOCATION:Court 2
CATEGORIES:QuickScores; Pickleball Game
TRANSP:0
DALARM:20250329T114000;PT10M;2;MattFleming/PrestonBehlmann vs. MattLandolt/PatAlexander
END:VEVENT
BEGIN:VEVENT
DTSTART:20250329T134000
DTEND:20250329T140000
SUMMARY:HarryWallace/LouisWallace vs. TerryAllan/EvanPrice
DESCRIPTION:Pickle Madness All Gender U9.0 and U8.0 - 3/29 1:30pm - Paddle Up Pickleball Club
LOCATION:Court 5
CATEGORIES:QuickScores; Pickleball Game
TRANSP:0
DALARM:20250329T114000;PT10M;2;HarryWallace/LouisWallace vs. TerryAllan/EvanPrice
END:VEVENT
BEGIN:VEVENT
DTSTART:20250329T140000
DTEND:20250329T142000
SUMMARY:JasonColeman/BrandonColeman vs. RamonLewis/ChadKendrick
DESCRIPTION:Pickle Madness All Gender U9.0 and U8.0 - 3/29 1:30pm - Paddle Up Pickleball Club
LOCATION:Court 5
CATEGORIES:QuickScores; Pickleball Game
TRANSP:0
DALARM:20250329T120000;PT10M;2;JasonColeman/BrandonColeman vs. RamonLewis/ChadKendrick
END:VEVENT
BEGIN:VEVENT
DTSTART:20250329T140000
DTEND:20250329T142000
SUMMARY:TerryAllan/EvanPrice vs. NoahOrr/GregChappel
DESCRIPTION:Pickle Madness All Gender U9.0 and U8.0 - 3/29 1:30pm - Paddle Up Pickleball Club
LOCATION:Court 7
CATEGORIES:QuickScores; Pickleball Game
TRANSP:0
DALARM:20250329T120000;PT10M;2;TerryAllan/EvanPrice vs. NoahOrr/GregChappel
END:VEVENT
BEGIN:VEVENT
DTSTART:20250329T140000
DTEND:20250329T142000
SUMMARY:NickBhambri/RichLandmann vs. AlexHoffmeister/EduardoGomez
DESCRIPTION:Pickle Madness All Gender U9.0 and U8.0 - 3/29 1:30pm - Paddle Up Pickleball Club
LOCATION:Court 3
CATEGORIES:QuickScores; Pickleball Game
TRANSP:0
DALARM:20250329T120000;PT10M;2;NickBhambri/RichLandmann vs. AlexHoffmeister/EduardoGomez
END:VEVENT
BEGIN:VEVENT
DTSTART:20250329T140000
DTEND:20250329T142000
SUMMARY:MayurOstwal/NileshOstwal vs. ColbyRinehart/JonothonAntonio
DESCRIPTION:Pickle Madness All Gender U9.0 and U8.0 - 3/29 1:30pm - Paddle Up Pickleball Club
LOCATION:Court 2
CATEGORIES:QuickScores; Pickleball Game
TRANSP:0
DALARM:20250329T120000;PT10M;2;MayurOstwal/NileshOstwal vs. ColbyRinehart/JonothonAntonio
END:VEVENT
BEGIN:VEVENT
DTSTART:20250329T140000
DTEND:20250329T142000
SUMMARY:KrisMcCann/DylanDang vs. MichelleSwitzer/KevinBlase
DESCRIPTION:Pickle Madness All Gender U9.0 and U8.0 - 3/29 1:30pm - Paddle Up Pickleball Club
LOCATION:Court 6
CATEGORIES:QuickScores; Pickleball Game
TRANSP:0
DALARM:20250329T120000;PT10M;2;KrisMcCann/DylanDang vs. MichelleSwitzer/KevinBlase
END:VEVENT
BEGIN:VEVENT
DTSTART:20250329T140000
DTEND:20250329T142000
SUMMARY:NickBorger/MattStoddard vs. ChaseBlickhan/JohnPaden
DESCRIPTION:Pickle Madness All Gender U9.0 and U8.0 - 3/29 1:30pm - Paddle Up Pickleball Club
LOCATION:Court 1
CATEGORIES:QuickScores; Pickleball Game
TRANSP:0
DALARM:20250329T120000;PT10M;2;NickBorger/MattStoddard vs. ChaseBlickhan/JohnPaden
END:VEVENT
BEGIN:VEVENT
DTSTART:20250329T140000
DTEND:20250329T142000
SUMMARY:MattLandolt/PatAlexander vs. MatSevilla/JonHarris
DESCRIPTION:Pickle Madness All Gender U9.0 and U8.0 - 3/29 1:30pm - Paddle Up Pickleball Club
LOCATION:Court 8
CATEGORIES:QuickScores; Pickleball Game
TRANSP:0
DALARM:20250329T120000;PT10M;2;MattLandolt/PatAlexander vs. MatSevilla/JonHarris
END:VEVENT
BEGIN:VEVENT
DTSTART:20250329T140000
DTEND:20250329T142000
SUMMARY:DanSerbin/JohnPisoni vs. PrestonLanglois/BradDonley
DESCRIPTION:Pickle Madness All Gender U9.0 and U8.0 - 3/29 1:30pm - Paddle Up Pickleball Club
LOCATION:Court 9
CATEGORIES:QuickScores; Pickleball Game
TRANSP:0
DALARM:20250329T120000;PT10M;2;DanSerbin/JohnPisoni vs. PrestonLanglois/BradDonley
END:VEVENT
BEGIN:VEVENT
DTSTART:20250329T140000
DTEND:20250329T142000
SUMMARY:SamanthaRay/KordellStillmunkes vs. AndyBlickhan/MandyWindham
DESCRIPTION:Pickle Madness All Gender U9.0 and U8.0 - 3/29 1:30pm - Paddle Up Pickleball Club
LOCATION:Court 4
CATEGORIES:QuickScores; Pickleball Game
TRANSP:0
DALARM:20250329T120000;PT10M;2;SamanthaRay/KordellStillmunkes vs. AndyBlickhan/MandyWindham
END:VEVENT
BEGIN:VEVENT
DTSTART:20250329T142000
DTEND:20250329T144000
SUMMARY:AlexHoffmeister/EduardoGomez vs. NoahOrr/GregChappel
DESCRIPTION:Pickle Madness All Gender U9.0 and U8.0 - 3/29 1:30pm - Paddle Up Pickleball Club
LOCATION:Court 8
CATEGORIES:QuickScores; Pickleball Game
TRANSP:0
DALARM:20250329T122000;PT10M;2;AlexHoffmeister/EduardoGomez vs. NoahOrr/GregChappel
END:VEVENT
BEGIN:VEVENT
DTSTART:20250329T142000
DTEND:20250329T144000
SUMMARY:RamonLewis/ChadKendrick vs. PrestonLanglois/BradDonley
DESCRIPTION:Pickle Madness All Gender U9.0 and U8.0 - 3/29 1:30pm - Paddle Up Pickleball Club
LOCATION:Court 6
CATEGORIES:QuickScores; Pickleball Game
TRANSP:0
DALARM:20250329T122000;PT10M;2;RamonLewis/ChadKendrick vs. PrestonLanglois/BradDonley
END:VEVENT
BEGIN:VEVENT
DTSTART:20250329T142000
DTEND:20250329T144000
SUMMARY:MaryGraves/TimPlacke vs. MichelleSwitzer/KevinBlase
DESCRIPTION:Pickle Madness All Gender U9.0 and U8.0 - 3/29 1:30pm - Paddle Up Pickleball Club
LOCATION:Court 3
CATEGORIES:QuickScores; Pickleball Game
TRANSP:0
DALARM:20250329T122000;PT10M;2;MaryGraves/TimPlacke vs. MichelleSwitzer/KevinBlase
END:VEVENT
BEGIN:VEVENT
DTSTART:20250329T142000
DTEND:20250329T144000
SUMMARY:MattFleming/PrestonBehlmann vs. KevinReque/PaigeReque
DESCRIPTION:Pickle Madness All Gender U9.0 and U8.0 - 3/29 1:30pm - Paddle Up Pickleball Club
LOCATION:Court 5
CATEGORIES:QuickScores; Pickleball Game
TRANSP:0
DALARM:20250329T122000;PT10M;2;MattFleming/PrestonBehlmann vs. KevinReque/PaigeReque
END:VEVENT
BEGIN:VEVENT
DTSTART:20250329T142000
DTEND:20250329T144000
SUMMARY:MichealBerry/BradNobel vs. AndrewShapiro/ZacharyCorson
DESCRIPTION:Pickle Madness All Gender U9.0 and U8.0 - 3/29 1:30pm - Paddle Up Pickleball Club
LOCATION:Court 4
CATEGORIES:QuickScores; Pickleball Game
TRANSP:0
DALARM:20250329T122000;PT10M;2;MichealBerry/BradNobel vs. AndrewShapiro/ZacharyCorson
END:VEVENT
BEGIN:VEVENT
DTSTART:20250329T142000
DTEND:20250329T144000
SUMMARY:ChaseBlickhan/JohnPaden vs. MattLandolt/PatAlexander
DESCRIPTION:Pickle Madness All Gender U9.0 and U8.0 - 3/29 1:30pm - Paddle Up Pickleball Club
LOCATION:Court 9
CATEGORIES:QuickScores; Pickleball Game
TRANSP:0
DALARM:20250329T122000;PT10M;2;ChaseBlickhan/JohnPaden vs. MattLandolt/PatAlexander
END:VEVENT
BEGIN:VEVENT
DTSTART:20250329T142000
DTEND:20250329T144000
SUMMARY:NickBorger/MattStoddard vs. JeffBee/KyleGottuso
DESCRIPTION:Pickle Madness All Gender U9.0 and U8.0 - 3/29 1:30pm - Paddle Up Pickleball Club
LOCATION:Court 2
CATEGORIES:QuickScores; Pickleball Game
TRANSP:0
DALARM:20250329T122000;PT10M;2;NickBorger/MattStoddard vs. JeffBee/KyleGottuso
END:VEVENT
BEGIN:VEVENT
DTSTART:20250329T142000
DTEND:20250329T144000
SUMMARY:KrisMcCann/DylanDang vs. MaryKruse/KayleighTrokey
DESCRIPTION:Pickle Madness All Gender U9.0 and U8.0 - 3/29 1:30pm - Paddle Up Pickleball Club
LOCATION:Court 7
CATEGORIES:QuickScores; Pickleball Game
TRANSP:0
DALARM:20250329T122000;PT10M;2;KrisMcCann/DylanDang vs. MaryKruse/KayleighTrokey
END:VEVENT
BEGIN:VEVENT
DTSTART:20250329T142000
DTEND:20250329T144000
SUMMARY:HarryWallace/LouisWallace vs. DanSerbin/JohnPisoni
DESCRIPTION:Pickle Madness All Gender U9.0 and U8.0 - 3/29 1:30pm - Paddle Up Pickleball Club
LOCATION:Court 1
CATEGORIES:QuickScores; Pickleball Game
TRANSP:0
DALARM:20250329T122000;PT10M;2;HarryWallace/LouisWallace vs. DanSerbin/JohnPisoni
END:VEVENT
BEGIN:VEVENT
DTSTART:20250329T144000
DTEND:20250329T150000
SUMMARY:TerryAllan/EvanPrice vs. JasonColeman/BrandonColeman
DESCRIPTION:Pickle Madness All Gender U9.0 and U8.0 - 3/29 1:30pm - Paddle Up Pickleball Club
LOCATION:Court 5
CATEGORIES:QuickScores; Pickleball Game
TRANSP:0
DALARM:20250329T124000;PT10M;2;TerryAllan/EvanPrice vs. JasonColeman/BrandonColeman
END:VEVENT
BEGIN:VEVENT
DTSTART:20250329T144000
DTEND:20250329T150000
SUMMARY:AndyBlickhan/MandyWindham vs. MaryGraves/TimPlacke
DESCRIPTION:Pickle Madness All Gender U9.0 and U8.0 - 3/29 1:30pm - Paddle Up Pickleball Club
LOCATION:Court 1
CATEGORIES:QuickScores; Pickleball Game
TRANSP:0
DALARM:20250329T124000;PT10M;2;AndyBlickhan/MandyWindham vs. MaryGraves/TimPlacke
END:VEVENT
BEGIN:VEVENT
DTSTART:20250329T144000
DTEND:20250329T150000
SUMMARY:KevinReque/PaigeReque vs. JeffBee/KyleGottuso
DESCRIPTION:Pickle Madness All Gender U9.0 and U8.0 - 3/29 1:30pm - Paddle Up Pickleball Club
LOCATION:Court 4
CATEGORIES:QuickScores; Pickleball Game
TRANSP:0
DALARM:20250329T124000;PT10M;2;KevinReque/PaigeReque vs. JeffBee/KyleGottuso
END:VEVENT
BEGIN:VEVENT
DTSTART:20250329T144000
DTEND:20250329T150000
SUMMARY:NickBorger/MattStoddard vs. MattFleming/PrestonBehlmann
DESCRIPTION:Pickle Madness All Gender U9.0 and U8.0 - 3/29 1:30pm - Paddle Up Pickleball Club
LOCATION:Court 2
CATEGORIES:QuickScores; Pickleball Game
TRANSP:0
DALARM:20250329T124000;PT10M;2;NickBorger/MattStoddard vs. MattFleming/PrestonBehlmann
END:VEVENT
BEGIN:VEVENT
DTSTART:20250329T144000
DTEND:20250329T150000
SUMMARY:NoahOrr/GregChappel vs. SamanthaRay/KordellStillmunkes
DESCRIPTION:Pickle Madness All Gender U9.0 and U8.0 - 3/29 1:30pm - Paddle Up Pickleball Club
LOCATION:Court 9
CATEGORIES:QuickScores; Pickleball Game
TRANSP:0
DALARM:20250329T124000;PT10M;2;NoahOrr/GregChappel vs. SamanthaRay/KordellStillmunkes
END:VEVENT
BEGIN:VEVENT
DTSTART:20250329T144000
DTEND:20250329T150000
SUMMARY:DanSerbin/JohnPisoni vs. MayurOstwal/NileshOstwal
DESCRIPTION:Pickle Madness All Gender U9.0 and U8.0 - 3/29 1:30pm - Paddle Up Pickleball Club
LOCATION:Court 6
CATEGORIES:QuickScores; Pickleball Game
TRANSP:0
DALARM:20250329T124000;PT10M;2;DanSerbin/JohnPisoni vs. MayurOstwal/NileshOstwal
END:VEVENT
BEGIN:VEVENT
DTSTART:20250329T144000
DTEND:20250329T150000
SUMMARY:MichealBerry/BradNobel vs. MatSevilla/JonHarris
DESCRIPTION:Pickle Madness All Gender U9.0 and U8.0 - 3/29 1:30pm - Paddle Up Pickleball Club
LOCATION:Court 8
CATEGORIES:QuickScores; Pickleball Game
TRANSP:0
DALARM:20250329T124000;PT10M;2;MichealBerry/BradNobel vs. MatSevilla/JonHarris
END:VEVENT
BEGIN:VEVENT
DTSTART:20250329T144000
DTEND:20250329T150000
SUMMARY:MichelleSwitzer/KevinBlase vs. MaryKruse/KayleighTrokey
DESCRIPTION:Pickle Madness All Gender U9.0 and U8.0 - 3/29 1:30pm - Paddle Up Pickleball Club
LOCATION:Court 7
CATEGORIES:QuickScores; Pickleball Game
TRANSP:0
DALARM:20250329T124000;PT10M;2;MichelleSwitzer/KevinBlase vs. MaryKruse/KayleighTrokey
END:VEVENT
BEGIN:VEVENT
DTSTART:20250329T144000
DTEND:20250329T150000
SUMMARY:ColbyRinehart/JonothonAntonio vs. NickBhambri/RichLandmann
DESCRIPTION:Pickle Madness All Gender U9.0 and U8.0 - 3/29 1:30pm - Paddle Up Pickleball Club
LOCATION:Court 3
CATEGORIES:QuickScores; Pickleball Game
TRANSP:0
DALARM:20250329T124000;PT10M;2;ColbyRinehart/JonothonAntonio vs. NickBhambri/RichLandmann
END:VEVENT
BEGIN:VEVENT
DTSTART:20250329T150000
DTEND:20250329T152000
SUMMARY:MattLandolt/PatAlexander vs. NickBorger/MattStoddard
DESCRIPTION:Pickle Madness All Gender U9.0 and U8.0 - 3/29 1:30pm - Paddle Up Pickleball Club
LOCATION:Court 9
CATEGORIES:QuickScores; Pickleball Game
TRANSP:0
DALARM:20250329T130000;PT10M;2;MattLandolt/PatAlexander vs. NickBorger/MattStoddard
END:VEVENT
BEGIN:VEVENT
DTSTART:20250329T150000
DTEND:20250329T152000
SUMMARY:RamonLewis/ChadKendrick vs. NickBhambri/RichLandmann
DESCRIPTION:Pickle Madness All Gender U9.0 and U8.0 - 3/29 1:30pm - Paddle Up Pickleball Club
LOCATION:Court 8
CATEGORIES:QuickScores; Pickleball Game
TRANSP:0
DALARM:20250329T130000;PT10M;2;RamonLewis/ChadKendrick vs. NickBhambri/RichLandmann
END:VEVENT
BEGIN:VEVENT
DTSTART:20250329T150000
DTEND:20250329T152000
SUMMARY:MaryKruse/KayleighTrokey vs. DanSerbin/JohnPisoni
DESCRIPTION:Pickle Madness All Gender U9.0 and U8.0 - 3/29 1:30pm - Paddle Up Pickleball Club
LOCATION:Court 3
CATEGORIES:QuickScores; Pickleball Game
TRANSP:0
DALARM:20250329T130000;PT10M;2;MaryKruse/KayleighTrokey vs. DanSerbin/JohnPisoni
END:VEVENT
BEGIN:VEVENT
DTSTART:20250329T150000
DTEND:20250329T152000
SUMMARY:AndyBlickhan/MandyWindham vs. KrisMcCann/DylanDang
DESCRIPTION:Pickle Madness All Gender U9.0 and U8.0 - 3/29 1:30pm - Paddle Up Pickleball Club
LOCATION:Court 5
CATEGORIES:QuickScores; Pickleball Game
TRANSP:0
DALARM:20250329T130000;PT10M;2;AndyBlickhan/MandyWindham vs. KrisMcCann/DylanDang
END:VEVENT
BEGIN:VEVENT
DTSTART:20250329T150000
DTEND:20250329T152000
SUMMARY:JeffBee/KyleGottuso vs. MichealBerry/BradNobel
DESCRIPTION:Pickle Madness All Gender U9.0 and U8.0 - 3/29 1:30pm - Paddle Up Pickleball Club
LOCATION:Court 4
CATEGORIES:QuickScores; Pickleball Game
TRANSP:0
DALARM:20250329T130000;PT10M;2;JeffBee/KyleGottuso vs. MichealBerry/BradNobel
END:VEVENT
BEGIN:VEVENT
DTSTART:20250329T150000
DTEND:20250329T152000
SUMMARY:MatSevilla/JonHarris vs. KevinReque/PaigeReque
DESCRIPTION:Pickle Madness All Gender U9.0 and U8.0 - 3/29 1:30pm - Paddle Up Pickleball Club
LOCATION:Court 6
CATEGORIES:QuickScores; Pickleball Game
TRANSP:0
DALARM:20250329T130000;PT10M;2;MatSevilla/JonHarris vs. KevinReque/PaigeReque
END:VEVENT
BEGIN:VEVENT
DTSTART:20250329T150000
DTEND:20250329T152000
SUMMARY:ChaseBlickhan/JohnPaden vs. AndrewShapiro/ZacharyCorson
DESCRIPTION:Pickle Madness All Gender U9.0 and U8.0 - 3/29 1:30pm - Paddle Up Pickleball Club
LOCATION:Court 2
CATEGORIES:QuickScores; Pickleball Game
TRANSP:0
DALARM:20250329T130000;PT10M;2;ChaseBlickhan/JohnPaden vs. AndrewShapiro/ZacharyCorson
END:VEVENT
BEGIN:VEVENT
DTSTART:20250329T150000
DTEND:20250329T152000
SUMMARY:PrestonLanglois/BradDonley vs. HarryWallace/LouisWallace
DESCRIPTION:Pickle Madness All Gender U9.0 and U8.0 - 3/29 1:30pm - Paddle Up Pickleball Club
LOCATION:Court 1
CATEGORIES:QuickScores; Pickleball Game
TRANSP:0
DALARM:20250329T130000;PT10M;2;PrestonLanglois/BradDonley vs. HarryWallace/LouisWallace
END:VEVENT
BEGIN:VEVENT
DTSTART:20250329T150000
DTEND:20250329T152000
SUMMARY:AlexHoffmeister/EduardoGomez vs. ColbyRinehart/JonothonAntonio
DESCRIPTION:Pickle Madness All Gender U9.0 and U8.0 - 3/29 1:30pm - Paddle Up Pickleball Club
LOCATION:Court 7
CATEGORIES:QuickScores; Pickleball Game
TRANSP:0
DALARM:20250329T130000;PT10M;2;AlexHoffmeister/EduardoGomez vs. ColbyRinehart/JonothonAntonio
END:VEVENT
BEGIN:VEVENT
DTSTART:20250329T152000
DTEND:20250329T154000
SUMMARY:NickBhambri/RichLandmann vs. MayurOstwal/NileshOstwal
DESCRIPTION:Pickle Madness All Gender U9.0 and U8.0 - 3/29 1:30pm - Paddle Up Pickleball Club
LOCATION:Court 4
CATEGORIES:QuickScores; Pickleball Game
TRANSP:0
DALARM:20250329T132000;PT10M;2;NickBhambri/RichLandmann vs. MayurOstwal/NileshOstwal
END:VEVENT
BEGIN:VEVENT
DTSTART:20250329T152000
DTEND:20250329T154000
SUMMARY:MaryGraves/TimPlacke vs. SamanthaRay/KordellStillmunkes
DESCRIPTION:Pickle Madness All Gender U9.0 and U8.0 - 3/29 1:30pm - Paddle Up Pickleball Club
LOCATION:Court 7
CATEGORIES:QuickScores; Pickleball Game
TRANSP:0
DALARM:20250329T132000;PT10M;2;MaryGraves/TimPlacke vs. SamanthaRay/KordellStillmunkes
END:VEVENT
BEGIN:VEVENT
DTSTART:20250329T152000
DTEND:20250329T154000
SUMMARY:MichelleSwitzer/KevinBlase vs. AndyBlickhan/MandyWindham
DESCRIPTION:Pickle Madness All Gender U9.0 and U8.0 - 3/29 1:30pm - Paddle Up Pickleball Club
LOCATION:Court 6
CATEGORIES:QuickScores; Pickleball Game
TRANSP:0
DALARM:20250329T132000;PT10M;2;MichelleSwitzer/KevinBlase vs. AndyBlickhan/MandyWindham
END:VEVENT
BEGIN:VEVENT
DTSTART:20250329T152000
DTEND:20250329T154000
SUMMARY:ColbyRinehart/JonothonAntonio vs. HarryWallace/LouisWallace
DESCRIPTION:Pickle Madness All Gender U9.0 and U8.0 - 3/29 1:30pm - Paddle Up Pickleball Club
LOCATION:Court 2
CATEGORIES:QuickScores; Pickleball Game
TRANSP:0
DALARM:20250329T132000;PT10M;2;ColbyRinehart/JonothonAntonio vs. HarryWallace/LouisWallace
END:VEVENT
BEGIN:VEVENT
DTSTART:20250329T152000
DTEND:20250329T154000
SUMMARY:AndrewShapiro/ZacharyCorson vs. MattFleming/PrestonBehlmann
DESCRIPTION:Pickle Madness All Gender U9.0 and U8.0 - 3/29 1:30pm - Paddle Up Pickleball Club
LOCATION:Court 5
CATEGORIES:QuickScores; Pickleball Game
TRANSP:0
DALARM:20250329T132000;PT10M;2;AndrewShapiro/ZacharyCorson vs. MattFleming/PrestonBehlmann
END:VEVENT
BEGIN:VEVENT
DTSTART:20250329T152000
DTEND:20250329T154000
SUMMARY:NoahOrr/GregChappel vs. RamonLewis/ChadKendrick
DESCRIPTION:Pickle Madness All Gender U9.0 and U8.0 - 3/29 1:30pm - Paddle Up Pickleball Club
LOCATION:Court 8
CATEGORIES:QuickScores; Pickleball Game
TRANSP:0
DALARM:20250329T132000;PT10M;2;NoahOrr/GregChappel vs. RamonLewis/ChadKendrick
END:VEVENT
BEGIN:VEVENT
DTSTART:20250329T152000
DTEND:20250329T154000
SUMMARY:PrestonLanglois/BradDonley vs. TerryAllan/EvanPrice
DESCRIPTION:Pickle Madness All Gender U9.0 and U8.0 - 3/29 1:30pm - Paddle Up Pickleball Club
LOCATION:Court 3
CATEGORIES:QuickScores; Pickleball Game
TRANSP:0
DALARM:20250329T132000;PT10M;2;PrestonLanglois/BradDonley vs. TerryAllan/EvanPrice
END:VEVENT
BEGIN:VEVENT
DTSTART:20250329T152000
DTEND:20250329T154000
SUMMARY:JasonColeman/BrandonColeman vs. AlexHoffmeister/EduardoGomez
DESCRIPTION:Pickle Madness All Gender U9.0 and U8.0 - 3/29 1:30pm - Paddle Up Pickleball Club
LOCATION:Court 9
CATEGORIES:QuickScores; Pickleball Game
TRANSP:0
DALARM:20250329T132000;PT10M;2;JasonColeman/BrandonColeman vs. AlexHoffmeister/EduardoGomez
END:VEVENT
BEGIN:VEVENT
DTSTART:20250329T154000
DTEND:20250329T160000
SUMMARY:MatSevilla/JonHarris vs. ChaseBlickhan/JohnPaden
DESCRIPTION:Pickle Madness All Gender U9.0 and U8.0 - 3/29 1:30pm - Paddle Up Pickleball Club
LOCATION:Court 1
CATEGORIES:QuickScores; Pickleball Game
TRANSP:0
DALARM:20250329T134000;PT10M;2;MatSevilla/JonHarris vs. ChaseBlickhan/JohnPaden
END:VEVENT
END:VCALENDAR
