BEGIN:VCALENDAR
VERSION:1.0
BEGIN:VEVENT
DTSTART:20250408T180000
DTEND:20250408T191500
SUMMARY:Astros (PC) vs. Astros
DESCRIPTION:8U Boys - Warner Robins Parks and Recreation 
LOCATION:North Peach - Field 3
CATEGORIES:QuickScores; Baseball - Youth Game
TRANSP:0
DALARM:20250408T160000;PT10M;2;Astros (PC) vs. Astros
END:VEVENT
BEGIN:VEVENT
DTSTART:20250410T191500
DTEND:20250410T203000
SUMMARY:Braves vs. Pirates (PC)
DESCRIPTION:Pirates forfeit --- 8U Boys - Warner Robins Parks and Recreation 
LOCATION:Simpson - Field 4
CATEGORIES:QuickScores; Baseball - Youth Game
TRANSP:0
DALARM:20250410T171500;PT10M;2;Braves vs. Pirates (PC)
END:VEVENT
BEGIN:VEVENT
DTSTART:20250414T193000
DTEND:20250414T204500
SUMMARY:Pirates (PC) vs. Astros
DESCRIPTION:8U Boys - Warner Robins Parks and Recreation 
LOCATION:North Peach - Field 3
CATEGORIES:QuickScores; Baseball - Youth Game
TRANSP:0
DALARM:20250414T173000;PT10M;2;Pirates (PC) vs. Astros
END:VEVENT
BEGIN:VEVENT
DTSTART:20250415T180000
DTEND:20250415T191500
SUMMARY:Mariners (PC) vs. Rockies
DESCRIPTION:8U Boys - Warner Robins Parks and Recreation 
LOCATION:North Peach - Field 3
CATEGORIES:QuickScores; Baseball - Youth Game
TRANSP:0
DALARM:20250415T160000;PT10M;2;Mariners (PC) vs. Rockies
END:VEVENT
BEGIN:VEVENT
DTSTART:20250415T191500
DTEND:20250415T203000
SUMMARY:Pirates (PC) vs. Braves
DESCRIPTION:8U Boys - Warner Robins Parks and Recreation 
LOCATION:North Peach - Field 3
CATEGORIES:QuickScores; Baseball - Youth Game
TRANSP:0
DALARM:20250415T171500;PT10M;2;Pirates (PC) vs. Braves
END:VEVENT
BEGIN:VEVENT
DTSTART:20250417T180000
DTEND:20250417T191500
SUMMARY:Astros (PC) vs. Mariners (PC)
DESCRIPTION:8U Boys - Warner Robins Parks and Recreation 
LOCATION:South Peach 1
CATEGORIES:QuickScores; Baseball - Youth Game
TRANSP:0
DALARM:20250417T160000;PT10M;2;Astros (PC) vs. Mariners (PC)
END:VEVENT
BEGIN:VEVENT
DTSTART:20250419T090000
DTEND:20250419T101500
SUMMARY:Giants vs. Mariners (PC)
DESCRIPTION:8U Boys - Warner Robins Parks and Recreation 
LOCATION:Simpson - Field 4
CATEGORIES:QuickScores; Baseball - Youth Game
TRANSP:0
DALARM:20250419T070000;PT10M;2;Giants vs. Mariners (PC)
END:VEVENT
BEGIN:VEVENT
DTSTART:20250419T101500
DTEND:20250419T113000
SUMMARY:Braves vs. Astros (PC)
DESCRIPTION:8U Boys - Warner Robins Parks and Recreation 
LOCATION:Simpson - Field 4
CATEGORIES:QuickScores; Baseball - Youth Game
TRANSP:0
DALARM:20250419T081500;PT10M;2;Braves vs. Astros (PC)
END:VEVENT
BEGIN:VEVENT
DTSTART:20250422T180000
DTEND:20250422T191500
SUMMARY:Pirates (PC) vs. Astros (PC)
DESCRIPTION:8U Boys - Warner Robins Parks and Recreation 
LOCATION:North Peach - Field 3
CATEGORIES:QuickScores; Baseball - Youth Game
TRANSP:0
DALARM:20250422T160000;PT10M;2;Pirates (PC) vs. Astros (PC)
END:VEVENT
BEGIN:VEVENT
DTSTART:20250424T180000
DTEND:20250424T191500
SUMMARY:Pirates (PC) vs. Rockies
DESCRIPTION:8U Boys - Warner Robins Parks and Recreation 
LOCATION:North Peach - Field 3
CATEGORIES:QuickScores; Baseball - Youth Game
TRANSP:0
DALARM:20250424T160000;PT10M;2;Pirates (PC) vs. Rockies
END:VEVENT
BEGIN:VEVENT
DTSTART:20250426T090000
DTEND:20250426T101500
SUMMARY:Astros vs. Giants
DESCRIPTION:8U Boys - Warner Robins Parks and Recreation 
LOCATION:Simpson - Field 4
CATEGORIES:QuickScores; Baseball - Youth Game
TRANSP:0
DALARM:20250426T070000;PT10M;2;Astros vs. Giants
END:VEVENT
BEGIN:VEVENT
DTSTART:20250428T181500
DTEND:20250428T193000
SUMMARY:Mariners (PC) vs. Pirates (PC)
DESCRIPTION:8U Boys - Warner Robins Parks and Recreation 
LOCATION:South Peach 1
CATEGORIES:QuickScores; Baseball - Youth Game
TRANSP:0
DALARM:20250428T161500;PT10M;2;Mariners (PC) vs. Pirates (PC)
END:VEVENT
BEGIN:VEVENT
DTSTART:20250428T181500
DTEND:20250428T193000
SUMMARY:Braves vs. Giants
DESCRIPTION:8U Boys - Warner Robins Parks and Recreation 
LOCATION:Simpson - Field 4
CATEGORIES:QuickScores; Baseball - Youth Game
TRANSP:0
DALARM:20250428T161500;PT10M;2;Braves vs. Giants
END:VEVENT
BEGIN:VEVENT
DTSTART:20250429T180000
DTEND:20250429T191500
SUMMARY:Astros vs. Astros (PC)
DESCRIPTION:8U Boys - Warner Robins Parks and Recreation 
LOCATION:Simpson - Field 4
CATEGORIES:QuickScores; Baseball - Youth Game
TRANSP:0
DALARM:20250429T160000;PT10M;2;Astros vs. Astros (PC)
END:VEVENT
BEGIN:VEVENT
DTSTART:20250501T180000
DTEND:20250501T191500
SUMMARY:Astros (PC) vs. Rockies
DESCRIPTION:8U Boys - Warner Robins Parks and Recreation 
LOCATION:North Peach - Field 3
CATEGORIES:QuickScores; Baseball - Youth Game
TRANSP:0
DALARM:20250501T160000;PT10M;2;Astros (PC) vs. Rockies
END:VEVENT
BEGIN:VEVENT
DTSTART:20250503T090000
DTEND:20250503T101500
SUMMARY:Astros vs. Pirates (PC)
DESCRIPTION:8U Boys - Warner Robins Parks and Recreation 
LOCATION:Simpson - Field 4
CATEGORIES:QuickScores; Baseball - Youth Game
TRANSP:0
DALARM:20250503T070000;PT10M;2;Astros vs. Pirates (PC)
END:VEVENT
BEGIN:VEVENT
DTSTART:20250503T101500
DTEND:20250503T113000
SUMMARY:Giants vs. Astros (PC)
DESCRIPTION:8U Boys - Warner Robins Parks and Recreation 
LOCATION:Simpson - Field 4
CATEGORIES:QuickScores; Baseball - Youth Game
TRANSP:0
DALARM:20250503T081500;PT10M;2;Giants vs. Astros (PC)
END:VEVENT
BEGIN:VEVENT
DTSTART:20250503T113000
DTEND:20250503T124500
SUMMARY:Rockies vs. Braves
DESCRIPTION:8U Boys - Warner Robins Parks and Recreation 
LOCATION:Simpson - Field 4
CATEGORIES:QuickScores; Baseball - Youth Game
TRANSP:0
DALARM:20250503T093000;PT10M;2;Rockies vs. Braves
END:VEVENT
BEGIN:VEVENT
DTSTART:20250508T180000
DTEND:20250508T191500
SUMMARY:Mariners (PC) vs. Astros
DESCRIPTION:8U Boys - Warner Robins Parks and Recreation 
LOCATION:North Peach - Field B
CATEGORIES:QuickScores; Baseball - Youth Game
TRANSP:0
DALARM:20250508T160000;PT10M;2;Mariners (PC) vs. Astros
END:VEVENT
BEGIN:VEVENT
DTSTART:20250510T090000
DTEND:20250510T101500
SUMMARY:Astros vs. Braves
DESCRIPTION:Braves Forfeit --- 8U Boys - Warner Robins Parks and Recreation 
LOCATION:Simpson - Field 4
CATEGORIES:QuickScores; Baseball - Youth Game
TRANSP:0
DALARM:20250510T070000;PT10M;2;Astros vs. Braves
END:VEVENT
BEGIN:VEVENT
DTSTART:20250510T101500
DTEND:20250510T113000
SUMMARY:Giants vs. Mariners (PC)
DESCRIPTION:8U Boys - Warner Robins Parks and Recreation 
LOCATION:Simpson - Field 4
CATEGORIES:QuickScores; Baseball - Youth Game
TRANSP:0
DALARM:20250510T081500;PT10M;2;Giants vs. Mariners (PC)
END:VEVENT
BEGIN:VEVENT
DTSTART:20250512T180000
DTEND:20250512T191500
SUMMARY:Astros (PC) vs. Rockies
DESCRIPTION:8U Boys - Warner Robins Parks and Recreation 
LOCATION:North Peach - Field B
CATEGORIES:QuickScores; Baseball - Youth Game
TRANSP:0
DALARM:20250512T160000;PT10M;2;Astros (PC) vs. Rockies
END:VEVENT
BEGIN:VEVENT
DTSTART:20250515T180000
DTEND:20250515T191500
SUMMARY:Rockies vs. Astros
DESCRIPTION:8U Boys - Warner Robins Parks and Recreation 
LOCATION:Simpson - Field 4
CATEGORIES:QuickScores; Baseball - Youth Game
TRANSP:0
DALARM:20250515T160000;PT10M;2;Rockies vs. Astros
END:VEVENT
BEGIN:VEVENT
DTSTART:20250515T191500
DTEND:20250515T203000
SUMMARY:Mariners (PC) vs. Braves
DESCRIPTION:8U Boys - Warner Robins Parks and Recreation 
LOCATION:South Peach 1
CATEGORIES:QuickScores; Baseball - Youth Game
TRANSP:0
DALARM:20250515T171500;PT10M;2;Mariners (PC) vs. Braves
END:VEVENT
BEGIN:VEVENT
DTSTART:20250517T090000
DTEND:20250517T101500
SUMMARY:Giants vs. Pirates (PC)
DESCRIPTION:8U Boys - Warner Robins Parks and Recreation 
LOCATION:Simpson - Field 4
CATEGORIES:QuickScores; Baseball - Youth Game
TRANSP:0
DALARM:20250517T070000;PT10M;2;Giants vs. Pirates (PC)
END:VEVENT
BEGIN:VEVENT
DTSTART:20250519T180000
DTEND:20250519T191500
SUMMARY:Braves vs. Giants
DESCRIPTION:8U Boys - Warner Robins Parks and Recreation 
LOCATION:Simpson - Field 4
CATEGORIES:QuickScores; Baseball - Youth Game
TRANSP:0
DALARM:20250519T160000;PT10M;2;Braves vs. Giants
END:VEVENT
BEGIN:VEVENT
DTSTART:20250519T191500
DTEND:20250519T203000
SUMMARY:Rockies vs. Mariners (PC)
DESCRIPTION:Mariners Forfeit --- 8U Boys - Warner Robins Parks and Recreation 
LOCATION:Simpson - Field 4
CATEGORIES:QuickScores; Baseball - Youth Game
TRANSP:0
DALARM:20250519T171500;PT10M;2;Rockies vs. Mariners (PC)
END:VEVENT
BEGIN:VEVENT
DTSTART:20250522T180000
DTEND:20250522T191500
SUMMARY:Rockies vs. Giants
DESCRIPTION:8U Boys - Warner Robins Parks and Recreation 
LOCATION:Simpson - Field 4
CATEGORIES:QuickScores; Baseball - Youth Game
TRANSP:0
DALARM:20250522T160000;PT10M;2;Rockies vs. Giants
END:VEVENT
BEGIN:VEVENT
DTSTART:20250602T180000
DTEND:20250602T191500
SUMMARY:Astros vs. Braves
DESCRIPTION:8U Boys - Warner Robins Parks and Recreation 
LOCATION:Simpson - Field 4
CATEGORIES:QuickScores; Baseball - Youth Game
TRANSP:0
DALARM:20250602T160000;PT10M;2;Astros vs. Braves
END:VEVENT
BEGIN:VEVENT
DTSTART:20250602T191500
DTEND:20250602T203000
SUMMARY:Rockies vs. Giants
DESCRIPTION:8U Boys - Warner Robins Parks and Recreation 
LOCATION:Simpson - Field 4
CATEGORIES:QuickScores; Baseball - Youth Game
TRANSP:0
DALARM:20250602T171500;PT10M;2;Rockies vs. Giants
END:VEVENT
BEGIN:VEVENT
DTSTART:20250603T180000
DTEND:20250603T191500
SUMMARY:Rockies vs. Astros
DESCRIPTION:8U Boys - Warner Robins Parks and Recreation 
LOCATION:Simpson - Field 4
CATEGORIES:QuickScores; Baseball - Youth Game
TRANSP:0
DALARM:20250603T160000;PT10M;2;Rockies vs. Astros
END:VEVENT
END:VCALENDAR
