BEGIN:VCALENDAR
VERSION:1.0
BEGIN:VEVENT
DTSTART:20250302T080000
DTEND:20250302T093000
SUMMARY:TENACITY 9U vs. WEST COAST PROSPECTS
DESCRIPTION:9U - Top Prospect Athletics
LOCATION:EFF 2
CATEGORIES:QuickScores; Baseball Game
TRANSP:0
DALARM:20250302T060000;PT10M;2;TENACITY 9U vs. WEST COAST PROSPECTS
END:VEVENT
BEGIN:VEVENT
DTSTART:20250302T080000
DTEND:20250302T093000
SUMMARY:HONEYBADGERS 9U vs. MVP WHITE LUNA
DESCRIPTION:9U - Top Prospect Athletics
LOCATION:EFF 4
CATEGORIES:QuickScores; Baseball Game
TRANSP:0
DALARM:20250302T060000;PT10M;2;HONEYBADGERS 9U vs. MVP WHITE LUNA
END:VEVENT
BEGIN:VEVENT
DTSTART:20250302T100000
DTEND:20250302T113000
SUMMARY:WILSHIRE WARRIORS 9U vs. TENACITY 9U
DESCRIPTION:9U - Top Prospect Athletics
LOCATION:EFF 2
CATEGORIES:QuickScores; Baseball Game
TRANSP:0
DALARM:20250302T080000;PT10M;2;WILSHIRE WARRIORS 9U vs. TENACITY 9U
END:VEVENT
BEGIN:VEVENT
DTSTART:20250302T100000
DTEND:20250302T113000
SUMMARY:CV FALCONS vs. HONEYBADGERS 9U
DESCRIPTION:9U - Top Prospect Athletics
LOCATION:EFF 4
CATEGORIES:QuickScores; Baseball Game
TRANSP:0
DALARM:20250302T080000;PT10M;2;CV FALCONS vs. HONEYBADGERS 9U
END:VEVENT
BEGIN:VEVENT
DTSTART:20250302T120000
DTEND:20250302T133000
SUMMARY:WEST COAST PROSPECTS vs. WILSHIRE WARRIORS 9U
DESCRIPTION:9U - Top Prospect Athletics
LOCATION:EFF 2
CATEGORIES:QuickScores; Baseball Game
TRANSP:0
DALARM:20250302T100000;PT10M;2;WEST COAST PROSPECTS vs. WILSHIRE WARRIORS 9U
END:VEVENT
BEGIN:VEVENT
DTSTART:20250302T120000
DTEND:20250302T133000
SUMMARY:MVP WHITE LUNA vs. CV FALCONS
DESCRIPTION:9U - Top Prospect Athletics
LOCATION:EFF 4
CATEGORIES:QuickScores; Baseball Game
TRANSP:0
DALARM:20250302T100000;PT10M;2;MVP WHITE LUNA vs. CV FALCONS
END:VEVENT
BEGIN:VEVENT
DTSTART:20250302T140000
DTEND:20250302T153000
SUMMARY:[A1] TENACITY 9U vs. [B1] HONEYBADGERS 9U
DESCRIPTION:9U - Top Prospect Athletics
LOCATION:EFF 4
CATEGORIES:QuickScores; Baseball Game
TRANSP:0
DALARM:20250302T120000;PT10M;2;[A1] TENACITY 9U vs. [B1] HONEYBADGERS 9U
END:VEVENT
END:VCALENDAR
