BEGIN:VCALENDAR
VERSION:1.0
BEGIN:VEVENT
DTSTART:20250301T173000
DTEND:20250301T175000
SUMMARY:MarcusDinora/NickBrown vs. GarrettHallemeier/NickBorger
DESCRIPTION:Getaway Tournament - Mens - Adv./Competitive - 5:30pm 3/1 - Paddle Up Pickleball Club
LOCATION:Court 4
CATEGORIES:QuickScores; Pickleball Game
TRANSP:0
DALARM:20250301T153000;PT10M;2;MarcusDinora/NickBrown vs. GarrettHallemeier/NickBorger
END:VEVENT
BEGIN:VEVENT
DTSTART:20250301T173000
DTEND:20250301T175000
SUMMARY:CarterSmith/BryceGamache vs. AndrewChekadanov/JohnSchneider
DESCRIPTION:Getaway Tournament - Mens - Adv./Competitive - 5:30pm 3/1 - Paddle Up Pickleball Club
LOCATION:Court 2
CATEGORIES:QuickScores; Pickleball Game
TRANSP:0
DALARM:20250301T153000;PT10M;2;CarterSmith/BryceGamache vs. AndrewChekadanov/JohnSchneider
END:VEVENT
BEGIN:VEVENT
DTSTART:20250301T173000
DTEND:20250301T175000
SUMMARY:RobertBilling/JonathanHarris vs. JonRichert/MollySandhu
DESCRIPTION:Getaway Tournament - Mens - Adv./Competitive - 5:30pm 3/1 - Paddle Up Pickleball Club
LOCATION:Court 6
CATEGORIES:QuickScores; Pickleball Game
TRANSP:0
DALARM:20250301T153000;PT10M;2;RobertBilling/JonathanHarris vs. JonRichert/MollySandhu
END:VEVENT
BEGIN:VEVENT
DTSTART:20250301T173000
DTEND:20250301T175000
SUMMARY:RyanMcCabe/MichaelScharf vs. ColeGorman/LoganBoyher
DESCRIPTION:Getaway Tournament - Mens - Adv./Competitive - 5:30pm 3/1 - Paddle Up Pickleball Club
LOCATION:Court 1
CATEGORIES:QuickScores; Pickleball Game
TRANSP:0
DALARM:20250301T153000;PT10M;2;RyanMcCabe/MichaelScharf vs. ColeGorman/LoganBoyher
END:VEVENT
BEGIN:VEVENT
DTSTART:20250301T175000
DTEND:20250301T181000
SUMMARY:ColeGorman/LoganBoyher vs. MattLandolt/KevinReque
DESCRIPTION:Getaway Tournament - Mens - Adv./Competitive - 5:30pm 3/1 - Paddle Up Pickleball Club
LOCATION:Court 4
CATEGORIES:QuickScores; Pickleball Game
TRANSP:0
DALARM:20250301T155000;PT10M;2;ColeGorman/LoganBoyher vs. MattLandolt/KevinReque
END:VEVENT
BEGIN:VEVENT
DTSTART:20250301T175000
DTEND:20250301T181000
SUMMARY:NickBreeding/MattStoddard vs. AndrewChekadanov/JohnSchneider
DESCRIPTION:Getaway Tournament - Mens - Adv./Competitive - 5:30pm 3/1 - Paddle Up Pickleball Club
LOCATION:Court 2
CATEGORIES:QuickScores; Pickleball Game
TRANSP:0
DALARM:20250301T155000;PT10M;2;NickBreeding/MattStoddard vs. AndrewChekadanov/JohnSchneider
END:VEVENT
BEGIN:VEVENT
DTSTART:20250301T175000
DTEND:20250301T181000
SUMMARY:JonRichert/MollySandhu vs. RyanMcCabe/MichaelScharf
DESCRIPTION:Getaway Tournament - Mens - Adv./Competitive - 5:30pm 3/1 - Paddle Up Pickleball Club
LOCATION:Court 1
CATEGORIES:QuickScores; Pickleball Game
TRANSP:0
DALARM:20250301T155000;PT10M;2;JonRichert/MollySandhu vs. RyanMcCabe/MichaelScharf
END:VEVENT
BEGIN:VEVENT
DTSTART:20250301T175000
DTEND:20250301T181000
SUMMARY:GarrettHallemeier/NickBorger vs. CarterSmith/BryceGamache
DESCRIPTION:Getaway Tournament - Mens - Adv./Competitive - 5:30pm 3/1 - Paddle Up Pickleball Club
LOCATION:Court 6
CATEGORIES:QuickScores; Pickleball Game
TRANSP:0
DALARM:20250301T155000;PT10M;2;GarrettHallemeier/NickBorger vs. CarterSmith/BryceGamache
END:VEVENT
BEGIN:VEVENT
DTSTART:20250301T181000
DTEND:20250301T183000
SUMMARY:AndrewChekadanov/JohnSchneider vs. MarcusDinora/NickBrown
DESCRIPTION:Getaway Tournament - Mens - Adv./Competitive - 5:30pm 3/1 - Paddle Up Pickleball Club
LOCATION:Court 1
CATEGORIES:QuickScores; Pickleball Game
TRANSP:0
DALARM:20250301T161000;PT10M;2;AndrewChekadanov/JohnSchneider vs. MarcusDinora/NickBrown
END:VEVENT
BEGIN:VEVENT
DTSTART:20250301T181000
DTEND:20250301T183000
SUMMARY:MattLandolt/KevinReque vs. RyanMcCabe/MichaelScharf
DESCRIPTION:Getaway Tournament - Mens - Adv./Competitive - 5:30pm 3/1 - Paddle Up Pickleball Club
LOCATION:Court 6
CATEGORIES:QuickScores; Pickleball Game
TRANSP:0
DALARM:20250301T161000;PT10M;2;MattLandolt/KevinReque vs. RyanMcCabe/MichaelScharf
END:VEVENT
BEGIN:VEVENT
DTSTART:20250301T181000
DTEND:20250301T183000
SUMMARY:RobertBilling/JonathanHarris vs. ColeGorman/LoganBoyher
DESCRIPTION:Getaway Tournament - Mens - Adv./Competitive - 5:30pm 3/1 - Paddle Up Pickleball Club
LOCATION:Court 2
CATEGORIES:QuickScores; Pickleball Game
TRANSP:0
DALARM:20250301T161000;PT10M;2;RobertBilling/JonathanHarris vs. ColeGorman/LoganBoyher
END:VEVENT
BEGIN:VEVENT
DTSTART:20250301T181000
DTEND:20250301T183000
SUMMARY:CarterSmith/BryceGamache vs. NickBreeding/MattStoddard
DESCRIPTION:Getaway Tournament - Mens - Adv./Competitive - 5:30pm 3/1 - Paddle Up Pickleball Club
LOCATION:Court 4
CATEGORIES:QuickScores; Pickleball Game
TRANSP:0
DALARM:20250301T161000;PT10M;2;CarterSmith/BryceGamache vs. NickBreeding/MattStoddard
END:VEVENT
BEGIN:VEVENT
DTSTART:20250301T183000
DTEND:20250301T185000
SUMMARY:CarterSmith/BryceGamache vs. MarcusDinora/NickBrown
DESCRIPTION:Getaway Tournament - Mens - Adv./Competitive - 5:30pm 3/1 - Paddle Up Pickleball Club
LOCATION:Court 6
CATEGORIES:QuickScores; Pickleball Game
TRANSP:0
DALARM:20250301T163000;PT10M;2;CarterSmith/BryceGamache vs. MarcusDinora/NickBrown
END:VEVENT
BEGIN:VEVENT
DTSTART:20250301T183000
DTEND:20250301T185000
SUMMARY:NickBreeding/MattStoddard vs. GarrettHallemeier/NickBorger
DESCRIPTION:Getaway Tournament - Mens - Adv./Competitive - 5:30pm 3/1 - Paddle Up Pickleball Club
LOCATION:Court 1
CATEGORIES:QuickScores; Pickleball Game
TRANSP:0
DALARM:20250301T163000;PT10M;2;NickBreeding/MattStoddard vs. GarrettHallemeier/NickBorger
END:VEVENT
BEGIN:VEVENT
DTSTART:20250301T183000
DTEND:20250301T185000
SUMMARY:RobertBilling/JonathanHarris vs. RyanMcCabe/MichaelScharf
DESCRIPTION:Getaway Tournament - Mens - Adv./Competitive - 5:30pm 3/1 - Paddle Up Pickleball Club
LOCATION:Court 2
CATEGORIES:QuickScores; Pickleball Game
TRANSP:0
DALARM:20250301T163000;PT10M;2;RobertBilling/JonathanHarris vs. RyanMcCabe/MichaelScharf
END:VEVENT
BEGIN:VEVENT
DTSTART:20250301T183000
DTEND:20250301T185000
SUMMARY:MattLandolt/KevinReque vs. JonRichert/MollySandhu
DESCRIPTION:Getaway Tournament - Mens - Adv./Competitive - 5:30pm 3/1 - Paddle Up Pickleball Club
LOCATION:Court 4
CATEGORIES:QuickScores; Pickleball Game
TRANSP:0
DALARM:20250301T163000;PT10M;2;MattLandolt/KevinReque vs. JonRichert/MollySandhu
END:VEVENT
BEGIN:VEVENT
DTSTART:20250301T185000
DTEND:20250301T191000
SUMMARY:GarrettHallemeier/NickBorger vs. AndrewChekadanov/JohnSchneider
DESCRIPTION:Getaway Tournament - Mens - Adv./Competitive - 5:30pm 3/1 - Paddle Up Pickleball Club
LOCATION:Court 2
CATEGORIES:QuickScores; Pickleball Game
TRANSP:0
DALARM:20250301T165000;PT10M;2;GarrettHallemeier/NickBorger vs. AndrewChekadanov/JohnSchneider
END:VEVENT
BEGIN:VEVENT
DTSTART:20250301T185000
DTEND:20250301T191000
SUMMARY:NickBreeding/MattStoddard vs. MarcusDinora/NickBrown
DESCRIPTION:Getaway Tournament - Mens - Adv./Competitive - 5:30pm 3/1 - Paddle Up Pickleball Club
LOCATION:Court 4
CATEGORIES:QuickScores; Pickleball Game
TRANSP:0
DALARM:20250301T165000;PT10M;2;NickBreeding/MattStoddard vs. MarcusDinora/NickBrown
END:VEVENT
BEGIN:VEVENT
DTSTART:20250301T185000
DTEND:20250301T191000
SUMMARY:JonRichert/MollySandhu vs. ColeGorman/LoganBoyher
DESCRIPTION:Getaway Tournament - Mens - Adv./Competitive - 5:30pm 3/1 - Paddle Up Pickleball Club
LOCATION:Court 1
CATEGORIES:QuickScores; Pickleball Game
TRANSP:0
DALARM:20250301T165000;PT10M;2;JonRichert/MollySandhu vs. ColeGorman/LoganBoyher
END:VEVENT
BEGIN:VEVENT
DTSTART:20250301T185000
DTEND:20250301T191000
SUMMARY:RobertBilling/JonathanHarris vs. MattLandolt/KevinReque
DESCRIPTION:Getaway Tournament - Mens - Adv./Competitive - 5:30pm 3/1 - Paddle Up Pickleball Club
LOCATION:Court 6
CATEGORIES:QuickScores; Pickleball Game
TRANSP:0
DALARM:20250301T165000;PT10M;2;RobertBilling/JonathanHarris vs. MattLandolt/KevinReque
END:VEVENT
BEGIN:VEVENT
DTSTART:20250301T191000
DTEND:20250301T193000
SUMMARY:ColeGorman/LoganBoyher vs. RyanMcCabe/MichaelScharf
DESCRIPTION:Getaway Tournament - Mens - Adv./Competitive - 5:30pm 3/1 - Paddle Up Pickleball Club
LOCATION:Court 2
CATEGORIES:QuickScores; Pickleball Game
TRANSP:0
DALARM:20250301T171000;PT10M;2;ColeGorman/LoganBoyher vs. RyanMcCabe/MichaelScharf
END:VEVENT
BEGIN:VEVENT
DTSTART:20250301T191000
DTEND:20250301T193000
SUMMARY:JonRichert/MollySandhu vs. RobertBilling/JonathanHarris
DESCRIPTION:Getaway Tournament - Mens - Adv./Competitive - 5:30pm 3/1 - Paddle Up Pickleball Club
LOCATION:Court 6
CATEGORIES:QuickScores; Pickleball Game
TRANSP:0
DALARM:20250301T171000;PT10M;2;JonRichert/MollySandhu vs. RobertBilling/JonathanHarris
END:VEVENT
BEGIN:VEVENT
DTSTART:20250301T191000
DTEND:20250301T193000
SUMMARY:AndrewChekadanov/JohnSchneider vs. CarterSmith/BryceGamache
DESCRIPTION:Getaway Tournament - Mens - Adv./Competitive - 5:30pm 3/1 - Paddle Up Pickleball Club
LOCATION:Court 1
CATEGORIES:QuickScores; Pickleball Game
TRANSP:0
DALARM:20250301T171000;PT10M;2;AndrewChekadanov/JohnSchneider vs. CarterSmith/BryceGamache
END:VEVENT
BEGIN:VEVENT
DTSTART:20250301T191000
DTEND:20250301T193000
SUMMARY:GarrettHallemeier/NickBorger vs. MarcusDinora/NickBrown
DESCRIPTION:Getaway Tournament - Mens - Adv./Competitive - 5:30pm 3/1 - Paddle Up Pickleball Club
LOCATION:Court 4
CATEGORIES:QuickScores; Pickleball Game
TRANSP:0
DALARM:20250301T171000;PT10M;2;GarrettHallemeier/NickBorger vs. MarcusDinora/NickBrown
END:VEVENT
BEGIN:VEVENT
DTSTART:20250301T193000
DTEND:20250301T195000
SUMMARY:CarterSmith/BryceGamache vs. GarrettHallemeier/NickBorger
DESCRIPTION:Getaway Tournament - Mens - Adv./Competitive - 5:30pm 3/1 - Paddle Up Pickleball Club
LOCATION:Court 6
CATEGORIES:QuickScores; Pickleball Game
TRANSP:0
DALARM:20250301T173000;PT10M;2;CarterSmith/BryceGamache vs. GarrettHallemeier/NickBorger
END:VEVENT
BEGIN:VEVENT
DTSTART:20250301T193000
DTEND:20250301T195000
SUMMARY:AndrewChekadanov/JohnSchneider vs. NickBreeding/MattStoddard
DESCRIPTION:Getaway Tournament - Mens - Adv./Competitive - 5:30pm 3/1 - Paddle Up Pickleball Club
LOCATION:Court 4
CATEGORIES:QuickScores; Pickleball Game
TRANSP:0
DALARM:20250301T173000;PT10M;2;AndrewChekadanov/JohnSchneider vs. NickBreeding/MattStoddard
END:VEVENT
BEGIN:VEVENT
DTSTART:20250301T193000
DTEND:20250301T195000
SUMMARY:MattLandolt/KevinReque vs. ColeGorman/LoganBoyher
DESCRIPTION:Getaway Tournament - Mens - Adv./Competitive - 5:30pm 3/1 - Paddle Up Pickleball Club
LOCATION:Court 1
CATEGORIES:QuickScores; Pickleball Game
TRANSP:0
DALARM:20250301T173000;PT10M;2;MattLandolt/KevinReque vs. ColeGorman/LoganBoyher
END:VEVENT
BEGIN:VEVENT
DTSTART:20250301T193000
DTEND:20250301T195000
SUMMARY:RyanMcCabe/MichaelScharf vs. JonRichert/MollySandhu
DESCRIPTION:Getaway Tournament - Mens - Adv./Competitive - 5:30pm 3/1 - Paddle Up Pickleball Club
LOCATION:Court 2
CATEGORIES:QuickScores; Pickleball Game
TRANSP:0
DALARM:20250301T173000;PT10M;2;RyanMcCabe/MichaelScharf vs. JonRichert/MollySandhu
END:VEVENT
BEGIN:VEVENT
DTSTART:20250301T195000
DTEND:20250301T201000
SUMMARY:ColeGorman/LoganBoyher vs. RobertBilling/JonathanHarris
DESCRIPTION:Getaway Tournament - Mens - Adv./Competitive - 5:30pm 3/1 - Paddle Up Pickleball Club
LOCATION:Court 2
CATEGORIES:QuickScores; Pickleball Game
TRANSP:0
DALARM:20250301T175000;PT10M;2;ColeGorman/LoganBoyher vs. RobertBilling/JonathanHarris
END:VEVENT
BEGIN:VEVENT
DTSTART:20250301T195000
DTEND:20250301T201000
SUMMARY:RyanMcCabe/MichaelScharf vs. MattLandolt/KevinReque
DESCRIPTION:Getaway Tournament - Mens - Adv./Competitive - 5:30pm 3/1 - Paddle Up Pickleball Club
LOCATION:Court 4
CATEGORIES:QuickScores; Pickleball Game
TRANSP:0
DALARM:20250301T175000;PT10M;2;RyanMcCabe/MichaelScharf vs. MattLandolt/KevinReque
END:VEVENT
BEGIN:VEVENT
DTSTART:20250301T195000
DTEND:20250301T201000
SUMMARY:MarcusDinora/NickBrown vs. AndrewChekadanov/JohnSchneider
DESCRIPTION:Getaway Tournament - Mens - Adv./Competitive - 5:30pm 3/1 - Paddle Up Pickleball Club
LOCATION:Court 1
CATEGORIES:QuickScores; Pickleball Game
TRANSP:0
DALARM:20250301T175000;PT10M;2;MarcusDinora/NickBrown vs. AndrewChekadanov/JohnSchneider
END:VEVENT
BEGIN:VEVENT
DTSTART:20250301T195000
DTEND:20250301T201000
SUMMARY:NickBreeding/MattStoddard vs. CarterSmith/BryceGamache
DESCRIPTION:Getaway Tournament - Mens - Adv./Competitive - 5:30pm 3/1 - Paddle Up Pickleball Club
LOCATION:Court 6
CATEGORIES:QuickScores; Pickleball Game
TRANSP:0
DALARM:20250301T175000;PT10M;2;NickBreeding/MattStoddard vs. CarterSmith/BryceGamache
END:VEVENT
BEGIN:VEVENT
DTSTART:20250301T201000
DTEND:20250301T203000
SUMMARY:MarcusDinora/NickBrown vs. CarterSmith/BryceGamache
DESCRIPTION:Getaway Tournament - Mens - Adv./Competitive - 5:30pm 3/1 - Paddle Up Pickleball Club
LOCATION:Court 4
CATEGORIES:QuickScores; Pickleball Game
TRANSP:0
DALARM:20250301T181000;PT10M;2;MarcusDinora/NickBrown vs. CarterSmith/BryceGamache
END:VEVENT
BEGIN:VEVENT
DTSTART:20250301T201000
DTEND:20250301T203000
SUMMARY:JonRichert/MollySandhu vs. MattLandolt/KevinReque
DESCRIPTION:Getaway Tournament - Mens - Adv./Competitive - 5:30pm 3/1 - Paddle Up Pickleball Club
LOCATION:Court 1
CATEGORIES:QuickScores; Pickleball Game
TRANSP:0
DALARM:20250301T181000;PT10M;2;JonRichert/MollySandhu vs. MattLandolt/KevinReque
END:VEVENT
BEGIN:VEVENT
DTSTART:20250301T201000
DTEND:20250301T203000
SUMMARY:RyanMcCabe/MichaelScharf vs. RobertBilling/JonathanHarris
DESCRIPTION:Getaway Tournament - Mens - Adv./Competitive - 5:30pm 3/1 - Paddle Up Pickleball Club
LOCATION:Court 6
CATEGORIES:QuickScores; Pickleball Game
TRANSP:0
DALARM:20250301T181000;PT10M;2;RyanMcCabe/MichaelScharf vs. RobertBilling/JonathanHarris
END:VEVENT
BEGIN:VEVENT
DTSTART:20250301T201000
DTEND:20250301T203000
SUMMARY:GarrettHallemeier/NickBorger vs. NickBreeding/MattStoddard
DESCRIPTION:Getaway Tournament - Mens - Adv./Competitive - 5:30pm 3/1 - Paddle Up Pickleball Club
LOCATION:Court 2
CATEGORIES:QuickScores; Pickleball Game
TRANSP:0
DALARM:20250301T181000;PT10M;2;GarrettHallemeier/NickBorger vs. NickBreeding/MattStoddard
END:VEVENT
BEGIN:VEVENT
DTSTART:20250301T203000
DTEND:20250301T205000
SUMMARY:AndrewChekadanov/JohnSchneider vs. GarrettHallemeier/NickBorger
DESCRIPTION:Getaway Tournament - Mens - Adv./Competitive - 5:30pm 3/1 - Paddle Up Pickleball Club
LOCATION:Court 6
CATEGORIES:QuickScores; Pickleball Game
TRANSP:0
DALARM:20250301T183000;PT10M;2;AndrewChekadanov/JohnSchneider vs. GarrettHallemeier/NickBorger
END:VEVENT
BEGIN:VEVENT
DTSTART:20250301T203000
DTEND:20250301T205000
SUMMARY:MarcusDinora/NickBrown vs. NickBreeding/MattStoddard
DESCRIPTION:Getaway Tournament - Mens - Adv./Competitive - 5:30pm 3/1 - Paddle Up Pickleball Club
LOCATION:Court 2
CATEGORIES:QuickScores; Pickleball Game
TRANSP:0
DALARM:20250301T183000;PT10M;2;MarcusDinora/NickBrown vs. NickBreeding/MattStoddard
END:VEVENT
BEGIN:VEVENT
DTSTART:20250301T203000
DTEND:20250301T205000
SUMMARY:ColeGorman/LoganBoyher vs. JonRichert/MollySandhu
DESCRIPTION:Getaway Tournament - Mens - Adv./Competitive - 5:30pm 3/1 - Paddle Up Pickleball Club
LOCATION:Court 1
CATEGORIES:QuickScores; Pickleball Game
TRANSP:0
DALARM:20250301T183000;PT10M;2;ColeGorman/LoganBoyher vs. JonRichert/MollySandhu
END:VEVENT
BEGIN:VEVENT
DTSTART:20250301T203000
DTEND:20250301T205000
SUMMARY:MattLandolt/KevinReque vs. RobertBilling/JonathanHarris
DESCRIPTION:Getaway Tournament - Mens - Adv./Competitive - 5:30pm 3/1 - Paddle Up Pickleball Club
LOCATION:Court 4
CATEGORIES:QuickScores; Pickleball Game
TRANSP:0
DALARM:20250301T183000;PT10M;2;MattLandolt/KevinReque vs. RobertBilling/JonathanHarris
END:VEVENT
END:VCALENDAR
