BEGIN:VCALENDAR
VERSION:1.0
BEGIN:VEVENT
DTSTART:20250308T130000
DTEND:20250308T143000
SUMMARY:Team Texas vs. Texas Rattlers
DESCRIPTION:Men 70 AAA/Major - International Senior Softball Association<br>ISSA
LOCATION:CRC 4
CATEGORIES:QuickScores; Softball Game
TRANSP:0
DALARM:20250308T110000;PT10M;2;Team Texas vs. Texas Rattlers
END:VEVENT
BEGIN:VEVENT
DTSTART:20250309T090000
DTEND:20250309T113000
SUMMARY:Texas Rattlers vs. Team Texas
DESCRIPTION:Men 70 AAA/Major - International Senior Softball Association<br>ISSA
LOCATION:CRC 3
CATEGORIES:QuickScores; Softball Game
TRANSP:0
DALARM:20250309T080000;PT10M;2;Texas Rattlers vs. Team Texas
END:VEVENT
BEGIN:VEVENT
DTSTART:20250309T103000
DTEND:20250309T130000
SUMMARY:Winner of Game 2 vs. Loser of Game 2
DESCRIPTION:Men 70 AAA/Major - International Senior Softball Association<br>ISSA
LOCATION:CRC 3
CATEGORIES:QuickScores; Softball Game
TRANSP:0
DALARM:20250309T093000;PT10M;2;Winner of Game 2 vs. Loser of Game 2
END:VEVENT
END:VCALENDAR
