BEGIN:VCALENDAR
VERSION:1.0
BEGIN:VEVENT
DTSTART:20250308T130000
DTEND:20250308T143000
SUMMARY:Austin Wizards vs. Texas Tornadoes 65’s
DESCRIPTION:Men 65 AA - International Senior Softball Association<br>ISSA
LOCATION:CRC 3
CATEGORIES:QuickScores; Softball Game
TRANSP:0
DALARM:20250308T110000;PT10M;2;Austin Wizards vs. Texas Tornadoes 65’s
END:VEVENT
BEGIN:VEVENT
DTSTART:20250309T090000
DTEND:20250309T113000
SUMMARY:Austin Wizards vs. Texas Tornadoes 65’s
DESCRIPTION:Men 65 AA - International Senior Softball Association<br>ISSA
LOCATION:CRC 4
CATEGORIES:QuickScores; Softball Game
TRANSP:0
DALARM:20250309T080000;PT10M;2;Austin Wizards vs. Texas Tornadoes 65’s
END:VEVENT
BEGIN:VEVENT
DTSTART:20250309T103000
DTEND:20250309T130000
SUMMARY:Texas Tornadoes 65’s vs. Austin Wizards
DESCRIPTION:Men 65 AA - International Senior Softball Association<br>ISSA
LOCATION:CRC 4
CATEGORIES:QuickScores; Softball Game
TRANSP:0
DALARM:20250309T093000;PT10M;2;Texas Tornadoes 65’s vs. Austin Wizards
END:VEVENT
END:VCALENDAR
