BEGIN:VCALENDAR
VERSION:1.0
BEGIN:VEVENT
DTSTART:20250408T190000
DTEND:20250408T210000
SUMMARY:[15] NickBrown/TylerBussmann vs. [4] ChaseBlickhan/AndyBlickhan
DESCRIPTION:PUPC Two Man Progressive Flex Tournament (U9.0) - Paddle Up Pickleball Club
LOCATION:Court 2
CATEGORIES:QuickScores; Pickleball Game
TRANSP:0
DALARM:20250408T170000;PT10M;2;[15] NickBrown/TylerBussmann vs. [4] ChaseBlickhan/AndyBlickhan
END:VEVENT
BEGIN:VEVENT
DTSTART:20250409T180000
DTEND:20250409T200000
SUMMARY:[5] ColeGorman/LoganBoyher vs. [6] JadonWing/IsaiahWing
DESCRIPTION:PUPC Two Man Progressive Flex Tournament (U9.0) - Paddle Up Pickleball Club
LOCATION:Court 2
CATEGORIES:QuickScores; Pickleball Game
TRANSP:0
DALARM:20250409T160000;PT10M;2;[5] ColeGorman/LoganBoyher vs. [6] JadonWing/IsaiahWing
END:VEVENT
END:VCALENDAR
