BEGIN:VCALENDAR
VERSION:1.0
BEGIN:VEVENT
DTSTART:20260307T000000
DTEND:20260307T000000
SUMMARY:Regis vs. Rivier
DESCRIPTION:2026 Men’s Volleyball  ADs approved (1/10/25) - Great Northeast Athletic Conference
LOCATION:Regis Weston MA
CATEGORIES:QuickScores; Volleyball Game
TRANSP:0
DALARM:20260307T000000;PT10M;2;Regis vs. Rivier
END:VEVENT
BEGIN:VEVENT
DTSTART:20260307T000000
DTEND:20260307T000000
SUMMARY:Dean vs. Lasell
DESCRIPTION:2026 Men’s Volleyball  ADs approved (1/10/25) - Great Northeast Athletic Conference
LOCATION:Franklin MA
CATEGORIES:QuickScores; Volleyball Game
TRANSP:0
DALARM:20260307T000000;PT10M;2;Dean vs. Lasell
END:VEVENT
BEGIN:VEVENT
DTSTART:20260307T000000
DTEND:20260307T000000
SUMMARY:Emmanuel vs. Wentworth
DESCRIPTION:2026 Men’s Volleyball  ADs approved (1/10/25) - Great Northeast Athletic Conference
LOCATION:Jean Yawkey Center
CATEGORIES:QuickScores; Volleyball Game
TRANSP:0
DALARM:20260307T000000;PT10M;2;Emmanuel vs. Wentworth
END:VEVENT
BEGIN:VEVENT
DTSTART:20260312T000000
DTEND:20260312T000000
SUMMARY:Lasell vs. Wentworth
DESCRIPTION:2026 Men’s Volleyball  ADs approved (1/10/25) - Great Northeast Athletic Conference
LOCATION:Lasell Newton
CATEGORIES:QuickScores; Volleyball Game
TRANSP:0
DALARM:20260312T000000;PT10M;2;Lasell vs. Wentworth
END:VEVENT
BEGIN:VEVENT
DTSTART:20260312T000000
DTEND:20260312T000000
SUMMARY:Emerson vs. Regis
DESCRIPTION:2026 Men’s Volleyball  ADs approved (1/10/25) - Great Northeast Athletic Conference
LOCATION:Bobbi Brown and Steven Plofker Gym
CATEGORIES:QuickScores; Volleyball Game
TRANSP:0
DALARM:20260312T000000;PT10M;2;Emerson vs. Regis
END:VEVENT
BEGIN:VEVENT
DTSTART:20260312T000000
DTEND:20260312T000000
SUMMARY:Rivier vs. Elms
DESCRIPTION:2026 Men’s Volleyball  ADs approved (1/10/25) - Great Northeast Athletic Conference
LOCATION:Nashua, NH
CATEGORIES:QuickScores; Volleyball Game
TRANSP:0
DALARM:20260312T000000;PT10M;2;Rivier vs. Elms
END:VEVENT
BEGIN:VEVENT
DTSTART:20260312T000000
DTEND:20260312T000000
SUMMARY:Dean vs. Emmanuel
DESCRIPTION:2026 Men’s Volleyball  ADs approved (1/10/25) - Great Northeast Athletic Conference
LOCATION:Franklin MA
CATEGORIES:QuickScores; Volleyball Game
TRANSP:0
DALARM:20260312T000000;PT10M;2;Dean vs. Emmanuel
END:VEVENT
BEGIN:VEVENT
DTSTART:20260314T000000
DTEND:20260314T000000
SUMMARY:Emmanuel vs. Emerson
DESCRIPTION:2026 Men’s Volleyball  ADs approved (1/10/25) - Great Northeast Athletic Conference
LOCATION:Jean Yawkey Center
CATEGORIES:QuickScores; Volleyball Game
TRANSP:0
DALARM:20260314T000000;PT10M;2;Emmanuel vs. Emerson
END:VEVENT
BEGIN:VEVENT
DTSTART:20260314T000000
DTEND:20260314T000000
SUMMARY:Wentworth vs. Rivier
DESCRIPTION:2026 Men’s Volleyball  ADs approved (1/10/25) - Great Northeast Athletic Conference
LOCATION:Wentworth
CATEGORIES:QuickScores; Volleyball Game
TRANSP:0
DALARM:20260314T000000;PT10M;2;Wentworth vs. Rivier
END:VEVENT
BEGIN:VEVENT
DTSTART:20260314T000000
DTEND:20260314T000000
SUMMARY:Regis vs. Elms
DESCRIPTION:2026 Men’s Volleyball  ADs approved (1/10/25) - Great Northeast Athletic Conference
LOCATION:Regis Weston MA
CATEGORIES:QuickScores; Volleyball Game
TRANSP:0
DALARM:20260314T000000;PT10M;2;Regis vs. Elms
END:VEVENT
BEGIN:VEVENT
DTSTART:20260317T000000
DTEND:20260317T000000
SUMMARY:Wentworth vs. Regis
DESCRIPTION:2026 Men’s Volleyball  ADs approved (1/10/25) - Great Northeast Athletic Conference
LOCATION:Wentworth
CATEGORIES:QuickScores; Volleyball Game
TRANSP:0
DALARM:20260317T000000;PT10M;2;Wentworth vs. Regis
END:VEVENT
BEGIN:VEVENT
DTSTART:20260317T000000
DTEND:20260317T000000
SUMMARY:Elms vs. Lasell
DESCRIPTION:2026 Men’s Volleyball  ADs approved (1/10/25) - Great Northeast Athletic Conference
LOCATION:Maguire Center
CATEGORIES:QuickScores; Volleyball Game
TRANSP:0
DALARM:20260317T000000;PT10M;2;Elms vs. Lasell
END:VEVENT
BEGIN:VEVENT
DTSTART:20260317T000000
DTEND:20260317T000000
SUMMARY:Rivier vs. Emerson
DESCRIPTION:2026 Men’s Volleyball  ADs approved (1/10/25) - Great Northeast Athletic Conference
LOCATION:Nashua, NH
CATEGORIES:QuickScores; Volleyball Game
TRANSP:0
DALARM:20260317T000000;PT10M;2;Rivier vs. Emerson
END:VEVENT
BEGIN:VEVENT
DTSTART:20260321T000000
DTEND:20260321T000000
SUMMARY:Rivier vs. Lasell
DESCRIPTION:2026 Men’s Volleyball  ADs approved (1/10/25) - Great Northeast Athletic Conference
LOCATION:Nashua, NH
CATEGORIES:QuickScores; Volleyball Game
TRANSP:0
DALARM:20260321T000000;PT10M;2;Rivier vs. Lasell
END:VEVENT
BEGIN:VEVENT
DTSTART:20260321T000000
DTEND:20260321T000000
SUMMARY:Elms vs. Wentworth
DESCRIPTION:2026 Men’s Volleyball  ADs approved (1/10/25) - Great Northeast Athletic Conference
LOCATION:Maguire Center
CATEGORIES:QuickScores; Volleyball Game
TRANSP:0
DALARM:20260321T000000;PT10M;2;Elms vs. Wentworth
END:VEVENT
BEGIN:VEVENT
DTSTART:20260321T000000
DTEND:20260321T000000
SUMMARY:Emerson vs. Dean
DESCRIPTION:2026 Men’s Volleyball  ADs approved (1/10/25) - Great Northeast Athletic Conference
LOCATION:Bobbi Brown and Steven Plofker Gym
CATEGORIES:QuickScores; Volleyball Game
TRANSP:0
DALARM:20260321T000000;PT10M;2;Emerson vs. Dean
END:VEVENT
BEGIN:VEVENT
DTSTART:20260326T000000
DTEND:20260326T000000
SUMMARY:Wentworth vs. Emerson
DESCRIPTION:2026 Men’s Volleyball  ADs approved (1/10/25) - Great Northeast Athletic Conference
LOCATION:Wentworth
CATEGORIES:QuickScores; Volleyball Game
TRANSP:0
DALARM:20260326T000000;PT10M;2;Wentworth vs. Emerson
END:VEVENT
BEGIN:VEVENT
DTSTART:20260326T000000
DTEND:20260326T000000
SUMMARY:Lasell vs. Emmanuel
DESCRIPTION:2026 Men’s Volleyball  ADs approved (1/10/25) - Great Northeast Athletic Conference
LOCATION:Lasell Newton
CATEGORIES:QuickScores; Volleyball Game
TRANSP:0
DALARM:20260326T000000;PT10M;2;Lasell vs. Emmanuel
END:VEVENT
BEGIN:VEVENT
DTSTART:20260326T000000
DTEND:20260326T000000
SUMMARY:Regis vs. Dean
DESCRIPTION:2026 Men’s Volleyball  ADs approved (1/10/25) - Great Northeast Athletic Conference
LOCATION:Regis Weston MA
CATEGORIES:QuickScores; Volleyball Game
TRANSP:0
DALARM:20260326T000000;PT10M;2;Regis vs. Dean
END:VEVENT
BEGIN:VEVENT
DTSTART:20260328T000000
DTEND:20260328T000000
SUMMARY:Emmanuel vs. Regis
DESCRIPTION:2026 Men’s Volleyball  ADs approved (1/10/25) - Great Northeast Athletic Conference
LOCATION:Jean Yawkey Center
CATEGORIES:QuickScores; Volleyball Game
TRANSP:0
DALARM:20260328T000000;PT10M;2;Emmanuel vs. Regis
END:VEVENT
BEGIN:VEVENT
DTSTART:20260328T000000
DTEND:20260328T000000
SUMMARY:Dean vs. Elms
DESCRIPTION:2026 Men’s Volleyball  ADs approved (1/10/25) - Great Northeast Athletic Conference
LOCATION:Franklin MA
CATEGORIES:QuickScores; Volleyball Game
TRANSP:0
DALARM:20260328T000000;PT10M;2;Dean vs. Elms
END:VEVENT
BEGIN:VEVENT
DTSTART:20260328T000000
DTEND:20260328T000000
SUMMARY:Lasell vs. Emerson
DESCRIPTION:2026 Men’s Volleyball  ADs approved (1/10/25) - Great Northeast Athletic Conference
LOCATION:Lasell Newton
CATEGORIES:QuickScores; Volleyball Game
TRANSP:0
DALARM:20260328T000000;PT10M;2;Lasell vs. Emerson
END:VEVENT
BEGIN:VEVENT
DTSTART:20260331T000000
DTEND:20260331T000000
SUMMARY:Emerson vs. Elms
DESCRIPTION:2026 Men’s Volleyball  ADs approved (1/10/25) - Great Northeast Athletic Conference
LOCATION:Bobbi Brown and Steven Plofker Gym
CATEGORIES:QuickScores; Volleyball Game
TRANSP:0
DALARM:20260331T000000;PT10M;2;Emerson vs. Elms
END:VEVENT
BEGIN:VEVENT
DTSTART:20260331T000000
DTEND:20260331T000000
SUMMARY:Emmanuel vs. Rivier
DESCRIPTION:2026 Men’s Volleyball  ADs approved (1/10/25) - Great Northeast Athletic Conference
LOCATION:Jean Yawkey Center
CATEGORIES:QuickScores; Volleyball Game
TRANSP:0
DALARM:20260331T000000;PT10M;2;Emmanuel vs. Rivier
END:VEVENT
BEGIN:VEVENT
DTSTART:20260331T000000
DTEND:20260331T000000
SUMMARY:Dean vs. Wentworth
DESCRIPTION:2026 Men’s Volleyball  ADs approved (1/10/25) - Great Northeast Athletic Conference
LOCATION:Franklin MA
CATEGORIES:QuickScores; Volleyball Game
TRANSP:0
DALARM:20260331T000000;PT10M;2;Dean vs. Wentworth
END:VEVENT
BEGIN:VEVENT
DTSTART:20260404T000000
DTEND:20260404T000000
SUMMARY:Elms vs. Emmanuel
DESCRIPTION:2026 Men’s Volleyball  ADs approved (1/10/25) - Great Northeast Athletic Conference
LOCATION:Maguire Center
CATEGORIES:QuickScores; Volleyball Game
TRANSP:0
DALARM:20260404T000000;PT10M;2;Elms vs. Emmanuel
END:VEVENT
BEGIN:VEVENT
DTSTART:20260404T000000
DTEND:20260404T000000
SUMMARY:Regis vs. Lasell
DESCRIPTION:2026 Men’s Volleyball  ADs approved (1/10/25) - Great Northeast Athletic Conference
LOCATION:Regis Weston MA
CATEGORIES:QuickScores; Volleyball Game
TRANSP:0
DALARM:20260404T000000;PT10M;2;Regis vs. Lasell
END:VEVENT
BEGIN:VEVENT
DTSTART:20260404T000000
DTEND:20260404T000000
SUMMARY:Rivier vs. Dean
DESCRIPTION:2026 Men’s Volleyball  ADs approved (1/10/25) - Great Northeast Athletic Conference
LOCATION:Nashua, NH
CATEGORIES:QuickScores; Volleyball Game
TRANSP:0
DALARM:20260404T000000;PT10M;2;Rivier vs. Dean
END:VEVENT
BEGIN:VEVENT
DTSTART:20260407T000000
DTEND:20260407T000000
SUMMARY:#3 Seed vs. #6 Seed
DESCRIPTION:2026 Men’s Volleyball  ADs approved (1/10/25) - Great Northeast Athletic Conference
LOCATION:Court of #3 seed
CATEGORIES:QuickScores; Volleyball Game
TRANSP:0
DALARM:20260407T000000;PT10M;2;#3 Seed vs. #6 Seed
END:VEVENT
BEGIN:VEVENT
DTSTART:20260407T000000
DTEND:20260407T000000
SUMMARY:#4 Seed vs. #5 Seed
DESCRIPTION:2026 Men’s Volleyball  ADs approved (1/10/25) - Great Northeast Athletic Conference
LOCATION:Court of #4 seed
CATEGORIES:QuickScores; Volleyball Game
TRANSP:0
DALARM:20260407T000000;PT10M;2;#4 Seed vs. #5 Seed
END:VEVENT
BEGIN:VEVENT
DTSTART:20260409T000000
DTEND:20260409T000000
SUMMARY:#1 Seed vs. Winner of Game 1
DESCRIPTION:2026 Men’s Volleyball  ADs approved (1/10/25) - Great Northeast Athletic Conference
LOCATION:Court of #1 seed
CATEGORIES:QuickScores; Volleyball Game
TRANSP:0
DALARM:20260409T000000;PT10M;2;#1 Seed vs. Winner of Game 1
END:VEVENT
BEGIN:VEVENT
DTSTART:20260409T000000
DTEND:20260409T000000
SUMMARY:#2 Seed vs. Winner of Game 2
DESCRIPTION:2026 Men’s Volleyball  ADs approved (1/10/25) - Great Northeast Athletic Conference
LOCATION:Court of #2 seed
CATEGORIES:QuickScores; Volleyball Game
TRANSP:0
DALARM:20260409T000000;PT10M;2;#2 Seed vs. Winner of Game 2
END:VEVENT
BEGIN:VEVENT
DTSTART:20260411T000000
DTEND:20260411T000000
SUMMARY:Winner of Game 3 vs. Winner of Game 4
DESCRIPTION:2026 Men’s Volleyball  ADs approved (1/10/25) - Great Northeast Athletic Conference
LOCATION:Hosted by highest remaining seed
CATEGORIES:QuickScores; Volleyball Game
TRANSP:0
DALARM:20260411T000000;PT10M;2;Winner of Game 3 vs. Winner of Game 4
END:VEVENT
END:VCALENDAR
