BEGIN:VCALENDAR
VERSION:1.0
BEGIN:VEVENT
DTSTART:20250104T120000
DTEND:20250104T130000
SUMMARY:Dream - Theurer vs. Fever - Clements
DESCRIPTION:1-2 Grade Girls - Smithfield Recreation
LOCATION:Summit Elementary
CATEGORIES:QuickScores; Basketball - Youth Game
TRANSP:0
DALARM:20250104T100000;PT10M;2;Dream - Theurer vs. Fever - Clements
END:VEVENT
BEGIN:VEVENT
DTSTART:20250104T130000
DTEND:20250104T140000
SUMMARY:Lynx - Hansen vs. Aces - Croshaw
DESCRIPTION:1-2 Grade Girls - Smithfield Recreation
LOCATION:Summit Elementary
CATEGORIES:QuickScores; Basketball - Youth Game
TRANSP:0
DALARM:20250104T110000;PT10M;2;Lynx - Hansen vs. Aces - Croshaw
END:VEVENT
BEGIN:VEVENT
DTSTART:20250104T140000
DTEND:20250104T150000
SUMMARY:Sparks - Downey vs. Liberty - Tarbet
DESCRIPTION:1-2 Grade Girls - Smithfield Recreation
LOCATION:Summit Elementary
CATEGORIES:QuickScores; Basketball - Youth Game
TRANSP:0
DALARM:20250104T120000;PT10M;2;Sparks - Downey vs. Liberty - Tarbet
END:VEVENT
BEGIN:VEVENT
DTSTART:20250111T080000
DTEND:20250111T090000
SUMMARY:Dream - Theurer vs. Aces - Croshaw
DESCRIPTION:1-2 Grade Girls - Smithfield Recreation
LOCATION:Summit Elementary
CATEGORIES:QuickScores; Basketball - Youth Game
TRANSP:0
DALARM:20250111T060000;PT10M;2;Dream - Theurer vs. Aces - Croshaw
END:VEVENT
BEGIN:VEVENT
DTSTART:20250111T090000
DTEND:20250111T100000
SUMMARY:Lynx - Hansen vs. Sparks - Downey
DESCRIPTION:1-2 Grade Girls - Smithfield Recreation
LOCATION:Summit Elementary
CATEGORIES:QuickScores; Basketball - Youth Game
TRANSP:0
DALARM:20250111T070000;PT10M;2;Lynx - Hansen vs. Sparks - Downey
END:VEVENT
BEGIN:VEVENT
DTSTART:20250111T100000
DTEND:20250111T110000
SUMMARY:Fever - Clements vs. Liberty - Tarbet
DESCRIPTION:1-2 Grade Girls - Smithfield Recreation
LOCATION:Summit Elementary
CATEGORIES:QuickScores; Basketball - Youth Game
TRANSP:0
DALARM:20250111T080000;PT10M;2;Fever - Clements vs. Liberty - Tarbet
END:VEVENT
BEGIN:VEVENT
DTSTART:20250118T120000
DTEND:20250118T130000
SUMMARY:Aces - Croshaw vs. Fever - Clements
DESCRIPTION:1-2 Grade Girls - Smithfield Recreation
LOCATION:Summit Elementary
CATEGORIES:QuickScores; Basketball - Youth Game
TRANSP:0
DALARM:20250118T100000;PT10M;2;Aces - Croshaw vs. Fever - Clements
END:VEVENT
BEGIN:VEVENT
DTSTART:20250118T130000
DTEND:20250118T140000
SUMMARY:Lynx - Hansen vs. Liberty - Tarbet
DESCRIPTION:1-2 Grade Girls - Smithfield Recreation
LOCATION:Summit Elementary
CATEGORIES:QuickScores; Basketball - Youth Game
TRANSP:0
DALARM:20250118T110000;PT10M;2;Lynx - Hansen vs. Liberty - Tarbet
END:VEVENT
BEGIN:VEVENT
DTSTART:20250118T140000
DTEND:20250118T150000
SUMMARY:Sparks - Downey vs. Dream - Theurer
DESCRIPTION:1-2 Grade Girls - Smithfield Recreation
LOCATION:Summit Elementary
CATEGORIES:QuickScores; Basketball - Youth Game
TRANSP:0
DALARM:20250118T120000;PT10M;2;Sparks - Downey vs. Dream - Theurer
END:VEVENT
BEGIN:VEVENT
DTSTART:20250125T080000
DTEND:20250125T090000
SUMMARY:Lynx - Hansen vs. Dream - Theurer
DESCRIPTION:1-2 Grade Girls - Smithfield Recreation
LOCATION:Summit Elementary
CATEGORIES:QuickScores; Basketball - Youth Game
TRANSP:0
DALARM:20250125T060000;PT10M;2;Lynx - Hansen vs. Dream - Theurer
END:VEVENT
BEGIN:VEVENT
DTSTART:20250125T090000
DTEND:20250125T100000
SUMMARY:Fever - Clements vs. Sparks - Downey
DESCRIPTION:1-2 Grade Girls - Smithfield Recreation
LOCATION:Summit Elementary
CATEGORIES:QuickScores; Basketball - Youth Game
TRANSP:0
DALARM:20250125T070000;PT10M;2;Fever - Clements vs. Sparks - Downey
END:VEVENT
BEGIN:VEVENT
DTSTART:20250125T100000
DTEND:20250125T110000
SUMMARY:Liberty - Tarbet vs. Aces - Croshaw
DESCRIPTION:1-2 Grade Girls - Smithfield Recreation
LOCATION:Summit Elementary
CATEGORIES:QuickScores; Basketball - Youth Game
TRANSP:0
DALARM:20250125T080000;PT10M;2;Liberty - Tarbet vs. Aces - Croshaw
END:VEVENT
BEGIN:VEVENT
DTSTART:20250201T120000
DTEND:20250201T130000
SUMMARY:Aces - Croshaw vs. Sparks - Downey
DESCRIPTION:1-2 Grade Girls - Smithfield Recreation
LOCATION:Summit Elementary
CATEGORIES:QuickScores; Basketball - Youth Game
TRANSP:0
DALARM:20250201T100000;PT10M;2;Aces - Croshaw vs. Sparks - Downey
END:VEVENT
BEGIN:VEVENT
DTSTART:20250201T130000
DTEND:20250201T140000
SUMMARY:Dream - Theurer vs. Liberty - Tarbet
DESCRIPTION:1-2 Grade Girls - Smithfield Recreation
LOCATION:Summit Elementary
CATEGORIES:QuickScores; Basketball - Youth Game
TRANSP:0
DALARM:20250201T110000;PT10M;2;Dream - Theurer vs. Liberty - Tarbet
END:VEVENT
BEGIN:VEVENT
DTSTART:20250201T140000
DTEND:20250201T150000
SUMMARY:Fever - Clements vs. Lynx - Hansen
DESCRIPTION:1-2 Grade Girls - Smithfield Recreation
LOCATION:Summit Elementary
CATEGORIES:QuickScores; Basketball - Youth Game
TRANSP:0
DALARM:20250201T120000;PT10M;2;Fever - Clements vs. Lynx - Hansen
END:VEVENT
BEGIN:VEVENT
DTSTART:20250208T080000
DTEND:20250208T090000
SUMMARY:Liberty - Tarbet vs. Sparks - Downey
DESCRIPTION:1-2 Grade Girls - Smithfield Recreation
LOCATION:Summit Elementary
CATEGORIES:QuickScores; Basketball - Youth Game
TRANSP:0
DALARM:20250208T060000;PT10M;2;Liberty - Tarbet vs. Sparks - Downey
END:VEVENT
BEGIN:VEVENT
DTSTART:20250208T090000
DTEND:20250208T100000
SUMMARY:Fever - Clements vs. Dream - Theurer
DESCRIPTION:1-2 Grade Girls - Smithfield Recreation
LOCATION:Summit Elementary
CATEGORIES:QuickScores; Basketball - Youth Game
TRANSP:0
DALARM:20250208T070000;PT10M;2;Fever - Clements vs. Dream - Theurer
END:VEVENT
BEGIN:VEVENT
DTSTART:20250208T100000
DTEND:20250208T110000
SUMMARY:Aces - Croshaw vs. Lynx - Hansen
DESCRIPTION:1-2 Grade Girls - Smithfield Recreation
LOCATION:Summit Elementary
CATEGORIES:QuickScores; Basketball - Youth Game
TRANSP:0
DALARM:20250208T080000;PT10M;2;Aces - Croshaw vs. Lynx - Hansen
END:VEVENT
BEGIN:VEVENT
DTSTART:20250222T120000
DTEND:20250222T130000
SUMMARY:Liberty - Tarbet vs. Lynx - Hansen
DESCRIPTION:1-2 Grade Girls - Smithfield Recreation
LOCATION:Summit Elementary
CATEGORIES:QuickScores; Basketball - Youth Game
TRANSP:0
DALARM:20250222T100000;PT10M;2;Liberty - Tarbet vs. Lynx - Hansen
END:VEVENT
BEGIN:VEVENT
DTSTART:20250222T130000
DTEND:20250222T140000
SUMMARY:Fever - Clements vs. Aces - Croshaw
DESCRIPTION:1-2 Grade Girls - Smithfield Recreation
LOCATION:Summit Elementary
CATEGORIES:QuickScores; Basketball - Youth Game
TRANSP:0
DALARM:20250222T110000;PT10M;2;Fever - Clements vs. Aces - Croshaw
END:VEVENT
BEGIN:VEVENT
DTSTART:20250222T140000
DTEND:20250222T150000
SUMMARY:Dream - Theurer vs. Sparks - Downey
DESCRIPTION:1-2 Grade Girls - Smithfield Recreation
LOCATION:Summit Elementary
CATEGORIES:QuickScores; Basketball - Youth Game
TRANSP:0
DALARM:20250222T120000;PT10M;2;Dream - Theurer vs. Sparks - Downey
END:VEVENT
BEGIN:VEVENT
DTSTART:20250301T080000
DTEND:20250301T090000
SUMMARY:Aces - Croshaw vs. Liberty - Tarbet
DESCRIPTION:1-2 Grade Girls - Smithfield Recreation
LOCATION:Summit Elementary
CATEGORIES:QuickScores; Basketball - Youth Game
TRANSP:0
DALARM:20250301T060000;PT10M;2;Aces - Croshaw vs. Liberty - Tarbet
END:VEVENT
BEGIN:VEVENT
DTSTART:20250301T090000
DTEND:20250301T100000
SUMMARY:Sparks - Downey vs. Fever - Clements
DESCRIPTION:1-2 Grade Girls - Smithfield Recreation
LOCATION:Summit Elementary
CATEGORIES:QuickScores; Basketball - Youth Game
TRANSP:0
DALARM:20250301T070000;PT10M;2;Sparks - Downey vs. Fever - Clements
END:VEVENT
BEGIN:VEVENT
DTSTART:20250301T100000
DTEND:20250301T110000
SUMMARY:Dream - Theurer vs. Lynx - Hansen
DESCRIPTION:1-2 Grade Girls - Smithfield Recreation
LOCATION:Summit Elementary
CATEGORIES:QuickScores; Basketball - Youth Game
TRANSP:0
DALARM:20250301T080000;PT10M;2;Dream - Theurer vs. Lynx - Hansen
END:VEVENT
END:VCALENDAR
