BEGIN:VCALENDAR
VERSION:1.0
BEGIN:VEVENT
DTSTART:20241213T183000
DTEND:20241213T185000
SUMMARY:Eddy/Hiatt vs. RPainter/BRaycraft
DESCRIPTION:Friday Night Tourney 12/13 - 6pm - Paddle Up Pickleball Club
LOCATION:Court 3
CATEGORIES:QuickScores; Pickleball Game
TRANSP:0
DALARM:20241213T163000;PT10M;2;Eddy/Hiatt vs. RPainter/BRaycraft
END:VEVENT
BEGIN:VEVENT
DTSTART:20241213T183000
DTEND:20241213T185000
SUMMARY:Goldman/Goldman vs. DeLuca/Sevilla
DESCRIPTION:Friday Night Tourney 12/13 - 6pm - Paddle Up Pickleball Club
LOCATION:Court 9
CATEGORIES:QuickScores; Pickleball Game
TRANSP:0
DALARM:20241213T163000;PT10M;2;Goldman/Goldman vs. DeLuca/Sevilla
END:VEVENT
BEGIN:VEVENT
DTSTART:20241213T183000
DTEND:20241213T185000
SUMMARY:Singleton/Outman vs. Cohea/NPainter
DESCRIPTION:Friday Night Tourney 12/13 - 6pm - Paddle Up Pickleball Club
LOCATION:Court 8
CATEGORIES:QuickScores; Pickleball Game
TRANSP:0
DALARM:20241213T163000;PT10M;2;Singleton/Outman vs. Cohea/NPainter
END:VEVENT
BEGIN:VEVENT
DTSTART:20241213T183000
DTEND:20241213T185000
SUMMARY:Chu/Woodard vs. Castagna/Stine
DESCRIPTION:Friday Night Tourney 12/13 - 6pm - Paddle Up Pickleball Club
LOCATION:Court 6
CATEGORIES:QuickScores; Pickleball Game
TRANSP:0
DALARM:20241213T163000;PT10M;2;Chu/Woodard vs. Castagna/Stine
END:VEVENT
BEGIN:VEVENT
DTSTART:20241213T183000
DTEND:20241213T185000
SUMMARY:Heinrich/Reidelberger vs. Langlois/Partner
DESCRIPTION:Friday Night Tourney 12/13 - 6pm - Paddle Up Pickleball Club
LOCATION:Court 2
CATEGORIES:QuickScores; Pickleball Game
TRANSP:0
DALARM:20241213T163000;PT10M;2;Heinrich/Reidelberger vs. Langlois/Partner
END:VEVENT
BEGIN:VEVENT
DTSTART:20241213T183000
DTEND:20241213T185000
SUMMARY:Durham/Durham vs. VanAmburgh/Clay
DESCRIPTION:Friday Night Tourney 12/13 - 6pm - Paddle Up Pickleball Club
LOCATION:Court 4
CATEGORIES:QuickScores; Pickleball Game
TRANSP:0
DALARM:20241213T163000;PT10M;2;Durham/Durham vs. VanAmburgh/Clay
END:VEVENT
BEGIN:VEVENT
DTSTART:20241213T183000
DTEND:20241213T185000
SUMMARY:Gonzalez/Gonzalez vs. El-Haw/Shoela
DESCRIPTION:Friday Night Tourney 12/13 - 6pm - Paddle Up Pickleball Club
LOCATION:Court 5
CATEGORIES:QuickScores; Pickleball Game
TRANSP:0
DALARM:20241213T163000;PT10M;2;Gonzalez/Gonzalez vs. El-Haw/Shoela
END:VEVENT
BEGIN:VEVENT
DTSTART:20241213T183000
DTEND:20241213T185000
SUMMARY:Harris/Rizzo vs. Roth/Roth
DESCRIPTION:Friday Night Tourney 12/13 - 6pm - Paddle Up Pickleball Club
LOCATION:Court 7
CATEGORIES:QuickScores; Pickleball Game
TRANSP:0
DALARM:20241213T163000;PT10M;2;Harris/Rizzo vs. Roth/Roth
END:VEVENT
BEGIN:VEVENT
DTSTART:20241213T185000
DTEND:20241213T191000
SUMMARY:Langlois/Partner vs. Eckman/Eckman
DESCRIPTION:Friday Night Tourney 12/13 - 6pm - Paddle Up Pickleball Club
LOCATION:Court 4
CATEGORIES:QuickScores; Pickleball Game
TRANSP:0
DALARM:20241213T165000;PT10M;2;Langlois/Partner vs. Eckman/Eckman
END:VEVENT
BEGIN:VEVENT
DTSTART:20241213T185000
DTEND:20241213T191000
SUMMARY:Singleton/Outman vs. HPainter/JRaycraft
DESCRIPTION:Friday Night Tourney 12/13 - 6pm - Paddle Up Pickleball Club
LOCATION:Court 6
CATEGORIES:QuickScores; Pickleball Game
TRANSP:0
DALARM:20241213T165000;PT10M;2;Singleton/Outman vs. HPainter/JRaycraft
END:VEVENT
BEGIN:VEVENT
DTSTART:20241213T185000
DTEND:20241213T191000
SUMMARY:El-Haw/Shoela vs. VanAmburgh/Olinick
DESCRIPTION:Friday Night Tourney 12/13 - 6pm - Paddle Up Pickleball Club
LOCATION:Court 5
CATEGORIES:QuickScores; Pickleball Game
TRANSP:0
DALARM:20241213T165000;PT10M;2;El-Haw/Shoela vs. VanAmburgh/Olinick
END:VEVENT
BEGIN:VEVENT
DTSTART:20241213T185000
DTEND:20241213T191000
SUMMARY:Harris/Rizzo vs. Goldman/Goldman
DESCRIPTION:Friday Night Tourney 12/13 - 6pm - Paddle Up Pickleball Club
LOCATION:Court 9
CATEGORIES:QuickScores; Pickleball Game
TRANSP:0
DALARM:20241213T165000;PT10M;2;Harris/Rizzo vs. Goldman/Goldman
END:VEVENT
BEGIN:VEVENT
DTSTART:20241213T185000
DTEND:20241213T191000
SUMMARY:Wilson/Schulte vs. Eddy/Hiatt
DESCRIPTION:Friday Night Tourney 12/13 - 6pm - Paddle Up Pickleball Club
LOCATION:Court 2
CATEGORIES:QuickScores; Pickleball Game
TRANSP:0
DALARM:20241213T165000;PT10M;2;Wilson/Schulte vs. Eddy/Hiatt
END:VEVENT
BEGIN:VEVENT
DTSTART:20241213T185000
DTEND:20241213T191000
SUMMARY:Wunderlich/Wunderlich vs. Cohea/NPainter
DESCRIPTION:Friday Night Tourney 12/13 - 6pm - Paddle Up Pickleball Club
LOCATION:Court 3
CATEGORIES:QuickScores; Pickleball Game
TRANSP:0
DALARM:20241213T165000;PT10M;2;Wunderlich/Wunderlich vs. Cohea/NPainter
END:VEVENT
BEGIN:VEVENT
DTSTART:20241213T185000
DTEND:20241213T191000
SUMMARY:Maus/Huff vs. Durham/Durham
DESCRIPTION:Friday Night Tourney 12/13 - 6pm - Paddle Up Pickleball Club
LOCATION:Court 7
CATEGORIES:QuickScores; Pickleball Game
TRANSP:0
DALARM:20241213T165000;PT10M;2;Maus/Huff vs. Durham/Durham
END:VEVENT
BEGIN:VEVENT
DTSTART:20241213T185000
DTEND:20241213T191000
SUMMARY:Rieck/Rue vs. VanAmburgh/Clay
DESCRIPTION:Friday Night Tourney 12/13 - 6pm - Paddle Up Pickleball Club
LOCATION:Court 8
CATEGORIES:QuickScores; Pickleball Game
TRANSP:0
DALARM:20241213T165000;PT10M;2;Rieck/Rue vs. VanAmburgh/Clay
END:VEVENT
BEGIN:VEVENT
DTSTART:20241213T191000
DTEND:20241213T193000
SUMMARY:Wilson/Schulte vs. HPainter/JRaycraft
DESCRIPTION:Friday Night Tourney 12/13 - 6pm - Paddle Up Pickleball Club
LOCATION:Court 9
CATEGORIES:QuickScores; Pickleball Game
TRANSP:0
DALARM:20241213T171000;PT10M;2;Wilson/Schulte vs. HPainter/JRaycraft
END:VEVENT
BEGIN:VEVENT
DTSTART:20241213T191000
DTEND:20241213T193000
SUMMARY:VanAmburgh/Olinick vs. DeLuca/Sevilla
DESCRIPTION:Friday Night Tourney 12/13 - 6pm - Paddle Up Pickleball Club
LOCATION:Court 6
CATEGORIES:QuickScores; Pickleball Game
TRANSP:0
DALARM:20241213T171000;PT10M;2;VanAmburgh/Olinick vs. DeLuca/Sevilla
END:VEVENT
BEGIN:VEVENT
DTSTART:20241213T191000
DTEND:20241213T193000
SUMMARY:Heinrich/Reidelberger vs. Maus/Huff
DESCRIPTION:Friday Night Tourney 12/13 - 6pm - Paddle Up Pickleball Club
LOCATION:Court 8
CATEGORIES:QuickScores; Pickleball Game
TRANSP:0
DALARM:20241213T171000;PT10M;2;Heinrich/Reidelberger vs. Maus/Huff
END:VEVENT
BEGIN:VEVENT
DTSTART:20241213T191000
DTEND:20241213T193000
SUMMARY:Rieck/Rue vs. Chu/Woodard
DESCRIPTION:Friday Night Tourney 12/13 - 6pm - Paddle Up Pickleball Club
LOCATION:Court 2
CATEGORIES:QuickScores; Pickleball Game
TRANSP:0
DALARM:20241213T171000;PT10M;2;Rieck/Rue vs. Chu/Woodard
END:VEVENT
BEGIN:VEVENT
DTSTART:20241213T191000
DTEND:20241213T193000
SUMMARY:Roth/Roth vs. Gonzalez/Gonzalez
DESCRIPTION:Friday Night Tourney 12/13 - 6pm - Paddle Up Pickleball Club
LOCATION:Court 5
CATEGORIES:QuickScores; Pickleball Game
TRANSP:0
DALARM:20241213T171000;PT10M;2;Roth/Roth vs. Gonzalez/Gonzalez
END:VEVENT
BEGIN:VEVENT
DTSTART:20241213T191000
DTEND:20241213T193000
SUMMARY:RPainter/BRaycraft vs. Singleton/Outman
DESCRIPTION:Friday Night Tourney 12/13 - 6pm - Paddle Up Pickleball Club
LOCATION:Court 4
CATEGORIES:QuickScores; Pickleball Game
TRANSP:0
DALARM:20241213T171000;PT10M;2;RPainter/BRaycraft vs. Singleton/Outman
END:VEVENT
BEGIN:VEVENT
DTSTART:20241213T191000
DTEND:20241213T193000
SUMMARY:Eddy/Hiatt vs. Wunderlich/Wunderlich
DESCRIPTION:Friday Night Tourney 12/13 - 6pm - Paddle Up Pickleball Club
LOCATION:Court 3
CATEGORIES:QuickScores; Pickleball Game
TRANSP:0
DALARM:20241213T171000;PT10M;2;Eddy/Hiatt vs. Wunderlich/Wunderlich
END:VEVENT
BEGIN:VEVENT
DTSTART:20241213T191000
DTEND:20241213T193000
SUMMARY:Eckman/Eckman vs. Castagna/Stine
DESCRIPTION:Friday Night Tourney 12/13 - 6pm - Paddle Up Pickleball Club
LOCATION:Court 7
CATEGORIES:QuickScores; Pickleball Game
TRANSP:0
DALARM:20241213T171000;PT10M;2;Eckman/Eckman vs. Castagna/Stine
END:VEVENT
BEGIN:VEVENT
DTSTART:20241213T193000
DTEND:20241213T195000
SUMMARY:Cohea/NPainter vs. Wilson/Schulte
DESCRIPTION:Friday Night Tourney 12/13 - 6pm - Paddle Up Pickleball Club
LOCATION:Court 5
CATEGORIES:QuickScores; Pickleball Game
TRANSP:0
DALARM:20241213T173000;PT10M;2;Cohea/NPainter vs. Wilson/Schulte
END:VEVENT
BEGIN:VEVENT
DTSTART:20241213T193000
DTEND:20241213T195000
SUMMARY:Durham/Durham vs. Langlois/Partner
DESCRIPTION:Friday Night Tourney 12/13 - 6pm - Paddle Up Pickleball Club
LOCATION:Court 8
CATEGORIES:QuickScores; Pickleball Game
TRANSP:0
DALARM:20241213T173000;PT10M;2;Durham/Durham vs. Langlois/Partner
END:VEVENT
BEGIN:VEVENT
DTSTART:20241213T193000
DTEND:20241213T195000
SUMMARY:Goldman/Goldman vs. Roth/Roth
DESCRIPTION:Friday Night Tourney 12/13 - 6pm - Paddle Up Pickleball Club
LOCATION:Court 7
CATEGORIES:QuickScores; Pickleball Game
TRANSP:0
DALARM:20241213T173000;PT10M;2;Goldman/Goldman vs. Roth/Roth
END:VEVENT
BEGIN:VEVENT
DTSTART:20241213T193000
DTEND:20241213T195000
SUMMARY:VanAmburgh/Clay vs. Chu/Woodard
DESCRIPTION:Friday Night Tourney 12/13 - 6pm - Paddle Up Pickleball Club
LOCATION:Court 2
CATEGORIES:QuickScores; Pickleball Game
TRANSP:0
DALARM:20241213T173000;PT10M;2;VanAmburgh/Clay vs. Chu/Woodard
END:VEVENT
BEGIN:VEVENT
DTSTART:20241213T193000
DTEND:20241213T195000
SUMMARY:El-Haw/Shoela vs. Harris/Rizzo
DESCRIPTION:Friday Night Tourney 12/13 - 6pm - Paddle Up Pickleball Club
LOCATION:Court 6
CATEGORIES:QuickScores; Pickleball Game
TRANSP:0
DALARM:20241213T173000;PT10M;2;El-Haw/Shoela vs. Harris/Rizzo
END:VEVENT
BEGIN:VEVENT
DTSTART:20241213T193000
DTEND:20241213T195000
SUMMARY:HPainter/JRaycraft vs. Eddy/Hiatt
DESCRIPTION:Friday Night Tourney 12/13 - 6pm - Paddle Up Pickleball Club
LOCATION:Court 4
CATEGORIES:QuickScores; Pickleball Game
TRANSP:0
DALARM:20241213T173000;PT10M;2;HPainter/JRaycraft vs. Eddy/Hiatt
END:VEVENT
BEGIN:VEVENT
DTSTART:20241213T193000
DTEND:20241213T195000
SUMMARY:RPainter/BRaycraft vs. Wunderlich/Wunderlich
DESCRIPTION:Friday Night Tourney 12/13 - 6pm - Paddle Up Pickleball Club
LOCATION:Court 9
CATEGORIES:QuickScores; Pickleball Game
TRANSP:0
DALARM:20241213T173000;PT10M;2;RPainter/BRaycraft vs. Wunderlich/Wunderlich
END:VEVENT
BEGIN:VEVENT
DTSTART:20241213T195000
DTEND:20241213T201000
SUMMARY:Eckman/Eckman vs. Chu/Woodard
DESCRIPTION:Friday Night Tourney 12/13 - 6pm - Paddle Up Pickleball Club
LOCATION:Court 6
CATEGORIES:QuickScores; Pickleball Game
TRANSP:0
DALARM:20241213T175000;PT10M;2;Eckman/Eckman vs. Chu/Woodard
END:VEVENT
BEGIN:VEVENT
DTSTART:20241213T195000
DTEND:20241213T201000
SUMMARY:Maus/Huff vs. Rieck/Rue
DESCRIPTION:Friday Night Tourney 12/13 - 6pm - Paddle Up Pickleball Club
LOCATION:Court 4
CATEGORIES:QuickScores; Pickleball Game
TRANSP:0
DALARM:20241213T175000;PT10M;2;Maus/Huff vs. Rieck/Rue
END:VEVENT
BEGIN:VEVENT
DTSTART:20241213T195000
DTEND:20241213T201000
SUMMARY:DeLuca/Sevilla vs. Gonzalez/Gonzalez
DESCRIPTION:Friday Night Tourney 12/13 - 6pm - Paddle Up Pickleball Club
LOCATION:Court 2
CATEGORIES:QuickScores; Pickleball Game
TRANSP:0
DALARM:20241213T175000;PT10M;2;DeLuca/Sevilla vs. Gonzalez/Gonzalez
END:VEVENT
BEGIN:VEVENT
DTSTART:20241213T195000
DTEND:20241213T201000
SUMMARY:Castagna/Stine vs. Heinrich/Reidelberger
DESCRIPTION:Friday Night Tourney 12/13 - 6pm - Paddle Up Pickleball Club
LOCATION:Court 5
CATEGORIES:QuickScores; Pickleball Game
TRANSP:0
DALARM:20241213T175000;PT10M;2;Castagna/Stine vs. Heinrich/Reidelberger
END:VEVENT
BEGIN:VEVENT
DTSTART:20241213T195000
DTEND:20241213T201000
SUMMARY:VanAmburgh/Olinick vs. Roth/Roth
DESCRIPTION:Friday Night Tourney 12/13 - 6pm - Paddle Up Pickleball Club
LOCATION:Court 7
CATEGORIES:QuickScores; Pickleball Game
TRANSP:0
DALARM:20241213T175000;PT10M;2;VanAmburgh/Olinick vs. Roth/Roth
END:VEVENT
END:VCALENDAR
