BEGIN:VCALENDAR
VERSION:1.0
BEGIN:VEVENT
DTSTART:20250114T173000
DTEND:20250114T183000
SUMMARY:Santiam Christian vs. West 3 - Reich
DESCRIPTION:5/6th Boys Rec - East - Valley League Sports
LOCATION:BGC Albany McLagan Gym
CATEGORIES:QuickScores; Basketball Game
TRANSP:0
DALARM:20250114T153000;PT10M;2;Santiam Christian vs. West 3 - Reich
END:VEVENT
BEGIN:VEVENT
DTSTART:20250117T194000
DTEND:20250117T204000
SUMMARY:South 1 - White vs. West 4 - Webster/Pritt
DESCRIPTION:5/6th Boys Rec - East - Valley League Sports
LOCATION:BGC Albany Sullivan Gym
CATEGORIES:QuickScores; Basketball Game
TRANSP:0
DALARM:20250117T174000;PT10M;2;South 1 - White vs. West 4 - Webster/Pritt
END:VEVENT
BEGIN:VEVENT
DTSTART:20250120T174500
DTEND:20250120T184500
SUMMARY:West 2 - O'Kain vs. South 2 - Floro
DESCRIPTION:5/6th Boys Rec - East - Valley League Sports
LOCATION:BGC Albany Rex Casey Gym
CATEGORIES:QuickScores; Basketball Game
TRANSP:0
DALARM:20250120T154500;PT10M;2;West 2 - O'Kain vs. South 2 - Floro
END:VEVENT
BEGIN:VEVENT
DTSTART:20250120T183000
DTEND:20250120T193000
SUMMARY:South 1 - White vs. West 1 - Morse
DESCRIPTION:5/6th Boys Rec - East - Valley League Sports
LOCATION:BGC Albany Sullivan Gym
CATEGORIES:QuickScores; Basketball Game
TRANSP:0
DALARM:20250120T163000;PT10M;2;South 1 - White vs. West 1 - Morse
END:VEVENT
BEGIN:VEVENT
DTSTART:20250120T190000
DTEND:20250120T200000
SUMMARY:West 4 - Webster/Pritt vs. Scio
DESCRIPTION:5/6th Boys Rec - East - Valley League Sports
LOCATION:Centennial Elementary
CATEGORIES:QuickScores; Basketball Game
TRANSP:0
DALARM:20250120T170000;PT10M;2;West 4 - Webster/Pritt vs. Scio
END:VEVENT
BEGIN:VEVENT
DTSTART:20250121T172000
DTEND:20250121T182000
SUMMARY:Scio vs. West 1 - Morse
DESCRIPTION:5/6th Boys Rec - East - Valley League Sports
LOCATION:BGC Albany Sullivan Gym
CATEGORIES:QuickScores; Basketball Game
TRANSP:0
DALARM:20250121T152000;PT10M;2;Scio vs. West 1 - Morse
END:VEVENT
BEGIN:VEVENT
DTSTART:20250121T184500
DTEND:20250121T194500
SUMMARY:South 2 - Floro vs. Jefferson
DESCRIPTION:5/6th Boys Rec - East - Valley League Sports
LOCATION:Jefferson Middle School (New Gym)
CATEGORIES:QuickScores; Basketball Game
TRANSP:0
DALARM:20250121T164500;PT10M;2;South 2 - Floro vs. Jefferson
END:VEVENT
BEGIN:VEVENT
DTSTART:20250122T174500
DTEND:20250122T184500
SUMMARY:West 2 - O'Kain vs. West 3 - Reich
DESCRIPTION:5/6th Boys Rec - East - Valley League Sports
LOCATION:BGC Albany Rex Casey Gym
CATEGORIES:QuickScores; Basketball Game
TRANSP:0
DALARM:20250122T154500;PT10M;2;West 2 - O'Kain vs. West 3 - Reich
END:VEVENT
BEGIN:VEVENT
DTSTART:20250123T174500
DTEND:20250123T184500
SUMMARY:Santiam Christian vs. West 4 - Webster/Pritt
DESCRIPTION:5/6th Boys Rec - East - Valley League Sports
LOCATION:BGC Albany Rex Casey Gym
CATEGORIES:QuickScores; Basketball Game
TRANSP:0
DALARM:20250123T154500;PT10M;2;Santiam Christian vs. West 4 - Webster/Pritt
END:VEVENT
BEGIN:VEVENT
DTSTART:20250124T190000
DTEND:20250124T200000
SUMMARY:South 1 - White vs. Jefferson
DESCRIPTION:5/6th Boys Rec - East - Valley League Sports
LOCATION:Jefferson Middle School (New Gym)
CATEGORIES:QuickScores; Basketball Game
TRANSP:0
DALARM:20250124T170000;PT10M;2;South 1 - White vs. Jefferson
END:VEVENT
BEGIN:VEVENT
DTSTART:20250127T172000
DTEND:20250127T182000
SUMMARY:Jefferson vs. West 3 - Reich
DESCRIPTION:5/6th Boys Rec - East - Valley League Sports
LOCATION:BGC Albany Sullivan Gym
CATEGORIES:QuickScores; Basketball Game
TRANSP:0
DALARM:20250127T152000;PT10M;2;Jefferson vs. West 3 - Reich
END:VEVENT
BEGIN:VEVENT
DTSTART:20250128T172000
DTEND:20250128T182000
SUMMARY:West 2 - O'Kain vs. West 4 - Webster/Pritt
DESCRIPTION:5/6th Boys Rec - East - Valley League Sports
LOCATION:BGC Albany Sullivan Gym
CATEGORIES:QuickScores; Basketball Game
TRANSP:0
DALARM:20250128T152000;PT10M;2;West 2 - O'Kain vs. West 4 - Webster/Pritt
END:VEVENT
BEGIN:VEVENT
DTSTART:20250128T194500
DTEND:20250128T204500
SUMMARY:West 1 - Morse vs. Santiam Christian
DESCRIPTION:5/6th Boys Rec - East - Valley League Sports
LOCATION:Santiam Christian Schools - East Gym
CATEGORIES:QuickScores; Basketball Game
TRANSP:0
DALARM:20250128T174500;PT10M;2;West 1 - Morse vs. Santiam Christian
END:VEVENT
BEGIN:VEVENT
DTSTART:20250129T172000
DTEND:20250129T182000
SUMMARY:West 4 - Webster/Pritt vs. West 3 - Reich
DESCRIPTION:5/6th Boys Rec - East - Valley League Sports
LOCATION:BGC Albany Sullivan Gym
CATEGORIES:QuickScores; Basketball Game
TRANSP:0
DALARM:20250129T152000;PT10M;2;West 4 - Webster/Pritt vs. West 3 - Reich
END:VEVENT
BEGIN:VEVENT
DTSTART:20250129T183000
DTEND:20250129T193000
SUMMARY:Scio vs. Jefferson
DESCRIPTION:5/6th Boys Rec - East - Valley League Sports
LOCATION:Jefferson Middle School (New Gym)
CATEGORIES:QuickScores; Basketball Game
TRANSP:0
DALARM:20250129T163000;PT10M;2;Scio vs. Jefferson
END:VEVENT
BEGIN:VEVENT
DTSTART:20250129T190000
DTEND:20250129T200000
SUMMARY:West 1 - Morse vs. West 2 - O'Kain
DESCRIPTION:5/6th Boys Rec - East - Valley League Sports
LOCATION:BGC Albany Rex Casey Gym
CATEGORIES:QuickScores; Basketball Game
TRANSP:0
DALARM:20250129T170000;PT10M;2;West 1 - Morse vs. West 2 - O'Kain
END:VEVENT
BEGIN:VEVENT
DTSTART:20250130T174500
DTEND:20250130T184500
SUMMARY:South 2 - Floro vs. West 1 - Morse
DESCRIPTION:5/6th Boys Rec - East - Valley League Sports
LOCATION:BGC Albany Rex Casey Gym
CATEGORIES:QuickScores; Basketball Game
TRANSP:0
DALARM:20250130T154500;PT10M;2;South 2 - Floro vs. West 1 - Morse
END:VEVENT
BEGIN:VEVENT
DTSTART:20250130T190000
DTEND:20250130T200000
SUMMARY:Santiam Christian vs. South 2 - Floro
DESCRIPTION:5/6th Boys Rec - East - Valley League Sports
LOCATION:BGC Albany Rex Casey Gym
CATEGORIES:QuickScores; Basketball Game
TRANSP:0
DALARM:20250130T170000;PT10M;2;Santiam Christian vs. South 2 - Floro
END:VEVENT
BEGIN:VEVENT
DTSTART:20250131T173000
DTEND:20250131T183000
SUMMARY:South 1 - White vs. West 2 - O'Kain
DESCRIPTION:5/6th Boys Rec - East - Valley League Sports
LOCATION:BGC Albany Sullivan Gym
CATEGORIES:QuickScores; Basketball Game
TRANSP:0
DALARM:20250131T153000;PT10M;2;South 1 - White vs. West 2 - O'Kain
END:VEVENT
BEGIN:VEVENT
DTSTART:20250203T174500
DTEND:20250203T184500
SUMMARY:Jefferson vs. West 4 - Webster/Pritt
DESCRIPTION:5/6th Boys Rec - East - Valley League Sports
LOCATION:BGC Albany Rex Casey Gym
CATEGORIES:QuickScores; Basketball Game
TRANSP:0
DALARM:20250203T154500;PT10M;2;Jefferson vs. West 4 - Webster/Pritt
END:VEVENT
BEGIN:VEVENT
DTSTART:20250204T173000
DTEND:20250204T183000
SUMMARY:West 4 - Webster/Pritt vs. South 2 - Floro
DESCRIPTION:5/6th Boys Rec - East - Valley League Sports
LOCATION:BGC Albany Sullivan Gym
CATEGORIES:QuickScores; Basketball Game
TRANSP:0
DALARM:20250204T153000;PT10M;2;West 4 - Webster/Pritt vs. South 2 - Floro
END:VEVENT
BEGIN:VEVENT
DTSTART:20250204T174500
DTEND:20250204T184500
SUMMARY:West 2 - O'Kain vs. Scio
DESCRIPTION:5/6th Boys Rec - East - Valley League Sports
LOCATION:Centennial Elementary
CATEGORIES:QuickScores; Basketball Game
TRANSP:0
DALARM:20250204T154500;PT10M;2;West 2 - O'Kain vs. Scio
END:VEVENT
BEGIN:VEVENT
DTSTART:20250204T191500
DTEND:20250204T201500
SUMMARY:West 1 - Morse vs. Jefferson
DESCRIPTION:5/6th Boys Rec - East - Valley League Sports
LOCATION:Jefferson Middle School (New Gym)
CATEGORIES:QuickScores; Basketball Game
TRANSP:0
DALARM:20250204T171500;PT10M;2;West 1 - Morse vs. Jefferson
END:VEVENT
BEGIN:VEVENT
DTSTART:20250206T190000
DTEND:20250206T200000
SUMMARY:South 1 - White vs. Scio
DESCRIPTION:5/6th Boys Rec - East - Valley League Sports
LOCATION:Centennial Elementary
CATEGORIES:QuickScores; Basketball Game
TRANSP:0
DALARM:20250206T170000;PT10M;2;South 1 - White vs. Scio
END:VEVENT
BEGIN:VEVENT
DTSTART:20250207T173000
DTEND:20250207T183000
SUMMARY:West 3 - Reich vs. West 1 - Morse
DESCRIPTION:5/6th Boys Rec - East - Valley League Sports
LOCATION:BGC Albany Sullivan Gym
CATEGORIES:QuickScores; Basketball Game
TRANSP:0
DALARM:20250207T153000;PT10M;2;West 3 - Reich vs. West 1 - Morse
END:VEVENT
BEGIN:VEVENT
DTSTART:20250207T173000
DTEND:20250207T183000
SUMMARY:West 2 - O'Kain vs. Santiam Christian
DESCRIPTION:5/6th Boys Rec - East - Valley League Sports
LOCATION:Santiam Christian Schools - East Gym
CATEGORIES:QuickScores; Basketball Game
TRANSP:0
DALARM:20250207T153000;PT10M;2;West 2 - O'Kain vs. Santiam Christian
END:VEVENT
BEGIN:VEVENT
DTSTART:20250207T174500
DTEND:20250207T184500
SUMMARY:South 2 - Floro vs. Scio
DESCRIPTION:5/6th Boys Rec - East - Valley League Sports
LOCATION:Centennial Elementary
CATEGORIES:QuickScores; Basketball Game
TRANSP:0
DALARM:20250207T154500;PT10M;2;South 2 - Floro vs. Scio
END:VEVENT
BEGIN:VEVENT
DTSTART:20250207T190000
DTEND:20250207T200000
SUMMARY:South 1 - White vs. West 3 - Reich
DESCRIPTION:5/6th Boys Rec - East - Valley League Sports
LOCATION:BGC Albany Rex Casey Gym
CATEGORIES:QuickScores; Basketball Game
TRANSP:0
DALARM:20250207T170000;PT10M;2;South 1 - White vs. West 3 - Reich
END:VEVENT
BEGIN:VEVENT
DTSTART:20250210T190000
DTEND:20250210T200000
SUMMARY:South 2 - Floro vs. South 1 - White
DESCRIPTION:5/6th Boys Rec - East - Valley League Sports
LOCATION:BGC Albany Rex Casey Gym
CATEGORIES:QuickScores; Basketball Game
TRANSP:0
DALARM:20250210T170000;PT10M;2;South 2 - Floro vs. South 1 - White
END:VEVENT
BEGIN:VEVENT
DTSTART:20250211T173000
DTEND:20250211T183000
SUMMARY:Jefferson vs. West 2 - O'Kain
DESCRIPTION:5/6th Boys Rec - East - Valley League Sports
LOCATION:BGC Albany Sullivan Gym
CATEGORIES:QuickScores; Basketball Game
TRANSP:0
DALARM:20250211T153000;PT10M;2;Jefferson vs. West 2 - O'Kain
END:VEVENT
BEGIN:VEVENT
DTSTART:20250211T184500
DTEND:20250211T194500
SUMMARY:West 3 - Reich vs. South 2 - Floro
DESCRIPTION:5/6th Boys Rec - East - Valley League Sports
LOCATION:BGC Albany Sullivan Gym
CATEGORIES:QuickScores; Basketball Game
TRANSP:0
DALARM:20250211T164500;PT10M;2;West 3 - Reich vs. South 2 - Floro
END:VEVENT
BEGIN:VEVENT
DTSTART:20250212T180000
DTEND:20250212T190000
SUMMARY:Santiam Christian vs. Jefferson
DESCRIPTION:5/6th Boys Rec - East - Valley League Sports
LOCATION:Jefferson Middle School (New Gym)
CATEGORIES:QuickScores; Basketball Game
TRANSP:0
DALARM:20250212T160000;PT10M;2;Santiam Christian vs. Jefferson
END:VEVENT
BEGIN:VEVENT
DTSTART:20250212T190000
DTEND:20250212T200000
SUMMARY:Scio vs. West 3 - Reich
DESCRIPTION:5/6th Boys Rec - East - Valley League Sports
LOCATION:BGC Albany Rex Casey Gym
CATEGORIES:QuickScores; Basketball Game
TRANSP:0
DALARM:20250212T170000;PT10M;2;Scio vs. West 3 - Reich
END:VEVENT
BEGIN:VEVENT
DTSTART:20250214T172000
DTEND:20250214T182000
SUMMARY:West 4 - Webster/Pritt vs. West 1 - Morse
DESCRIPTION:5/6th Boys Rec - East - Valley League Sports
LOCATION:BGC Albany Sullivan Gym
CATEGORIES:QuickScores; Basketball Game
TRANSP:0
DALARM:20250214T152000;PT10M;2;West 4 - Webster/Pritt vs. West 1 - Morse
END:VEVENT
BEGIN:VEVENT
DTSTART:20250217T173000
DTEND:20250217T183000
SUMMARY:West 1 - Morse vs. South 1 - White
DESCRIPTION:5/6th Boys Rec - East - Valley League Sports
LOCATION:BGC Albany Sullivan Gym
CATEGORIES:QuickScores; Basketball Game
TRANSP:0
DALARM:20250217T153000;PT10M;2;West 1 - Morse vs. South 1 - White
END:VEVENT
BEGIN:VEVENT
DTSTART:20250217T190000
DTEND:20250217T200000
SUMMARY:West 3 - Reich vs. West 2 - O'Kain
DESCRIPTION:5/6th Boys Rec - East - Valley League Sports
LOCATION:BGC Albany Rex Casey Gym
CATEGORIES:QuickScores; Basketball Game
TRANSP:0
DALARM:20250217T170000;PT10M;2;West 3 - Reich vs. West 2 - O'Kain
END:VEVENT
BEGIN:VEVENT
DTSTART:20250218T183000
DTEND:20250218T193000
SUMMARY:West 4 - Webster/Pritt vs. Santiam Christian
DESCRIPTION:5/6th Boys Rec - East - Valley League Sports
LOCATION:Santiam Christian Schools - East Gym
CATEGORIES:QuickScores; Basketball Game
TRANSP:0
DALARM:20250218T163000;PT10M;2;West 4 - Webster/Pritt vs. Santiam Christian
END:VEVENT
BEGIN:VEVENT
DTSTART:20250219T190000
DTEND:20250219T200000
SUMMARY:West 1 - Morse vs. Scio
DESCRIPTION:5/6th Boys Rec - East - Valley League Sports
LOCATION:Centennial Elementary
CATEGORIES:QuickScores; Basketball Game
TRANSP:0
DALARM:20250219T170000;PT10M;2;West 1 - Morse vs. Scio
END:VEVENT
BEGIN:VEVENT
DTSTART:20250220T183000
DTEND:20250220T193000
SUMMARY:Scio vs. Santiam Christian
DESCRIPTION:Rescheduled --- 5/6th Boys Rec - East - Valley League Sports
LOCATION:Santiam Christian Schools - West Gym
CATEGORIES:QuickScores; Basketball Game
TRANSP:0
DALARM:20250220T163000;PT10M;2;Scio vs. Santiam Christian
END:VEVENT
BEGIN:VEVENT
DTSTART:20250220T190000
DTEND:20250220T200000
SUMMARY:Jefferson vs. South 1 - White
DESCRIPTION:5/6th Boys Rec - East - Valley League Sports
LOCATION:BGC Albany Rex Casey Gym
CATEGORIES:QuickScores; Basketball Game
TRANSP:0
DALARM:20250220T170000;PT10M;2;Jefferson vs. South 1 - White
END:VEVENT
BEGIN:VEVENT
DTSTART:20250221T173000
DTEND:20250221T183000
SUMMARY:Scio vs. West 4 - Webster/Pritt
DESCRIPTION:5/6th Boys Rec - East - Valley League Sports
LOCATION:BGC Albany Sullivan Gym
CATEGORIES:QuickScores; Basketball Game
TRANSP:0
DALARM:20250221T153000;PT10M;2;Scio vs. West 4 - Webster/Pritt
END:VEVENT
BEGIN:VEVENT
DTSTART:20250221T183000
DTEND:20250221T193000
SUMMARY:West 3 - Reich vs. Santiam Christian
DESCRIPTION:5/6th Boys Rec - East - Valley League Sports
LOCATION:Santiam Christian Schools - East Gym
CATEGORIES:QuickScores; Basketball Game
TRANSP:0
DALARM:20250221T163000;PT10M;2;West 3 - Reich vs. Santiam Christian
END:VEVENT
BEGIN:VEVENT
DTSTART:20250222T101500
DTEND:20250222T111500
SUMMARY:South 2 - Floro vs. West 2 - O'Kain
DESCRIPTION:5/6th Boys Rec - East - Valley League Sports
LOCATION:BGC Albany Rex Casey Gym
CATEGORIES:QuickScores; Basketball Game
TRANSP:0
DALARM:20250222T081500;PT10M;2;South 2 - Floro vs. West 2 - O'Kain
END:VEVENT
BEGIN:VEVENT
DTSTART:20250224T184500
DTEND:20250224T194500
SUMMARY:Scio vs. South 1 - White
DESCRIPTION:5/6th Boys Rec - East - Valley League Sports
LOCATION:BGC Albany Sullivan Gym
CATEGORIES:QuickScores; Basketball Game
TRANSP:0
DALARM:20250224T164500;PT10M;2;Scio vs. South 1 - White
END:VEVENT
BEGIN:VEVENT
DTSTART:20250224T184500
DTEND:20250224T194500
SUMMARY:Santiam Christian vs. West 1 - Morse
DESCRIPTION:5/6th Boys Rec - East - Valley League Sports
LOCATION:BGC Albany McLagan Gym
CATEGORIES:QuickScores; Basketball Game
TRANSP:0
DALARM:20250224T164500;PT10M;2;Santiam Christian vs. West 1 - Morse
END:VEVENT
BEGIN:VEVENT
DTSTART:20250225T174500
DTEND:20250225T184500
SUMMARY:Jefferson vs. Scio
DESCRIPTION:TIME CHANGE --- 5/6th Boys Rec - East - Valley League Sports
LOCATION:Centennial Elementary
CATEGORIES:QuickScores; Basketball Game
TRANSP:0
DALARM:20250225T154500;PT10M;2;Jefferson vs. Scio
END:VEVENT
BEGIN:VEVENT
DTSTART:20250225T183000
DTEND:20250225T193000
SUMMARY:West 4 - Webster/Pritt vs. West 2 - O'Kain
DESCRIPTION:5/6th Boys Rec - East - Valley League Sports
LOCATION:BGC Albany Sullivan Gym
CATEGORIES:QuickScores; Basketball Game
TRANSP:0
DALARM:20250225T163000;PT10M;2;West 4 - Webster/Pritt vs. West 2 - O'Kain
END:VEVENT
BEGIN:VEVENT
DTSTART:20250226T173000
DTEND:20250226T183000
SUMMARY:West 1 - Morse vs. South 2 - Floro
DESCRIPTION:Moved from Sullivan to Progressive Gym --- 5/6th Boys Rec - East - Valley League Sports
LOCATION:BGC Albany Progressive Software Solutions
CATEGORIES:QuickScores; Basketball Game
TRANSP:0
DALARM:20250226T153000;PT10M;2;West 1 - Morse vs. South 2 - Floro
END:VEVENT
BEGIN:VEVENT
DTSTART:20250226T183000
DTEND:20250226T193000
SUMMARY:West 3 - Reich vs. Jefferson
DESCRIPTION:5/6th Boys Rec - East - Valley League Sports
LOCATION:Jefferson Middle School (New Gym)
CATEGORIES:QuickScores; Basketball Game
TRANSP:0
DALARM:20250226T163000;PT10M;2;West 3 - Reich vs. Jefferson
END:VEVENT
BEGIN:VEVENT
DTSTART:20250226T184500
DTEND:20250226T194500
SUMMARY:Santiam Christian vs. South 1 - White
DESCRIPTION:2/3 Game rescheduled for 2/26 (moved from Sullivan gym to Progressive Gym) --- 5/6th Boys Rec - East - Valley League Sports
LOCATION:BGC Albany Progressive Software Solutions
CATEGORIES:QuickScores; Basketball Game
TRANSP:0
DALARM:20250226T164500;PT10M;2;Santiam Christian vs. South 1 - White
END:VEVENT
BEGIN:VEVENT
DTSTART:20250227T172000
DTEND:20250227T182000
SUMMARY:West 3 - Reich vs. West 4 - Webster/Pritt
DESCRIPTION:5/6th Boys Rec - East - Valley League Sports
LOCATION:BGC Albany Sullivan Gym
CATEGORIES:QuickScores; Basketball Game
TRANSP:0
DALARM:20250227T152000;PT10M;2;West 3 - Reich vs. West 4 - Webster/Pritt
END:VEVENT
BEGIN:VEVENT
DTSTART:20250227T190000
DTEND:20250227T200000
SUMMARY:South 2 - Floro vs. Santiam Christian
DESCRIPTION:5/6th Boys Rec - East - Valley League Sports
LOCATION:Santiam Christian Schools - East Gym
CATEGORIES:QuickScores; Basketball Game
TRANSP:0
DALARM:20250227T170000;PT10M;2;South 2 - Floro vs. Santiam Christian
END:VEVENT
BEGIN:VEVENT
DTSTART:20250227T194000
DTEND:20250227T204000
SUMMARY:West 2 - O'Kain vs. South 1 - White
DESCRIPTION:5/6th Boys Rec - East - Valley League Sports
LOCATION:BGC Albany Sullivan Gym
CATEGORIES:QuickScores; Basketball Game
TRANSP:0
DALARM:20250227T174000;PT10M;2;West 2 - O'Kain vs. South 1 - White
END:VEVENT
BEGIN:VEVENT
DTSTART:20250228T180000
DTEND:20250228T190000
SUMMARY:Jefferson vs. South 2 - Floro
DESCRIPTION:2/21 game rescheduled for 2/28 --- 5/6th Boys Rec - East - Valley League Sports
LOCATION:BGC Albany McLagan Gym
CATEGORIES:QuickScores; Basketball Game
TRANSP:0
DALARM:20250228T160000;PT10M;2;Jefferson vs. South 2 - Floro
END:VEVENT
END:VCALENDAR
