BEGIN:VCALENDAR
VERSION:1.0
BEGIN:VEVENT
DTSTART:20241121T172000
DTEND:20241121T180000
SUMMARY:Gordon/Gordon vs. Schneider/Riebel
DESCRIPTION:PUPC Thursday Low Inter - EarlyWinter24 - Paddle Up Pickleball Club
LOCATION:Court 3
CATEGORIES:QuickScores; Pickleball Game
TRANSP:0
DALARM:20241121T152000;PT10M;2;Gordon/Gordon vs. Schneider/Riebel
END:VEVENT
BEGIN:VEVENT
DTSTART:20241121T172000
DTEND:20241121T180000
SUMMARY:Struckman/McCarter vs. Steinbeck/Steinbeck
DESCRIPTION:PUPC Thursday Low Inter - EarlyWinter24 - Paddle Up Pickleball Club
LOCATION:Court 6
CATEGORIES:QuickScores; Pickleball Game
TRANSP:0
DALARM:20241121T152000;PT10M;2;Struckman/McCarter vs. Steinbeck/Steinbeck
END:VEVENT
BEGIN:VEVENT
DTSTART:20241121T180000
DTEND:20241121T184000
SUMMARY:Ferguson/Misuraca vs. Gordon/Gordon
DESCRIPTION:PUPC Thursday Low Inter - EarlyWinter24 - Paddle Up Pickleball Club
LOCATION:Court 3
CATEGORIES:QuickScores; Pickleball Game
TRANSP:0
DALARM:20241121T160000;PT10M;2;Ferguson/Misuraca vs. Gordon/Gordon
END:VEVENT
BEGIN:VEVENT
DTSTART:20241121T180000
DTEND:20241121T184000
SUMMARY:Struckman/McCarter vs. Schneider/Riebel
DESCRIPTION:PUPC Thursday Low Inter - EarlyWinter24 - Paddle Up Pickleball Club
LOCATION:Court 6
CATEGORIES:QuickScores; Pickleball Game
TRANSP:0
DALARM:20241121T160000;PT10M;2;Struckman/McCarter vs. Schneider/Riebel
END:VEVENT
BEGIN:VEVENT
DTSTART:20241121T184000
DTEND:20241121T192000
SUMMARY:Chi/Beauchamp vs. Herdt/Herdt
DESCRIPTION:PUPC Thursday Low Inter - EarlyWinter24 - Paddle Up Pickleball Club
LOCATION:Court 3
CATEGORIES:QuickScores; Pickleball Game
TRANSP:0
DALARM:20241121T164000;PT10M;2;Chi/Beauchamp vs. Herdt/Herdt
END:VEVENT
BEGIN:VEVENT
DTSTART:20241121T184000
DTEND:20241121T192000
SUMMARY:Steinbeck/Steinbeck vs. Miles/Miles
DESCRIPTION:PUPC Thursday Low Inter - EarlyWinter24 - Paddle Up Pickleball Club
LOCATION:Court 6
CATEGORIES:QuickScores; Pickleball Game
TRANSP:0
DALARM:20241121T164000;PT10M;2;Steinbeck/Steinbeck vs. Miles/Miles
END:VEVENT
BEGIN:VEVENT
DTSTART:20241121T192000
DTEND:20241121T200000
SUMMARY:Ferguson/Misuraca vs. Herdt/Herdt
DESCRIPTION:PUPC Thursday Low Inter - EarlyWinter24 - Paddle Up Pickleball Club
LOCATION:Court 3
CATEGORIES:QuickScores; Pickleball Game
TRANSP:0
DALARM:20241121T172000;PT10M;2;Ferguson/Misuraca vs. Herdt/Herdt
END:VEVENT
BEGIN:VEVENT
DTSTART:20241121T192000
DTEND:20241121T200000
SUMMARY:Chi/Beauchamp vs. Miles/Miles
DESCRIPTION:PUPC Thursday Low Inter - EarlyWinter24 - Paddle Up Pickleball Club
LOCATION:Court 6
CATEGORIES:QuickScores; Pickleball Game
TRANSP:0
DALARM:20241121T172000;PT10M;2;Chi/Beauchamp vs. Miles/Miles
END:VEVENT
BEGIN:VEVENT
DTSTART:20241205T172000
DTEND:20241205T180000
SUMMARY:Struckman/McCarter vs. Ferguson/Misuraca
DESCRIPTION:PUPC Thursday Low Inter - EarlyWinter24 - Paddle Up Pickleball Club
LOCATION:Court 3
CATEGORIES:QuickScores; Pickleball Game
TRANSP:0
DALARM:20241205T152000;PT10M;2;Struckman/McCarter vs. Ferguson/Misuraca
END:VEVENT
BEGIN:VEVENT
DTSTART:20241205T172000
DTEND:20241205T180000
SUMMARY:Schneider/Riebel vs. Herdt/Herdt
DESCRIPTION:PUPC Thursday Low Inter - EarlyWinter24 - Paddle Up Pickleball Club
LOCATION:Court 6
CATEGORIES:QuickScores; Pickleball Game
TRANSP:0
DALARM:20241205T152000;PT10M;2;Schneider/Riebel vs. Herdt/Herdt
END:VEVENT
BEGIN:VEVENT
DTSTART:20241205T180000
DTEND:20241205T184000
SUMMARY:Ferguson/Misuraca vs. Miles/Miles
DESCRIPTION:PUPC Thursday Low Inter - EarlyWinter24 - Paddle Up Pickleball Club
LOCATION:Court 3
CATEGORIES:QuickScores; Pickleball Game
TRANSP:0
DALARM:20241205T160000;PT10M;2;Ferguson/Misuraca vs. Miles/Miles
END:VEVENT
BEGIN:VEVENT
DTSTART:20241205T180000
DTEND:20241205T184000
SUMMARY:Struckman/McCarter vs. Herdt/Herdt
DESCRIPTION:PUPC Thursday Low Inter - EarlyWinter24 - Paddle Up Pickleball Club
LOCATION:Court 6
CATEGORIES:QuickScores; Pickleball Game
TRANSP:0
DALARM:20241205T160000;PT10M;2;Struckman/McCarter vs. Herdt/Herdt
END:VEVENT
BEGIN:VEVENT
DTSTART:20241205T184000
DTEND:20241205T192000
SUMMARY:Steinbeck/Steinbeck vs. Schneider/Riebel
DESCRIPTION:PUPC Thursday Low Inter - EarlyWinter24 - Paddle Up Pickleball Club
LOCATION:Court 6
CATEGORIES:QuickScores; Pickleball Game
TRANSP:0
DALARM:20241205T164000;PT10M;2;Steinbeck/Steinbeck vs. Schneider/Riebel
END:VEVENT
BEGIN:VEVENT
DTSTART:20241205T184000
DTEND:20241205T192000
SUMMARY:Chi/Beauchamp vs. Gordon/Gordon
DESCRIPTION:PUPC Thursday Low Inter - EarlyWinter24 - Paddle Up Pickleball Club
LOCATION:Court 3
CATEGORIES:QuickScores; Pickleball Game
TRANSP:0
DALARM:20241205T164000;PT10M;2;Chi/Beauchamp vs. Gordon/Gordon
END:VEVENT
BEGIN:VEVENT
DTSTART:20241205T192000
DTEND:20241205T200000
SUMMARY:Steinbeck/Steinbeck vs. Chi/Beauchamp
DESCRIPTION:PUPC Thursday Low Inter - EarlyWinter24 - Paddle Up Pickleball Club
LOCATION:Court 6
CATEGORIES:QuickScores; Pickleball Game
TRANSP:0
DALARM:20241205T172000;PT10M;2;Steinbeck/Steinbeck vs. Chi/Beauchamp
END:VEVENT
BEGIN:VEVENT
DTSTART:20241205T192000
DTEND:20241205T200000
SUMMARY:Gordon/Gordon vs. Miles/Miles
DESCRIPTION:PUPC Thursday Low Inter - EarlyWinter24 - Paddle Up Pickleball Club
LOCATION:Court 3
CATEGORIES:QuickScores; Pickleball Game
TRANSP:0
DALARM:20241205T172000;PT10M;2;Gordon/Gordon vs. Miles/Miles
END:VEVENT
BEGIN:VEVENT
DTSTART:20241212T172000
DTEND:20241212T180000
SUMMARY:Ferguson/Misuraca vs. Steinbeck/Steinbeck
DESCRIPTION:PUPC Thursday Low Inter - EarlyWinter24 - Paddle Up Pickleball Club
LOCATION:Court 3
CATEGORIES:QuickScores; Pickleball Game
TRANSP:0
DALARM:20241212T152000;PT10M;2;Ferguson/Misuraca vs. Steinbeck/Steinbeck
END:VEVENT
BEGIN:VEVENT
DTSTART:20241212T172000
DTEND:20241212T180000
SUMMARY:Herdt/Herdt vs. Gordon/Gordon
DESCRIPTION:PUPC Thursday Low Inter - EarlyWinter24 - Paddle Up Pickleball Club
LOCATION:Court 6
CATEGORIES:QuickScores; Pickleball Game
TRANSP:0
DALARM:20241212T152000;PT10M;2;Herdt/Herdt vs. Gordon/Gordon
END:VEVENT
BEGIN:VEVENT
DTSTART:20241212T180000
DTEND:20241212T184000
SUMMARY:Steinbeck/Steinbeck vs. Struckman/McCarter
DESCRIPTION:PUPC Thursday Low Inter - EarlyWinter24 - Paddle Up Pickleball Club
LOCATION:Court 3
CATEGORIES:QuickScores; Pickleball Game
TRANSP:0
DALARM:20241212T160000;PT10M;2;Steinbeck/Steinbeck vs. Struckman/McCarter
END:VEVENT
BEGIN:VEVENT
DTSTART:20241212T180000
DTEND:20241212T184000
SUMMARY:Herdt/Herdt vs. Ferguson/Misuraca
DESCRIPTION:PUPC Thursday Low Inter - EarlyWinter24 - Paddle Up Pickleball Club
LOCATION:Court 6
CATEGORIES:QuickScores; Pickleball Game
TRANSP:0
DALARM:20241212T160000;PT10M;2;Herdt/Herdt vs. Ferguson/Misuraca
END:VEVENT
BEGIN:VEVENT
DTSTART:20241212T184000
DTEND:20241212T192000
SUMMARY:Miles/Miles vs. Chi/Beauchamp
DESCRIPTION:PUPC Thursday Low Inter - EarlyWinter24 - Paddle Up Pickleball Club
LOCATION:Court 3
CATEGORIES:QuickScores; Pickleball Game
TRANSP:0
DALARM:20241212T164000;PT10M;2;Miles/Miles vs. Chi/Beauchamp
END:VEVENT
BEGIN:VEVENT
DTSTART:20241212T184000
DTEND:20241212T192000
SUMMARY:Schneider/Riebel vs. Gordon/Gordon
DESCRIPTION:PUPC Thursday Low Inter - EarlyWinter24 - Paddle Up Pickleball Club
LOCATION:Court 6
CATEGORIES:QuickScores; Pickleball Game
TRANSP:0
DALARM:20241212T164000;PT10M;2;Schneider/Riebel vs. Gordon/Gordon
END:VEVENT
BEGIN:VEVENT
DTSTART:20241212T192000
DTEND:20241212T200000
SUMMARY:Schneider/Riebel vs. Chi/Beauchamp
DESCRIPTION:PUPC Thursday Low Inter - EarlyWinter24 - Paddle Up Pickleball Club
LOCATION:Court 6
CATEGORIES:QuickScores; Pickleball Game
TRANSP:0
DALARM:20241212T172000;PT10M;2;Schneider/Riebel vs. Chi/Beauchamp
END:VEVENT
BEGIN:VEVENT
DTSTART:20241212T192000
DTEND:20241212T200000
SUMMARY:Miles/Miles vs. Struckman/McCarter
DESCRIPTION:PUPC Thursday Low Inter - EarlyWinter24 - Paddle Up Pickleball Club
LOCATION:Court 3
CATEGORIES:QuickScores; Pickleball Game
TRANSP:0
DALARM:20241212T172000;PT10M;2;Miles/Miles vs. Struckman/McCarter
END:VEVENT
BEGIN:VEVENT
DTSTART:20241219T172000
DTEND:20241219T180000
SUMMARY:Miles/Miles vs. Steinbeck/Steinbeck
DESCRIPTION:PUPC Thursday Low Inter - EarlyWinter24 - Paddle Up Pickleball Club
LOCATION:Court 3
CATEGORIES:QuickScores; Pickleball Game
TRANSP:0
DALARM:20241219T152000;PT10M;2;Miles/Miles vs. Steinbeck/Steinbeck
END:VEVENT
BEGIN:VEVENT
DTSTART:20241219T172000
DTEND:20241219T180000
SUMMARY:Gordon/Gordon vs. Ferguson/Misuraca
DESCRIPTION:PUPC Thursday Low Inter - EarlyWinter24 - Paddle Up Pickleball Club
LOCATION:Court 6
CATEGORIES:QuickScores; Pickleball Game
TRANSP:0
DALARM:20241219T152000;PT10M;2;Gordon/Gordon vs. Ferguson/Misuraca
END:VEVENT
BEGIN:VEVENT
DTSTART:20241219T180000
DTEND:20241219T184000
SUMMARY:Steinbeck/Steinbeck vs. Gordon/Gordon
DESCRIPTION:PUPC Thursday Low Inter - EarlyWinter24 - Paddle Up Pickleball Club
LOCATION:Court 6
CATEGORIES:QuickScores; Pickleball Game
TRANSP:0
DALARM:20241219T160000;PT10M;2;Steinbeck/Steinbeck vs. Gordon/Gordon
END:VEVENT
BEGIN:VEVENT
DTSTART:20241219T180000
DTEND:20241219T184000
SUMMARY:Miles/Miles vs. Herdt/Herdt
DESCRIPTION:PUPC Thursday Low Inter - EarlyWinter24 - Paddle Up Pickleball Club
LOCATION:Court 3
CATEGORIES:QuickScores; Pickleball Game
TRANSP:0
DALARM:20241219T160000;PT10M;2;Miles/Miles vs. Herdt/Herdt
END:VEVENT
BEGIN:VEVENT
DTSTART:20241219T184000
DTEND:20241219T192000
SUMMARY:Schneider/Riebel vs. Ferguson/Misuraca
DESCRIPTION:PUPC Thursday Low Inter - EarlyWinter24 - Paddle Up Pickleball Club
LOCATION:Court 6
CATEGORIES:QuickScores; Pickleball Game
TRANSP:0
DALARM:20241219T164000;PT10M;2;Schneider/Riebel vs. Ferguson/Misuraca
END:VEVENT
BEGIN:VEVENT
DTSTART:20241219T184000
DTEND:20241219T192000
SUMMARY:Struckman/McCarter vs. Chi/Beauchamp
DESCRIPTION:PUPC Thursday Low Inter - EarlyWinter24 - Paddle Up Pickleball Club
LOCATION:Court 3
CATEGORIES:QuickScores; Pickleball Game
TRANSP:0
DALARM:20241219T164000;PT10M;2;Struckman/McCarter vs. Chi/Beauchamp
END:VEVENT
BEGIN:VEVENT
DTSTART:20241219T192000
DTEND:20241219T200000
SUMMARY:Schneider/Riebel vs. Struckman/McCarter
DESCRIPTION:PUPC Thursday Low Inter - EarlyWinter24 - Paddle Up Pickleball Club
LOCATION:Court 6
CATEGORIES:QuickScores; Pickleball Game
TRANSP:0
DALARM:20241219T172000;PT10M;2;Schneider/Riebel vs. Struckman/McCarter
END:VEVENT
BEGIN:VEVENT
DTSTART:20241219T192000
DTEND:20241219T200000
SUMMARY:Herdt/Herdt vs. Chi/Beauchamp
DESCRIPTION:PUPC Thursday Low Inter - EarlyWinter24 - Paddle Up Pickleball Club
LOCATION:Court 3
CATEGORIES:QuickScores; Pickleball Game
TRANSP:0
DALARM:20241219T172000;PT10M;2;Herdt/Herdt vs. Chi/Beauchamp
END:VEVENT
BEGIN:VEVENT
DTSTART:20250102T183000
DTEND:20250102T190000
SUMMARY:[4] Gordon/Gordon vs. [5] Schneider/Riebel
DESCRIPTION:PUPC Thursday Low Inter - EarlyWinter24 - Paddle Up Pickleball Club
LOCATION:Court 9
CATEGORIES:QuickScores; Pickleball Game
TRANSP:0
DALARM:20250102T163000;PT10M;2;[4] Gordon/Gordon vs. [5] Schneider/Riebel
END:VEVENT
BEGIN:VEVENT
DTSTART:20250102T183000
DTEND:20250102T190000
SUMMARY:[1] Miles/Miles vs. [8] Ferguson/Misuraca
DESCRIPTION:PUPC Thursday Low Inter - EarlyWinter24 - Paddle Up Pickleball Club
LOCATION:Court 2
CATEGORIES:QuickScores; Pickleball Game
TRANSP:0
DALARM:20250102T163000;PT10M;2;[1] Miles/Miles vs. [8] Ferguson/Misuraca
END:VEVENT
BEGIN:VEVENT
DTSTART:20250102T190000
DTEND:20250102T193000
SUMMARY:[2] Steinbeck/Steinbeck vs. [7] Chi/Beauchamp
DESCRIPTION:PUPC Thursday Low Inter - EarlyWinter24 - Paddle Up Pickleball Club
LOCATION:Court 2
CATEGORIES:QuickScores; Pickleball Game
TRANSP:0
DALARM:20250102T170000;PT10M;2;[2] Steinbeck/Steinbeck vs. [7] Chi/Beauchamp
END:VEVENT
BEGIN:VEVENT
DTSTART:20250102T190000
DTEND:20250102T193000
SUMMARY:[3] Herdt/Herdt vs. [6] Struckman/McCarter
DESCRIPTION:PUPC Thursday Low Inter - EarlyWinter24 - Paddle Up Pickleball Club
LOCATION:Court 9
CATEGORIES:QuickScores; Pickleball Game
TRANSP:0
DALARM:20250102T170000;PT10M;2;[3] Herdt/Herdt vs. [6] Struckman/McCarter
END:VEVENT
BEGIN:VEVENT
DTSTART:20250102T193000
DTEND:20250102T200000
SUMMARY:Winner of Game 1 vs. Winner of Game 2
DESCRIPTION:PUPC Thursday Low Inter - EarlyWinter24 - Paddle Up Pickleball Club
LOCATION:Court 3
CATEGORIES:QuickScores; Pickleball Game
TRANSP:0
DALARM:20250102T173000;PT10M;2;Winner of Game 1 vs. Winner of Game 2
END:VEVENT
BEGIN:VEVENT
DTSTART:20250102T200000
DTEND:20250102T203000
SUMMARY:Winner of Game 3 vs. Winner of Game 4
DESCRIPTION:PUPC Thursday Low Inter - EarlyWinter24 - Paddle Up Pickleball Club
LOCATION:Court 3
CATEGORIES:QuickScores; Pickleball Game
TRANSP:0
DALARM:20250102T180000;PT10M;2;Winner of Game 3 vs. Winner of Game 4
END:VEVENT
BEGIN:VEVENT
DTSTART:20250102T203000
DTEND:20250102T210000
SUMMARY:Winner of Game 5 vs. Winner of Game 6
DESCRIPTION:PUPC Thursday Low Inter - EarlyWinter24 - Paddle Up Pickleball Club
LOCATION:Court 3
CATEGORIES:QuickScores; Pickleball Game
TRANSP:0
DALARM:20250102T183000;PT10M;2;Winner of Game 5 vs. Winner of Game 6
END:VEVENT
END:VCALENDAR
