BEGIN:VCALENDAR
VERSION:1.0
BEGIN:VEVENT
DTSTART:20241119T172000
DTEND:20241119T180000
SUMMARY:Struckmann/Struckmann vs. Chi/Pabst
DESCRIPTION:PUPC Tuesday Recreational - EarlyWinter24 - Paddle Up Pickleball Club
LOCATION:Court 8
CATEGORIES:QuickScores; Pickleball Game
TRANSP:0
DALARM:20241119T152000;PT10M;2;Struckmann/Struckmann vs. Chi/Pabst
END:VEVENT
BEGIN:VEVENT
DTSTART:20241119T180000
DTEND:20241119T184000
SUMMARY:Patterson/Fox vs. Segelle/Wu
DESCRIPTION:PUPC Tuesday Recreational - EarlyWinter24 - Paddle Up Pickleball Club
LOCATION:Court 5
CATEGORIES:QuickScores; Pickleball Game
TRANSP:0
DALARM:20241119T160000;PT10M;2;Patterson/Fox vs. Segelle/Wu
END:VEVENT
BEGIN:VEVENT
DTSTART:20241119T180000
DTEND:20241119T184000
SUMMARY:Kelting/Kelting vs. Chi/Pabst
DESCRIPTION:PUPC Tuesday Recreational - EarlyWinter24 - Paddle Up Pickleball Club
LOCATION:Court 8
CATEGORIES:QuickScores; Pickleball Game
TRANSP:0
DALARM:20241119T160000;PT10M;2;Kelting/Kelting vs. Chi/Pabst
END:VEVENT
BEGIN:VEVENT
DTSTART:20241119T180000
DTEND:20241119T184000
SUMMARY:Garrett/Garrett vs. Struckmann/Struckmann
DESCRIPTION:PUPC Tuesday Recreational - EarlyWinter24 - Paddle Up Pickleball Club
LOCATION:Court 7
CATEGORIES:QuickScores; Pickleball Game
TRANSP:0
DALARM:20241119T160000;PT10M;2;Garrett/Garrett vs. Struckmann/Struckmann
END:VEVENT
BEGIN:VEVENT
DTSTART:20241119T184000
DTEND:20241119T192000
SUMMARY:Kelting/Kelting vs. Garrett/Garrett
DESCRIPTION:PUPC Tuesday Recreational - EarlyWinter24 - Paddle Up Pickleball Club
LOCATION:Court 8
CATEGORIES:QuickScores; Pickleball Game
TRANSP:0
DALARM:20241119T164000;PT10M;2;Kelting/Kelting vs. Garrett/Garrett
END:VEVENT
BEGIN:VEVENT
DTSTART:20241119T184000
DTEND:20241119T192000
SUMMARY:Patterson/Fox vs. Tureen/Springer
DESCRIPTION:PUPC Tuesday Recreational - EarlyWinter24 - Paddle Up Pickleball Club
LOCATION:Court 7
CATEGORIES:QuickScores; Pickleball Game
TRANSP:0
DALARM:20241119T164000;PT10M;2;Patterson/Fox vs. Tureen/Springer
END:VEVENT
BEGIN:VEVENT
DTSTART:20241119T192000
DTEND:20241119T200000
SUMMARY:Beaudoin/Boyle vs. Malloy/Robinson
DESCRIPTION:PUPC Tuesday Recreational - EarlyWinter24 - Paddle Up Pickleball Club
LOCATION:Court 5
CATEGORIES:QuickScores; Pickleball Game
TRANSP:0
DALARM:20241119T172000;PT10M;2;Beaudoin/Boyle vs. Malloy/Robinson
END:VEVENT
BEGIN:VEVENT
DTSTART:20241119T192000
DTEND:20241119T200000
SUMMARY:Tureen/Springer vs. Mayfield/Marston
DESCRIPTION:PUPC Tuesday Recreational - EarlyWinter24 - Paddle Up Pickleball Club
LOCATION:Court 7
CATEGORIES:QuickScores; Pickleball Game
TRANSP:0
DALARM:20241119T172000;PT10M;2;Tureen/Springer vs. Mayfield/Marston
END:VEVENT
BEGIN:VEVENT
DTSTART:20241119T192000
DTEND:20241119T200000
SUMMARY:Dare/O'Keefe vs. Segelle/Wu
DESCRIPTION:PUPC Tuesday Recreational - EarlyWinter24 - Paddle Up Pickleball Club
LOCATION:Court 8
CATEGORIES:QuickScores; Pickleball Game
TRANSP:0
DALARM:20241119T172000;PT10M;2;Dare/O'Keefe vs. Segelle/Wu
END:VEVENT
BEGIN:VEVENT
DTSTART:20241119T200000
DTEND:20241119T204000
SUMMARY:EStiers/SSchiffer vs. Malloy/Robinson
DESCRIPTION:PUPC Tuesday Recreational - EarlyWinter24 - Paddle Up Pickleball Club
LOCATION:Court 7
CATEGORIES:QuickScores; Pickleball Game
TRANSP:0
DALARM:20241119T180000;PT10M;2;EStiers/SSchiffer vs. Malloy/Robinson
END:VEVENT
BEGIN:VEVENT
DTSTART:20241119T200000
DTEND:20241119T204000
SUMMARY:TStiers/RSchiffer vs. Rosner/Rosner
DESCRIPTION:PUPC Tuesday Recreational - EarlyWinter24 - Paddle Up Pickleball Club
LOCATION:Court 8
CATEGORIES:QuickScores; Pickleball Game
TRANSP:0
DALARM:20241119T180000;PT10M;2;TStiers/RSchiffer vs. Rosner/Rosner
END:VEVENT
BEGIN:VEVENT
DTSTART:20241119T204000
DTEND:20241119T212000
SUMMARY:Beaudoin/Boyle vs. Rosner/Rosner
DESCRIPTION:PUPC Tuesday Recreational - EarlyWinter24 - Paddle Up Pickleball Club
LOCATION:Court 5
CATEGORIES:QuickScores; Pickleball Game
TRANSP:0
DALARM:20241119T184000;PT10M;2;Beaudoin/Boyle vs. Rosner/Rosner
END:VEVENT
BEGIN:VEVENT
DTSTART:20241119T204000
DTEND:20241119T212000
SUMMARY:Dare/O'Keefe vs. TStiers/RSchiffer
DESCRIPTION:PUPC Tuesday Recreational - EarlyWinter24 - Paddle Up Pickleball Club
LOCATION:Court 8
CATEGORIES:QuickScores; Pickleball Game
TRANSP:0
DALARM:20241119T184000;PT10M;2;Dare/O'Keefe vs. TStiers/RSchiffer
END:VEVENT
BEGIN:VEVENT
DTSTART:20241119T204000
DTEND:20241119T212000
SUMMARY:EStiers/SSchiffer vs. Mayfield/Marston
DESCRIPTION:PUPC Tuesday Recreational - EarlyWinter24 - Paddle Up Pickleball Club
LOCATION:Court 7
CATEGORIES:QuickScores; Pickleball Game
TRANSP:0
DALARM:20241119T184000;PT10M;2;EStiers/SSchiffer vs. Mayfield/Marston
END:VEVENT
BEGIN:VEVENT
DTSTART:20241126T172000
DTEND:20241126T180000
SUMMARY:Garrett/Garrett vs. Rosner/Rosner
DESCRIPTION:PUPC Tuesday Recreational - EarlyWinter24 - Paddle Up Pickleball Club
LOCATION:Court 7
CATEGORIES:QuickScores; Pickleball Game
TRANSP:0
DALARM:20241126T152000;PT10M;2;Garrett/Garrett vs. Rosner/Rosner
END:VEVENT
BEGIN:VEVENT
DTSTART:20241126T172000
DTEND:20241126T180000
SUMMARY:Dare/O'Keefe vs. Mayfield/Marston
DESCRIPTION:PUPC Tuesday Recreational - EarlyWinter24 - Paddle Up Pickleball Club
LOCATION:Court 8
CATEGORIES:QuickScores; Pickleball Game
TRANSP:0
DALARM:20241126T152000;PT10M;2;Dare/O'Keefe vs. Mayfield/Marston
END:VEVENT
BEGIN:VEVENT
DTSTART:20241126T180000
DTEND:20241126T184000
SUMMARY:Garrett/Garrett vs. Patterson/Fox
DESCRIPTION:PUPC Tuesday Recreational - EarlyWinter24 - Paddle Up Pickleball Club
LOCATION:Court 7
CATEGORIES:QuickScores; Pickleball Game
TRANSP:0
DALARM:20241126T160000;PT10M;2;Garrett/Garrett vs. Patterson/Fox
END:VEVENT
BEGIN:VEVENT
DTSTART:20241126T180000
DTEND:20241126T184000
SUMMARY:Mayfield/Marston vs. Beaudoin/Boyle
DESCRIPTION:PUPC Tuesday Recreational - EarlyWinter24 - Paddle Up Pickleball Club
LOCATION:Court 8
CATEGORIES:QuickScores; Pickleball Game
TRANSP:0
DALARM:20241126T160000;PT10M;2;Mayfield/Marston vs. Beaudoin/Boyle
END:VEVENT
BEGIN:VEVENT
DTSTART:20241126T180000
DTEND:20241126T184000
SUMMARY:Rosner/Rosner vs. Dare/O'Keefe
DESCRIPTION:PUPC Tuesday Recreational - EarlyWinter24 - Paddle Up Pickleball Club
LOCATION:Court 5
CATEGORIES:QuickScores; Pickleball Game
TRANSP:0
DALARM:20241126T160000;PT10M;2;Rosner/Rosner vs. Dare/O'Keefe
END:VEVENT
BEGIN:VEVENT
DTSTART:20241126T184000
DTEND:20241126T192000
SUMMARY:Segelle/Wu vs. Patterson/Fox
DESCRIPTION:PUPC Tuesday Recreational - EarlyWinter24 - Paddle Up Pickleball Club
LOCATION:Court 7
CATEGORIES:QuickScores; Pickleball Game
TRANSP:0
DALARM:20241126T164000;PT10M;2;Segelle/Wu vs. Patterson/Fox
END:VEVENT
BEGIN:VEVENT
DTSTART:20241126T184000
DTEND:20241126T192000
SUMMARY:Beaudoin/Boyle vs. Struckmann/Struckmann
DESCRIPTION:PUPC Tuesday Recreational - EarlyWinter24 - Paddle Up Pickleball Club
LOCATION:Court 8
CATEGORIES:QuickScores; Pickleball Game
TRANSP:0
DALARM:20241126T164000;PT10M;2;Beaudoin/Boyle vs. Struckmann/Struckmann
END:VEVENT
BEGIN:VEVENT
DTSTART:20241126T192000
DTEND:20241126T200000
SUMMARY:Russo/Russo vs. EStiers/SSchiffer
DESCRIPTION:PUPC Tuesday Recreational - EarlyWinter24 - Paddle Up Pickleball Club
LOCATION:Court 8
CATEGORIES:QuickScores; Pickleball Game
TRANSP:0
DALARM:20241126T172000;PT10M;2;Russo/Russo vs. EStiers/SSchiffer
END:VEVENT
BEGIN:VEVENT
DTSTART:20241126T192000
DTEND:20241126T200000
SUMMARY:Tureen/Springer vs. Struckmann/Struckmann
DESCRIPTION:PUPC Tuesday Recreational - EarlyWinter24 - Paddle Up Pickleball Club
LOCATION:Court 7
CATEGORIES:QuickScores; Pickleball Game
TRANSP:0
DALARM:20241126T172000;PT10M;2;Tureen/Springer vs. Struckmann/Struckmann
END:VEVENT
BEGIN:VEVENT
DTSTART:20241126T192000
DTEND:20241126T200000
SUMMARY:Segelle/Wu vs. TStiers/RSchiffer
DESCRIPTION:PUPC Tuesday Recreational - EarlyWinter24 - Paddle Up Pickleball Club
LOCATION:Court 5
CATEGORIES:QuickScores; Pickleball Game
TRANSP:0
DALARM:20241126T172000;PT10M;2;Segelle/Wu vs. TStiers/RSchiffer
END:VEVENT
BEGIN:VEVENT
DTSTART:20241126T200000
DTEND:20241126T204000
SUMMARY:Malloy/Robinson vs. Kelting/Kelting
DESCRIPTION:PUPC Tuesday Recreational - EarlyWinter24 - Paddle Up Pickleball Club
LOCATION:Court 7
CATEGORIES:QuickScores; Pickleball Game
TRANSP:0
DALARM:20241126T180000;PT10M;2;Malloy/Robinson vs. Kelting/Kelting
END:VEVENT
BEGIN:VEVENT
DTSTART:20241126T200000
DTEND:20241126T204000
SUMMARY:Chi/Pabst vs. EStiers/SSchiffer
DESCRIPTION:PUPC Tuesday Recreational - EarlyWinter24 - Paddle Up Pickleball Club
LOCATION:Court 8
CATEGORIES:QuickScores; Pickleball Game
TRANSP:0
DALARM:20241126T180000;PT10M;2;Chi/Pabst vs. EStiers/SSchiffer
END:VEVENT
BEGIN:VEVENT
DTSTART:20241126T204000
DTEND:20241126T212000
SUMMARY:Tureen/Springer vs. Chi/Pabst
DESCRIPTION:PUPC Tuesday Recreational - EarlyWinter24 - Paddle Up Pickleball Club
LOCATION:Court 7
CATEGORIES:QuickScores; Pickleball Game
TRANSP:0
DALARM:20241126T184000;PT10M;2;Tureen/Springer vs. Chi/Pabst
END:VEVENT
BEGIN:VEVENT
DTSTART:20241126T204000
DTEND:20241126T212000
SUMMARY:Russo/Russo vs. Kelting/Kelting
DESCRIPTION:PUPC Tuesday Recreational - EarlyWinter24 - Paddle Up Pickleball Club
LOCATION:Court 8
CATEGORIES:QuickScores; Pickleball Game
TRANSP:0
DALARM:20241126T184000;PT10M;2;Russo/Russo vs. Kelting/Kelting
END:VEVENT
BEGIN:VEVENT
DTSTART:20241126T204000
DTEND:20241126T212000
SUMMARY:TStiers/RSchiffer vs. Malloy/Robinson
DESCRIPTION:PUPC Tuesday Recreational - EarlyWinter24 - Paddle Up Pickleball Club
LOCATION:Court 5
CATEGORIES:QuickScores; Pickleball Game
TRANSP:0
DALARM:20241126T184000;PT10M;2;TStiers/RSchiffer vs. Malloy/Robinson
END:VEVENT
BEGIN:VEVENT
DTSTART:20241203T172000
DTEND:20241203T180000
SUMMARY:Rosner/Rosner vs. Russo/Russo
DESCRIPTION:PUPC Tuesday Recreational - EarlyWinter24 - Paddle Up Pickleball Club
LOCATION:Court 8
CATEGORIES:QuickScores; Pickleball Game
TRANSP:0
DALARM:20241203T152000;PT10M;2;Rosner/Rosner vs. Russo/Russo
END:VEVENT
BEGIN:VEVENT
DTSTART:20241203T180000
DTEND:20241203T184000
SUMMARY:Rosner/Rosner vs. TStiers/RSchiffer
DESCRIPTION:PUPC Tuesday Recreational - EarlyWinter24 - Paddle Up Pickleball Club
LOCATION:Court 5
CATEGORIES:QuickScores; Pickleball Game
TRANSP:0
DALARM:20241203T160000;PT10M;2;Rosner/Rosner vs. TStiers/RSchiffer
END:VEVENT
BEGIN:VEVENT
DTSTART:20241203T180000
DTEND:20241203T184000
SUMMARY:Russo/Russo vs. Dare/O'Keefe
DESCRIPTION:PUPC Tuesday Recreational - EarlyWinter24 - Paddle Up Pickleball Club
LOCATION:Court 8
CATEGORIES:QuickScores; Pickleball Game
TRANSP:0
DALARM:20241203T160000;PT10M;2;Russo/Russo vs. Dare/O'Keefe
END:VEVENT
BEGIN:VEVENT
DTSTART:20241203T180000
DTEND:20241203T184000
SUMMARY:Beaudoin/Boyle vs. Tureen/Springer
DESCRIPTION:PUPC Tuesday Recreational - EarlyWinter24 - Paddle Up Pickleball Club
LOCATION:Court 7
CATEGORIES:QuickScores; Pickleball Game
TRANSP:0
DALARM:20241203T160000;PT10M;2;Beaudoin/Boyle vs. Tureen/Springer
END:VEVENT
BEGIN:VEVENT
DTSTART:20241203T184000
DTEND:20241203T192000
SUMMARY:TStiers/RSchiffer vs. Tureen/Springer
DESCRIPTION:PUPC Tuesday Recreational - EarlyWinter24 - Paddle Up Pickleball Club
LOCATION:Court 7
CATEGORIES:QuickScores; Pickleball Game
TRANSP:0
DALARM:20241203T164000;PT10M;2;TStiers/RSchiffer vs. Tureen/Springer
END:VEVENT
BEGIN:VEVENT
DTSTART:20241203T184000
DTEND:20241203T192000
SUMMARY:Dare/O'Keefe vs. Kelting/Kelting
DESCRIPTION:PUPC Tuesday Recreational - EarlyWinter24 - Paddle Up Pickleball Club
LOCATION:Court 8
CATEGORIES:QuickScores; Pickleball Game
TRANSP:0
DALARM:20241203T164000;PT10M;2;Dare/O'Keefe vs. Kelting/Kelting
END:VEVENT
BEGIN:VEVENT
DTSTART:20241203T192000
DTEND:20241203T200000
SUMMARY:Mayfield/Marston vs. Chi/Pabst
DESCRIPTION:PUPC Tuesday Recreational - EarlyWinter24 - Paddle Up Pickleball Club
LOCATION:Court 5
CATEGORIES:QuickScores; Pickleball Game
TRANSP:0
DALARM:20241203T172000;PT10M;2;Mayfield/Marston vs. Chi/Pabst
END:VEVENT
BEGIN:VEVENT
DTSTART:20241203T192000
DTEND:20241203T200000
SUMMARY:Struckmann/Struckmann vs. Kelting/Kelting
DESCRIPTION:PUPC Tuesday Recreational - EarlyWinter24 - Paddle Up Pickleball Club
LOCATION:Court 8
CATEGORIES:QuickScores; Pickleball Game
TRANSP:0
DALARM:20241203T172000;PT10M;2;Struckmann/Struckmann vs. Kelting/Kelting
END:VEVENT
BEGIN:VEVENT
DTSTART:20241203T192000
DTEND:20241203T200000
SUMMARY:Beaudoin/Boyle vs. Garrett/Garrett
DESCRIPTION:PUPC Tuesday Recreational - EarlyWinter24 - Paddle Up Pickleball Club
LOCATION:Court 7
CATEGORIES:QuickScores; Pickleball Game
TRANSP:0
DALARM:20241203T172000;PT10M;2;Beaudoin/Boyle vs. Garrett/Garrett
END:VEVENT
BEGIN:VEVENT
DTSTART:20241203T200000
DTEND:20241203T204000
SUMMARY:Patterson/Fox vs. Mayfield/Marston
DESCRIPTION:PUPC Tuesday Recreational - EarlyWinter24 - Paddle Up Pickleball Club
LOCATION:Court 7
CATEGORIES:QuickScores; Pickleball Game
TRANSP:0
DALARM:20241203T180000;PT10M;2;Patterson/Fox vs. Mayfield/Marston
END:VEVENT
BEGIN:VEVENT
DTSTART:20241203T200000
DTEND:20241203T204000
SUMMARY:EStiers/SSchiffer vs. Segelle/Wu
DESCRIPTION:PUPC Tuesday Recreational - EarlyWinter24 - Paddle Up Pickleball Club
LOCATION:Court 8
CATEGORIES:QuickScores; Pickleball Game
TRANSP:0
DALARM:20241203T180000;PT10M;2;EStiers/SSchiffer vs. Segelle/Wu
END:VEVENT
BEGIN:VEVENT
DTSTART:20241203T204000
DTEND:20241203T212000
SUMMARY:Segelle/Wu vs. Garrett/Garrett
DESCRIPTION:PUPC Tuesday Recreational - EarlyWinter24 - Paddle Up Pickleball Club
LOCATION:Court 7
CATEGORIES:QuickScores; Pickleball Game
TRANSP:0
DALARM:20241203T184000;PT10M;2;Segelle/Wu vs. Garrett/Garrett
END:VEVENT
BEGIN:VEVENT
DTSTART:20241203T204000
DTEND:20241203T212000
SUMMARY:EStiers/SSchiffer vs. Struckmann/Struckmann
DESCRIPTION:PUPC Tuesday Recreational - EarlyWinter24 - Paddle Up Pickleball Club
LOCATION:Court 8
CATEGORIES:QuickScores; Pickleball Game
TRANSP:0
DALARM:20241203T184000;PT10M;2;EStiers/SSchiffer vs. Struckmann/Struckmann
END:VEVENT
BEGIN:VEVENT
DTSTART:20241203T204000
DTEND:20241203T212000
SUMMARY:Chi/Pabst vs. Patterson/Fox
DESCRIPTION:PUPC Tuesday Recreational - EarlyWinter24 - Paddle Up Pickleball Club
LOCATION:Court 5
CATEGORIES:QuickScores; Pickleball Game
TRANSP:0
DALARM:20241203T184000;PT10M;2;Chi/Pabst vs. Patterson/Fox
END:VEVENT
BEGIN:VEVENT
DTSTART:20241210T172000
DTEND:20241210T180000
SUMMARY:Garrett/Garrett vs. Dare/O'Keefe
DESCRIPTION:PUPC Tuesday Recreational - EarlyWinter24 - Paddle Up Pickleball Club
LOCATION:Court 7
CATEGORIES:QuickScores; Pickleball Game
TRANSP:0
DALARM:20241210T152000;PT10M;2;Garrett/Garrett vs. Dare/O'Keefe
END:VEVENT
BEGIN:VEVENT
DTSTART:20241210T172000
DTEND:20241210T180000
SUMMARY:Struckmann/Struckmann vs. Chi/Pabst
DESCRIPTION:PUPC Tuesday Recreational - EarlyWinter24 - Paddle Up Pickleball Club
LOCATION:Court 8
CATEGORIES:QuickScores; Pickleball Game
TRANSP:0
DALARM:20241210T152000;PT10M;2;Struckmann/Struckmann vs. Chi/Pabst
END:VEVENT
BEGIN:VEVENT
DTSTART:20241210T180000
DTEND:20241210T184000
SUMMARY:Tureen/Springer vs. Dare/O'Keefe
DESCRIPTION:PUPC Tuesday Recreational - EarlyWinter24 - Paddle Up Pickleball Club
LOCATION:Court 7
CATEGORIES:QuickScores; Pickleball Game
TRANSP:0
DALARM:20241210T160000;PT10M;2;Tureen/Springer vs. Dare/O'Keefe
END:VEVENT
BEGIN:VEVENT
DTSTART:20241210T180000
DTEND:20241210T184000
SUMMARY:Chi/Pabst vs. Garrett/Garrett
DESCRIPTION:PUPC Tuesday Recreational - EarlyWinter24 - Paddle Up Pickleball Club
LOCATION:Court 5
CATEGORIES:QuickScores; Pickleball Game
TRANSP:0
DALARM:20241210T160000;PT10M;2;Chi/Pabst vs. Garrett/Garrett
END:VEVENT
BEGIN:VEVENT
DTSTART:20241210T180000
DTEND:20241210T184000
SUMMARY:TStiers/RSchiffer vs. Struckmann/Struckmann
DESCRIPTION:PUPC Tuesday Recreational - EarlyWinter24 - Paddle Up Pickleball Club
LOCATION:Court 8
CATEGORIES:QuickScores; Pickleball Game
TRANSP:0
DALARM:20241210T160000;PT10M;2;TStiers/RSchiffer vs. Struckmann/Struckmann
END:VEVENT
BEGIN:VEVENT
DTSTART:20241210T184000
DTEND:20241210T192000
SUMMARY:TStiers/RSchiffer vs. Beaudoin/Boyle
DESCRIPTION:PUPC Tuesday Recreational - EarlyWinter24 - Paddle Up Pickleball Club
LOCATION:Court 7
CATEGORIES:QuickScores; Pickleball Game
TRANSP:0
DALARM:20241210T164000;PT10M;2;TStiers/RSchiffer vs. Beaudoin/Boyle
END:VEVENT
BEGIN:VEVENT
DTSTART:20241210T184000
DTEND:20241210T192000
SUMMARY:Russo/Russo vs. Tureen/Springer
DESCRIPTION:PUPC Tuesday Recreational - EarlyWinter24 - Paddle Up Pickleball Club
LOCATION:Court 8
CATEGORIES:QuickScores; Pickleball Game
TRANSP:0
DALARM:20241210T164000;PT10M;2;Russo/Russo vs. Tureen/Springer
END:VEVENT
BEGIN:VEVENT
DTSTART:20241210T192000
DTEND:20241210T200000
SUMMARY:Segelle/Wu vs. Russo/Russo
DESCRIPTION:PUPC Tuesday Recreational - EarlyWinter24 - Paddle Up Pickleball Club
LOCATION:Court 8
CATEGORIES:QuickScores; Pickleball Game
TRANSP:0
DALARM:20241210T172000;PT10M;2;Segelle/Wu vs. Russo/Russo
END:VEVENT
BEGIN:VEVENT
DTSTART:20241210T192000
DTEND:20241210T200000
SUMMARY:EStiers/SSchiffer vs. Rosner/Rosner
DESCRIPTION:PUPC Tuesday Recreational - EarlyWinter24 - Paddle Up Pickleball Club
LOCATION:Court 5
CATEGORIES:QuickScores; Pickleball Game
TRANSP:0
DALARM:20241210T172000;PT10M;2;EStiers/SSchiffer vs. Rosner/Rosner
END:VEVENT
BEGIN:VEVENT
DTSTART:20241210T192000
DTEND:20241210T200000
SUMMARY:Beaudoin/Boyle vs. Patterson/Fox
DESCRIPTION:PUPC Tuesday Recreational - EarlyWinter24 - Paddle Up Pickleball Club
LOCATION:Court 7
CATEGORIES:QuickScores; Pickleball Game
TRANSP:0
DALARM:20241210T172000;PT10M;2;Beaudoin/Boyle vs. Patterson/Fox
END:VEVENT
BEGIN:VEVENT
DTSTART:20241210T200000
DTEND:20241210T204000
SUMMARY:Rosner/Rosner vs. Mayfield/Marston
DESCRIPTION:PUPC Tuesday Recreational - EarlyWinter24 - Paddle Up Pickleball Club
LOCATION:Court 8
CATEGORIES:QuickScores; Pickleball Game
TRANSP:0
DALARM:20241210T180000;PT10M;2;Rosner/Rosner vs. Mayfield/Marston
END:VEVENT
BEGIN:VEVENT
DTSTART:20241210T200000
DTEND:20241210T204000
SUMMARY:Kelting/Kelting vs. EStiers/SSchiffer
DESCRIPTION:PUPC Tuesday Recreational - EarlyWinter24 - Paddle Up Pickleball Club
LOCATION:Court 7
CATEGORIES:QuickScores; Pickleball Game
TRANSP:0
DALARM:20241210T180000;PT10M;2;Kelting/Kelting vs. EStiers/SSchiffer
END:VEVENT
BEGIN:VEVENT
DTSTART:20241210T204000
DTEND:20241210T212000
SUMMARY:Mayfield/Marston vs. Segelle/Wu
DESCRIPTION:PUPC Tuesday Recreational - EarlyWinter24 - Paddle Up Pickleball Club
LOCATION:Court 8
CATEGORIES:QuickScores; Pickleball Game
TRANSP:0
DALARM:20241210T184000;PT10M;2;Mayfield/Marston vs. Segelle/Wu
END:VEVENT
BEGIN:VEVENT
DTSTART:20241210T204000
DTEND:20241210T212000
SUMMARY:Patterson/Fox vs. Kelting/Kelting
DESCRIPTION:PUPC Tuesday Recreational - EarlyWinter24 - Paddle Up Pickleball Club
LOCATION:Court 7
CATEGORIES:QuickScores; Pickleball Game
TRANSP:0
DALARM:20241210T184000;PT10M;2;Patterson/Fox vs. Kelting/Kelting
END:VEVENT
BEGIN:VEVENT
DTSTART:20241217T190000
DTEND:20241217T193000
SUMMARY:#3 Chi/Pabst vs. #14 Beaudoin/Boyle
DESCRIPTION:PUPC Tuesday Recreational - EarlyWinter24 - Paddle Up Pickleball Club
LOCATION:Court 7
CATEGORIES:QuickScores; Pickleball Game
TRANSP:0
DALARM:20241217T170000;PT10M;2;#3 Chi/Pabst vs. #14 Beaudoin/Boyle
END:VEVENT
BEGIN:VEVENT
DTSTART:20241217T190000
DTEND:20241217T193000
SUMMARY:#7 Segelle/Wu vs. #10 Dare/O'Keefe
DESCRIPTION:PUPC Tuesday Recreational - EarlyWinter24 - Paddle Up Pickleball Club
LOCATION:Court 3
CATEGORIES:QuickScores; Pickleball Game
TRANSP:0
DALARM:20241217T170000;PT10M;2;#7 Segelle/Wu vs. #10 Dare/O'Keefe
END:VEVENT
BEGIN:VEVENT
DTSTART:20241217T190000
DTEND:20241217T193000
SUMMARY:#5 TStiers/RSchiffer vs. #12 Tureen/Springer
DESCRIPTION:PUPC Tuesday Recreational - EarlyWinter24 - Paddle Up Pickleball Club
LOCATION:Court 2
CATEGORIES:QuickScores; Pickleball Game
TRANSP:0
DALARM:20241217T170000;PT10M;2;#5 TStiers/RSchiffer vs. #12 Tureen/Springer
END:VEVENT
BEGIN:VEVENT
DTSTART:20241217T190000
DTEND:20241217T193000
SUMMARY:#4 Patterson/Fox vs. #13 Garrett/Garrett
DESCRIPTION:PUPC Tuesday Recreational - EarlyWinter24 - Paddle Up Pickleball Club
LOCATION:Court 8
CATEGORIES:QuickScores; Pickleball Game
TRANSP:0
DALARM:20241217T170000;PT10M;2;#4 Patterson/Fox vs. #13 Garrett/Garrett
END:VEVENT
BEGIN:VEVENT
DTSTART:20241217T190000
DTEND:20241217T193000
SUMMARY:#8 Rosner/Rosner vs. #9 Kelting/Kelting
DESCRIPTION:PUPC Tuesday Recreational - EarlyWinter24 - Paddle Up Pickleball Club
LOCATION:Court 5
CATEGORIES:QuickScores; Pickleball Game
TRANSP:0
DALARM:20241217T170000;PT10M;2;#8 Rosner/Rosner vs. #9 Kelting/Kelting
END:VEVENT
BEGIN:VEVENT
DTSTART:20241217T193000
DTEND:20241217T200000
SUMMARY:#2 Mayfield/Marston vs. Winner of Game 4
DESCRIPTION:PUPC Tuesday Recreational - EarlyWinter24 - Paddle Up Pickleball Club
LOCATION:Court 3
CATEGORIES:QuickScores; Pickleball Game
TRANSP:0
DALARM:20241217T173000;PT10M;2;#2 Mayfield/Marston vs. Winner of Game 4
END:VEVENT
BEGIN:VEVENT
DTSTART:20241217T193000
DTEND:20241217T200000
SUMMARY:#1 Russo/Russo vs. Winner of Game 1
DESCRIPTION:PUPC Tuesday Recreational - EarlyWinter24 - Paddle Up Pickleball Club
LOCATION:Court 5
CATEGORIES:QuickScores; Pickleball Game
TRANSP:0
DALARM:20241217T173000;PT10M;2;#1 Russo/Russo vs. Winner of Game 1
END:VEVENT
BEGIN:VEVENT
DTSTART:20241217T193000
DTEND:20241217T200000
SUMMARY:#6 Struckmann/Struckmann vs. #11 EStiers/SSchiffer
DESCRIPTION:PUPC Tuesday Recreational - EarlyWinter24 - Paddle Up Pickleball Club
LOCATION:Court 7
CATEGORIES:QuickScores; Pickleball Game
TRANSP:0
DALARM:20241217T173000;PT10M;2;#6 Struckmann/Struckmann vs. #11 EStiers/SSchiffer
END:VEVENT
BEGIN:VEVENT
DTSTART:20241217T200000
DTEND:20241217T203000
SUMMARY:Winner of Game 2 vs. Winner of Game 3
DESCRIPTION:PUPC Tuesday Recreational - EarlyWinter24 - Paddle Up Pickleball Club
LOCATION:Court 3
CATEGORIES:QuickScores; Pickleball Game
TRANSP:0
DALARM:20241217T180000;PT10M;2;Winner of Game 2 vs. Winner of Game 3
END:VEVENT
BEGIN:VEVENT
DTSTART:20241217T200000
DTEND:20241217T203000
SUMMARY:Winner of Game 5 vs. Winner of Game 6
DESCRIPTION:PUPC Tuesday Recreational - EarlyWinter24 - Paddle Up Pickleball Club
LOCATION:Court 5
CATEGORIES:QuickScores; Pickleball Game
TRANSP:0
DALARM:20241217T180000;PT10M;2;Winner of Game 5 vs. Winner of Game 6
END:VEVENT
BEGIN:VEVENT
DTSTART:20241217T203000
DTEND:20241217T210000
SUMMARY:Winner of Game 7 vs. Winner of Game 9
DESCRIPTION:PUPC Tuesday Recreational - EarlyWinter24 - Paddle Up Pickleball Club
LOCATION:Court 5
CATEGORIES:QuickScores; Pickleball Game
TRANSP:0
DALARM:20241217T183000;PT10M;2;Winner of Game 7 vs. Winner of Game 9
END:VEVENT
BEGIN:VEVENT
DTSTART:20241217T203000
DTEND:20241217T210000
SUMMARY:Winner of Game 8 vs. Winner of Game 10
DESCRIPTION:PUPC Tuesday Recreational - EarlyWinter24 - Paddle Up Pickleball Club
LOCATION:Court 1
CATEGORIES:QuickScores; Pickleball Game
TRANSP:0
DALARM:20241217T183000;PT10M;2;Winner of Game 8 vs. Winner of Game 10
END:VEVENT
BEGIN:VEVENT
DTSTART:20241217T210000
DTEND:20241217T213000
SUMMARY:Winner of Game 11 vs. Winner of Game 12
DESCRIPTION:PUPC Tuesday Recreational - EarlyWinter24 - Paddle Up Pickleball Club
LOCATION:Court 1
CATEGORIES:QuickScores; Pickleball Game
TRANSP:0
DALARM:20241217T190000;PT10M;2;Winner of Game 11 vs. Winner of Game 12
END:VEVENT
END:VCALENDAR
