BEGIN:VCALENDAR
VERSION:1.0
BEGIN:VEVENT
DTSTART:20241116T090000
DTEND:20241116T092000
SUMMARY:FrankFleming/PaulStewart vs. SteveDuBois/CherylDubois
DESCRIPTION:Fall Classic Doubles 9am 11/16 - Paddle Up Pickleball Club
LOCATION:Court 5
CATEGORIES:QuickScores; Pickleball Game
TRANSP:0
DALARM:20241116T070000;PT10M;2;FrankFleming/PaulStewart vs. SteveDuBois/CherylDubois
END:VEVENT
BEGIN:VEVENT
DTSTART:20241116T090000
DTEND:20241116T092000
SUMMARY:BryanLopez/DerickLopez vs. SabrinaEscalona/CharlesRobbins
DESCRIPTION:Fall Classic Doubles 9am 11/16 - Paddle Up Pickleball Club
LOCATION:Court 6
CATEGORIES:QuickScores; Pickleball Game
TRANSP:0
DALARM:20241116T070000;PT10M;2;BryanLopez/DerickLopez vs. SabrinaEscalona/CharlesRobbins
END:VEVENT
BEGIN:VEVENT
DTSTART:20241116T090000
DTEND:20241116T092000
SUMMARY:PhilipVincent/DrakeVincent vs. AmandaJones/CarterGerlemann
DESCRIPTION:Fall Classic Doubles 9am 11/16 - Paddle Up Pickleball Club
LOCATION:Court 9
CATEGORIES:QuickScores; Pickleball Game
TRANSP:0
DALARM:20241116T070000;PT10M;2;PhilipVincent/DrakeVincent vs. AmandaJones/CarterGerlemann
END:VEVENT
BEGIN:VEVENT
DTSTART:20241116T090000
DTEND:20241116T092000
SUMMARY:DinaDougherty/BridgetGagne vs. KellieKeling/LauraSwindler
DESCRIPTION:Fall Classic Doubles 9am 11/16 - Paddle Up Pickleball Club
LOCATION:Court 1
CATEGORIES:QuickScores; Pickleball Game
TRANSP:0
DALARM:20241116T070000;PT10M;2;DinaDougherty/BridgetGagne vs. KellieKeling/LauraSwindler
END:VEVENT
BEGIN:VEVENT
DTSTART:20241116T090000
DTEND:20241116T092000
SUMMARY:JulieTaylor/DanielleDuHadway vs. KellyBeard/HannaOechsner
DESCRIPTION:Fall Classic Doubles 9am 11/16 - Paddle Up Pickleball Club
LOCATION:Court 2
CATEGORIES:QuickScores; Pickleball Game
TRANSP:0
DALARM:20241116T070000;PT10M;2;JulieTaylor/DanielleDuHadway vs. KellyBeard/HannaOechsner
END:VEVENT
BEGIN:VEVENT
DTSTART:20241116T090000
DTEND:20241116T092000
SUMMARY:LisaHavens/LoganHavens vs. MarcRosner/MarcRosnerJr
DESCRIPTION:Fall Classic Doubles 9am 11/16 - Paddle Up Pickleball Club
LOCATION:Court 3
CATEGORIES:QuickScores; Pickleball Game
TRANSP:0
DALARM:20241116T070000;PT10M;2;LisaHavens/LoganHavens vs. MarcRosner/MarcRosnerJr
END:VEVENT
BEGIN:VEVENT
DTSTART:20241116T090000
DTEND:20241116T092000
SUMMARY:JeffEddy/ScottStern vs. TJSlattery/DanMerrifield
DESCRIPTION:Fall Classic Doubles 9am 11/16 - Paddle Up Pickleball Club
LOCATION:Court 7
CATEGORIES:QuickScores; Pickleball Game
TRANSP:0
DALARM:20241116T070000;PT10M;2;JeffEddy/ScottStern vs. TJSlattery/DanMerrifield
END:VEVENT
BEGIN:VEVENT
DTSTART:20241116T090000
DTEND:20241116T092000
SUMMARY:WhitneyDurham/VickieWheeler vs. CassandraKornfeld/ShannonStamper
DESCRIPTION:Fall Classic Doubles 9am 11/16 - Paddle Up Pickleball Club
LOCATION:Court 8
CATEGORIES:QuickScores; Pickleball Game
TRANSP:0
DALARM:20241116T070000;PT10M;2;WhitneyDurham/VickieWheeler vs. CassandraKornfeld/ShannonStamper
END:VEVENT
BEGIN:VEVENT
DTSTART:20241116T090000
DTEND:20241116T092000
SUMMARY:AliKhaled/Said El Khezraji vs. DeniseWunderlich/MikeWunderlich
DESCRIPTION:Fall Classic Doubles 9am 11/16 - Paddle Up Pickleball Club
LOCATION:Court 4
CATEGORIES:QuickScores; Pickleball Game
TRANSP:0
DALARM:20241116T070000;PT10M;2;AliKhaled/Said El Khezraji vs. DeniseWunderlich/MikeWunderlich
END:VEVENT
BEGIN:VEVENT
DTSTART:20241116T092000
DTEND:20241116T094000
SUMMARY:CamdenScobey/KrissyCox vs. DerekPollock/JannaPollock
DESCRIPTION:Fall Classic Doubles 9am 11/16 - Paddle Up Pickleball Club
LOCATION:Court 3
CATEGORIES:QuickScores; Pickleball Game
TRANSP:0
DALARM:20241116T072000;PT10M;2;CamdenScobey/KrissyCox vs. DerekPollock/JannaPollock
END:VEVENT
BEGIN:VEVENT
DTSTART:20241116T092000
DTEND:20241116T094000
SUMMARY:TJSlattery/DanMerrifield vs. MukiSchlomka/AnkurPatel
DESCRIPTION:Fall Classic Doubles 9am 11/16 - Paddle Up Pickleball Club
LOCATION:Court 4
CATEGORIES:QuickScores; Pickleball Game
TRANSP:0
DALARM:20241116T072000;PT10M;2;TJSlattery/DanMerrifield vs. MukiSchlomka/AnkurPatel
END:VEVENT
BEGIN:VEVENT
DTSTART:20241116T092000
DTEND:20241116T094000
SUMMARY:AdamBrown/Shaun Schnurbusch vs. JeffEddy/ScottStern
DESCRIPTION:Fall Classic Doubles 9am 11/16 - Paddle Up Pickleball Club
LOCATION:Court 5
CATEGORIES:QuickScores; Pickleball Game
TRANSP:0
DALARM:20241116T072000;PT10M;2;AdamBrown/Shaun Schnurbusch vs. JeffEddy/ScottStern
END:VEVENT
BEGIN:VEVENT
DTSTART:20241116T092000
DTEND:20241116T094000
SUMMARY:AnnaDornquast/JenDuong vs. KellyBeard/HannaOechsner
DESCRIPTION:Fall Classic Doubles 9am 11/16 - Paddle Up Pickleball Club
LOCATION:Court 9
CATEGORIES:QuickScores; Pickleball Game
TRANSP:0
DALARM:20241116T072000;PT10M;2;AnnaDornquast/JenDuong vs. KellyBeard/HannaOechsner
END:VEVENT
BEGIN:VEVENT
DTSTART:20241116T092000
DTEND:20241116T094000
SUMMARY:JulieTaylor/DanielleDuHadway vs. RobinFox/LindaRobben
DESCRIPTION:Fall Classic Doubles 9am 11/16 - Paddle Up Pickleball Club
LOCATION:Court 6
CATEGORIES:QuickScores; Pickleball Game
TRANSP:0
DALARM:20241116T072000;PT10M;2;JulieTaylor/DanielleDuHadway vs. RobinFox/LindaRobben
END:VEVENT
BEGIN:VEVENT
DTSTART:20241116T092000
DTEND:20241116T094000
SUMMARY:SteveDuBois/CherylDubois vs. LonnieNeckermann/GwenBrooks
DESCRIPTION:Fall Classic Doubles 9am 11/16 - Paddle Up Pickleball Club
LOCATION:Court 1
CATEGORIES:QuickScores; Pickleball Game
TRANSP:0
DALARM:20241116T072000;PT10M;2;SteveDuBois/CherylDubois vs. LonnieNeckermann/GwenBrooks
END:VEVENT
BEGIN:VEVENT
DTSTART:20241116T092000
DTEND:20241116T094000
SUMMARY:DavidEcklund/NicholasFleming vs. SabrinaEscalona/CharlesRobbins
DESCRIPTION:Fall Classic Doubles 9am 11/16 - Paddle Up Pickleball Club
LOCATION:Court 7
CATEGORIES:QuickScores; Pickleball Game
TRANSP:0
DALARM:20241116T072000;PT10M;2;DavidEcklund/NicholasFleming vs. SabrinaEscalona/CharlesRobbins
END:VEVENT
BEGIN:VEVENT
DTSTART:20241116T092000
DTEND:20241116T094000
SUMMARY:DiannCage/BethLansing vs. KellieKeling/LauraSwindler
DESCRIPTION:Fall Classic Doubles 9am 11/16 - Paddle Up Pickleball Club
LOCATION:Court 8
CATEGORIES:QuickScores; Pickleball Game
TRANSP:0
DALARM:20241116T072000;PT10M;2;DiannCage/BethLansing vs. KellieKeling/LauraSwindler
END:VEVENT
BEGIN:VEVENT
DTSTART:20241116T092000
DTEND:20241116T094000
SUMMARY:WhitneyDurham/VickieWheeler vs. DinaDougherty/BridgetGagne
DESCRIPTION:Fall Classic Doubles 9am 11/16 - Paddle Up Pickleball Club
LOCATION:Court 2
CATEGORIES:QuickScores; Pickleball Game
TRANSP:0
DALARM:20241116T072000;PT10M;2;WhitneyDurham/VickieWheeler vs. DinaDougherty/BridgetGagne
END:VEVENT
BEGIN:VEVENT
DTSTART:20241116T094000
DTEND:20241116T100000
SUMMARY:AnnaDornquast/JenDuong vs. DiannCage/BethLansing
DESCRIPTION:Fall Classic Doubles 9am 11/16 - Paddle Up Pickleball Club
LOCATION:Court 4
CATEGORIES:QuickScores; Pickleball Game
TRANSP:0
DALARM:20241116T074000;PT10M;2;AnnaDornquast/JenDuong vs. DiannCage/BethLansing
END:VEVENT
BEGIN:VEVENT
DTSTART:20241116T094000
DTEND:20241116T100000
SUMMARY:BryanLopez/DerickLopez vs. PhilipVincent/DrakeVincent
DESCRIPTION:Fall Classic Doubles 9am 11/16 - Paddle Up Pickleball Club
LOCATION:Court 5
CATEGORIES:QuickScores; Pickleball Game
TRANSP:0
DALARM:20241116T074000;PT10M;2;BryanLopez/DerickLopez vs. PhilipVincent/DrakeVincent
END:VEVENT
BEGIN:VEVENT
DTSTART:20241116T094000
DTEND:20241116T100000
SUMMARY:JeffEddy/ScottStern vs. DavidEcklund/NicholasFleming
DESCRIPTION:Fall Classic Doubles 9am 11/16 - Paddle Up Pickleball Club
LOCATION:Court 3
CATEGORIES:QuickScores; Pickleball Game
TRANSP:0
DALARM:20241116T074000;PT10M;2;JeffEddy/ScottStern vs. DavidEcklund/NicholasFleming
END:VEVENT
BEGIN:VEVENT
DTSTART:20241116T094000
DTEND:20241116T100000
SUMMARY:AmandaJones/CarterGerlemann vs. MukiSchlomka/AnkurPatel
DESCRIPTION:Fall Classic Doubles 9am 11/16 - Paddle Up Pickleball Club
LOCATION:Court 1
CATEGORIES:QuickScores; Pickleball Game
TRANSP:0
DALARM:20241116T074000;PT10M;2;AmandaJones/CarterGerlemann vs. MukiSchlomka/AnkurPatel
END:VEVENT
BEGIN:VEVENT
DTSTART:20241116T094000
DTEND:20241116T100000
SUMMARY:RobinFox/LindaRobben vs. CassandraKornfeld/ShannonStamper
DESCRIPTION:Fall Classic Doubles 9am 11/16 - Paddle Up Pickleball Club
LOCATION:Court 9
CATEGORIES:QuickScores; Pickleball Game
TRANSP:0
DALARM:20241116T074000;PT10M;2;RobinFox/LindaRobben vs. CassandraKornfeld/ShannonStamper
END:VEVENT
BEGIN:VEVENT
DTSTART:20241116T094000
DTEND:20241116T100000
SUMMARY:FrankFleming/PaulStewart vs. DerekPollock/JannaPollock
DESCRIPTION:Fall Classic Doubles 9am 11/16 - Paddle Up Pickleball Club
LOCATION:Court 2
CATEGORIES:QuickScores; Pickleball Game
TRANSP:0
DALARM:20241116T074000;PT10M;2;FrankFleming/PaulStewart vs. DerekPollock/JannaPollock
END:VEVENT
BEGIN:VEVENT
DTSTART:20241116T094000
DTEND:20241116T100000
SUMMARY:DeniseWunderlich/MikeWunderlich vs. MarcRosner/MarcRosnerJr
DESCRIPTION:Fall Classic Doubles 9am 11/16 - Paddle Up Pickleball Club
LOCATION:Court 7
CATEGORIES:QuickScores; Pickleball Game
TRANSP:0
DALARM:20241116T074000;PT10M;2;DeniseWunderlich/MikeWunderlich vs. MarcRosner/MarcRosnerJr
END:VEVENT
BEGIN:VEVENT
DTSTART:20241116T094000
DTEND:20241116T100000
SUMMARY:AliKhaled/Said El Khezraji vs. LisaHavens/LoganHavens
DESCRIPTION:Fall Classic Doubles 9am 11/16 - Paddle Up Pickleball Club
LOCATION:Court 6
CATEGORIES:QuickScores; Pickleball Game
TRANSP:0
DALARM:20241116T074000;PT10M;2;AliKhaled/Said El Khezraji vs. LisaHavens/LoganHavens
END:VEVENT
BEGIN:VEVENT
DTSTART:20241116T094000
DTEND:20241116T100000
SUMMARY:LonnieNeckermann/GwenBrooks vs. CamdenScobey/KrissyCox
DESCRIPTION:Fall Classic Doubles 9am 11/16 - Paddle Up Pickleball Club
LOCATION:Court 8
CATEGORIES:QuickScores; Pickleball Game
TRANSP:0
DALARM:20241116T074000;PT10M;2;LonnieNeckermann/GwenBrooks vs. CamdenScobey/KrissyCox
END:VEVENT
BEGIN:VEVENT
DTSTART:20241116T100000
DTEND:20241116T102000
SUMMARY:SteveDuBois/CherylDubois vs. LisaHavens/LoganHavens
DESCRIPTION:Fall Classic Doubles 9am 11/16 - Paddle Up Pickleball Club
LOCATION:Court 6
CATEGORIES:QuickScores; Pickleball Game
TRANSP:0
DALARM:20241116T080000;PT10M;2;SteveDuBois/CherylDubois vs. LisaHavens/LoganHavens
END:VEVENT
BEGIN:VEVENT
DTSTART:20241116T100000
DTEND:20241116T102000
SUMMARY:SabrinaEscalona/CharlesRobbins vs. MukiSchlomka/AnkurPatel
DESCRIPTION:Fall Classic Doubles 9am 11/16 - Paddle Up Pickleball Club
LOCATION:Court 3
CATEGORIES:QuickScores; Pickleball Game
TRANSP:0
DALARM:20241116T080000;PT10M;2;SabrinaEscalona/CharlesRobbins vs. MukiSchlomka/AnkurPatel
END:VEVENT
BEGIN:VEVENT
DTSTART:20241116T100000
DTEND:20241116T102000
SUMMARY:PhilipVincent/DrakeVincent vs. TJSlattery/DanMerrifield
DESCRIPTION:Fall Classic Doubles 9am 11/16 - Paddle Up Pickleball Club
LOCATION:Court 4
CATEGORIES:QuickScores; Pickleball Game
TRANSP:0
DALARM:20241116T080000;PT10M;2;PhilipVincent/DrakeVincent vs. TJSlattery/DanMerrifield
END:VEVENT
BEGIN:VEVENT
DTSTART:20241116T100000
DTEND:20241116T102000
SUMMARY:AmandaJones/CarterGerlemann vs. AdamBrown/Shaun Schnurbusch
DESCRIPTION:Fall Classic Doubles 9am 11/16 - Paddle Up Pickleball Club
LOCATION:Court 8
CATEGORIES:QuickScores; Pickleball Game
TRANSP:0
DALARM:20241116T080000;PT10M;2;AmandaJones/CarterGerlemann vs. AdamBrown/Shaun Schnurbusch
END:VEVENT
BEGIN:VEVENT
DTSTART:20241116T100000
DTEND:20241116T102000
SUMMARY:JulieTaylor/DanielleDuHadway vs. WhitneyDurham/VickieWheeler
DESCRIPTION:Fall Classic Doubles 9am 11/16 - Paddle Up Pickleball Club
LOCATION:Court 5
CATEGORIES:QuickScores; Pickleball Game
TRANSP:0
DALARM:20241116T080000;PT10M;2;JulieTaylor/DanielleDuHadway vs. WhitneyDurham/VickieWheeler
END:VEVENT
BEGIN:VEVENT
DTSTART:20241116T100000
DTEND:20241116T102000
SUMMARY:KellieKeling/LauraSwindler vs. CassandraKornfeld/ShannonStamper
DESCRIPTION:Fall Classic Doubles 9am 11/16 - Paddle Up Pickleball Club
LOCATION:Court 7
CATEGORIES:QuickScores; Pickleball Game
TRANSP:0
DALARM:20241116T080000;PT10M;2;KellieKeling/LauraSwindler vs. CassandraKornfeld/ShannonStamper
END:VEVENT
BEGIN:VEVENT
DTSTART:20241116T100000
DTEND:20241116T102000
SUMMARY:MarcRosner/MarcRosnerJr vs. CamdenScobey/KrissyCox
DESCRIPTION:Fall Classic Doubles 9am 11/16 - Paddle Up Pickleball Club
LOCATION:Court 1
CATEGORIES:QuickScores; Pickleball Game
TRANSP:0
DALARM:20241116T080000;PT10M;2;MarcRosner/MarcRosnerJr vs. CamdenScobey/KrissyCox
END:VEVENT
BEGIN:VEVENT
DTSTART:20241116T100000
DTEND:20241116T102000
SUMMARY:DinaDougherty/BridgetGagne vs. DiannCage/BethLansing
DESCRIPTION:Fall Classic Doubles 9am 11/16 - Paddle Up Pickleball Club
LOCATION:Court 2
CATEGORIES:QuickScores; Pickleball Game
TRANSP:0
DALARM:20241116T080000;PT10M;2;DinaDougherty/BridgetGagne vs. DiannCage/BethLansing
END:VEVENT
BEGIN:VEVENT
DTSTART:20241116T100000
DTEND:20241116T102000
SUMMARY:KellyBeard/HannaOechsner vs. RobinFox/LindaRobben
DESCRIPTION:Fall Classic Doubles 9am 11/16 - Paddle Up Pickleball Club
LOCATION:Court 9
CATEGORIES:QuickScores; Pickleball Game
TRANSP:0
DALARM:20241116T080000;PT10M;2;KellyBeard/HannaOechsner vs. RobinFox/LindaRobben
END:VEVENT
BEGIN:VEVENT
DTSTART:20241116T102000
DTEND:20241116T104000
SUMMARY:SteveDuBois/CherylDubois vs. MarcRosner/MarcRosnerJr
DESCRIPTION:Fall Classic Doubles 9am 11/16 - Paddle Up Pickleball Club
LOCATION:Court 9
CATEGORIES:QuickScores; Pickleball Game
TRANSP:0
DALARM:20241116T082000;PT10M;2;SteveDuBois/CherylDubois vs. MarcRosner/MarcRosnerJr
END:VEVENT
BEGIN:VEVENT
DTSTART:20241116T102000
DTEND:20241116T104000
SUMMARY:DeniseWunderlich/MikeWunderlich vs. LisaHavens/LoganHavens
DESCRIPTION:Fall Classic Doubles 9am 11/16 - Paddle Up Pickleball Club
LOCATION:Court 8
CATEGORIES:QuickScores; Pickleball Game
TRANSP:0
DALARM:20241116T082000;PT10M;2;DeniseWunderlich/MikeWunderlich vs. LisaHavens/LoganHavens
END:VEVENT
BEGIN:VEVENT
DTSTART:20241116T102000
DTEND:20241116T104000
SUMMARY:DerekPollock/JannaPollock vs. LonnieNeckermann/GwenBrooks
DESCRIPTION:Fall Classic Doubles 9am 11/16 - Paddle Up Pickleball Club
LOCATION:Court 2
CATEGORIES:QuickScores; Pickleball Game
TRANSP:0
DALARM:20241116T082000;PT10M;2;DerekPollock/JannaPollock vs. LonnieNeckermann/GwenBrooks
END:VEVENT
BEGIN:VEVENT
DTSTART:20241116T102000
DTEND:20241116T104000
SUMMARY:MukiSchlomka/AnkurPatel vs. JeffEddy/ScottStern
DESCRIPTION:Fall Classic Doubles 9am 11/16 - Paddle Up Pickleball Club
LOCATION:Court 3
CATEGORIES:QuickScores; Pickleball Game
TRANSP:0
DALARM:20241116T082000;PT10M;2;MukiSchlomka/AnkurPatel vs. JeffEddy/ScottStern
END:VEVENT
BEGIN:VEVENT
DTSTART:20241116T102000
DTEND:20241116T104000
SUMMARY:TJSlattery/DanMerrifield vs. DavidEcklund/NicholasFleming
DESCRIPTION:Fall Classic Doubles 9am 11/16 - Paddle Up Pickleball Club
LOCATION:Court 4
CATEGORIES:QuickScores; Pickleball Game
TRANSP:0
DALARM:20241116T082000;PT10M;2;TJSlattery/DanMerrifield vs. DavidEcklund/NicholasFleming
END:VEVENT
BEGIN:VEVENT
DTSTART:20241116T102000
DTEND:20241116T104000
SUMMARY:AmandaJones/CarterGerlemann vs. BryanLopez/DerickLopez
DESCRIPTION:Fall Classic Doubles 9am 11/16 - Paddle Up Pickleball Club
LOCATION:Court 1
CATEGORIES:QuickScores; Pickleball Game
TRANSP:0
DALARM:20241116T082000;PT10M;2;AmandaJones/CarterGerlemann vs. BryanLopez/DerickLopez
END:VEVENT
BEGIN:VEVENT
DTSTART:20241116T102000
DTEND:20241116T104000
SUMMARY:CassandraKornfeld/ShannonStamper vs. AnnaDornquast/JenDuong
DESCRIPTION:Fall Classic Doubles 9am 11/16 - Paddle Up Pickleball Club
LOCATION:Court 5
CATEGORIES:QuickScores; Pickleball Game
TRANSP:0
DALARM:20241116T082000;PT10M;2;CassandraKornfeld/ShannonStamper vs. AnnaDornquast/JenDuong
END:VEVENT
BEGIN:VEVENT
DTSTART:20241116T102000
DTEND:20241116T104000
SUMMARY:AliKhaled/Said El Khezraji vs. FrankFleming/PaulStewart
DESCRIPTION:Fall Classic Doubles 9am 11/16 - Paddle Up Pickleball Club
LOCATION:Court 6
CATEGORIES:QuickScores; Pickleball Game
TRANSP:0
DALARM:20241116T082000;PT10M;2;AliKhaled/Said El Khezraji vs. FrankFleming/PaulStewart
END:VEVENT
BEGIN:VEVENT
DTSTART:20241116T102000
DTEND:20241116T104000
SUMMARY:DiannCage/BethLansing vs. WhitneyDurham/VickieWheeler
DESCRIPTION:Fall Classic Doubles 9am 11/16 - Paddle Up Pickleball Club
LOCATION:Court 7
CATEGORIES:QuickScores; Pickleball Game
TRANSP:0
DALARM:20241116T082000;PT10M;2;DiannCage/BethLansing vs. WhitneyDurham/VickieWheeler
END:VEVENT
BEGIN:VEVENT
DTSTART:20241116T104000
DTEND:20241116T110000
SUMMARY:KellieKeling/LauraSwindler vs. RobinFox/LindaRobben
DESCRIPTION:Fall Classic Doubles 9am 11/16 - Paddle Up Pickleball Club
LOCATION:Court 4
CATEGORIES:QuickScores; Pickleball Game
TRANSP:0
DALARM:20241116T084000;PT10M;2;KellieKeling/LauraSwindler vs. RobinFox/LindaRobben
END:VEVENT
BEGIN:VEVENT
DTSTART:20241116T104000
DTEND:20241116T110000
SUMMARY:BryanLopez/DerickLopez vs. DavidEcklund/NicholasFleming
DESCRIPTION:Fall Classic Doubles 9am 11/16 - Paddle Up Pickleball Club
LOCATION:Court 1
CATEGORIES:QuickScores; Pickleball Game
TRANSP:0
DALARM:20241116T084000;PT10M;2;BryanLopez/DerickLopez vs. DavidEcklund/NicholasFleming
END:VEVENT
BEGIN:VEVENT
DTSTART:20241116T104000
DTEND:20241116T110000
SUMMARY:CamdenScobey/KrissyCox vs. AliKhaled/Said El Khezraji
DESCRIPTION:Fall Classic Doubles 9am 11/16 - Paddle Up Pickleball Club
LOCATION:Court 2
CATEGORIES:QuickScores; Pickleball Game
TRANSP:0
DALARM:20241116T084000;PT10M;2;CamdenScobey/KrissyCox vs. AliKhaled/Said El Khezraji
END:VEVENT
BEGIN:VEVENT
DTSTART:20241116T104000
DTEND:20241116T110000
SUMMARY:KellyBeard/HannaOechsner vs. WhitneyDurham/VickieWheeler
DESCRIPTION:Fall Classic Doubles 9am 11/16 - Paddle Up Pickleball Club
LOCATION:Court 5
CATEGORIES:QuickScores; Pickleball Game
TRANSP:0
DALARM:20241116T084000;PT10M;2;KellyBeard/HannaOechsner vs. WhitneyDurham/VickieWheeler
END:VEVENT
BEGIN:VEVENT
DTSTART:20241116T104000
DTEND:20241116T110000
SUMMARY:CassandraKornfeld/ShannonStamper vs. DinaDougherty/BridgetGagne
DESCRIPTION:Fall Classic Doubles 9am 11/16 - Paddle Up Pickleball Club
LOCATION:Court 9
CATEGORIES:QuickScores; Pickleball Game
TRANSP:0
DALARM:20241116T084000;PT10M;2;CassandraKornfeld/ShannonStamper vs. DinaDougherty/BridgetGagne
END:VEVENT
BEGIN:VEVENT
DTSTART:20241116T104000
DTEND:20241116T110000
SUMMARY:MukiSchlomka/AnkurPatel vs. PhilipVincent/DrakeVincent
DESCRIPTION:Fall Classic Doubles 9am 11/16 - Paddle Up Pickleball Club
LOCATION:Court 6
CATEGORIES:QuickScores; Pickleball Game
TRANSP:0
DALARM:20241116T084000;PT10M;2;MukiSchlomka/AnkurPatel vs. PhilipVincent/DrakeVincent
END:VEVENT
BEGIN:VEVENT
DTSTART:20241116T104000
DTEND:20241116T110000
SUMMARY:AdamBrown/Shaun Schnurbusch vs. SabrinaEscalona/CharlesRobbins
DESCRIPTION:Fall Classic Doubles 9am 11/16 - Paddle Up Pickleball Club
LOCATION:Court 8
CATEGORIES:QuickScores; Pickleball Game
TRANSP:0
DALARM:20241116T084000;PT10M;2;AdamBrown/Shaun Schnurbusch vs. SabrinaEscalona/CharlesRobbins
END:VEVENT
BEGIN:VEVENT
DTSTART:20241116T104000
DTEND:20241116T110000
SUMMARY:AnnaDornquast/JenDuong vs. JulieTaylor/DanielleDuHadway
DESCRIPTION:Fall Classic Doubles 9am 11/16 - Paddle Up Pickleball Club
LOCATION:Court 3
CATEGORIES:QuickScores; Pickleball Game
TRANSP:0
DALARM:20241116T084000;PT10M;2;AnnaDornquast/JenDuong vs. JulieTaylor/DanielleDuHadway
END:VEVENT
BEGIN:VEVENT
DTSTART:20241116T104000
DTEND:20241116T110000
SUMMARY:LonnieNeckermann/GwenBrooks vs. DeniseWunderlich/MikeWunderlich
DESCRIPTION:Fall Classic Doubles 9am 11/16 - Paddle Up Pickleball Club
LOCATION:Court 7
CATEGORIES:QuickScores; Pickleball Game
TRANSP:0
DALARM:20241116T084000;PT10M;2;LonnieNeckermann/GwenBrooks vs. DeniseWunderlich/MikeWunderlich
END:VEVENT
BEGIN:VEVENT
DTSTART:20241116T110000
DTEND:20241116T112000
SUMMARY:JeffEddy/ScottStern vs. AmandaJones/CarterGerlemann
DESCRIPTION:Fall Classic Doubles 9am 11/16 - Paddle Up Pickleball Club
LOCATION:Court 6
CATEGORIES:QuickScores; Pickleball Game
TRANSP:0
DALARM:20241116T090000;PT10M;2;JeffEddy/ScottStern vs. AmandaJones/CarterGerlemann
END:VEVENT
BEGIN:VEVENT
DTSTART:20241116T110000
DTEND:20241116T112000
SUMMARY:RobinFox/LindaRobben vs. DiannCage/BethLansing
DESCRIPTION:Fall Classic Doubles 9am 11/16 - Paddle Up Pickleball Club
LOCATION:Court 4
CATEGORIES:QuickScores; Pickleball Game
TRANSP:0
DALARM:20241116T090000;PT10M;2;RobinFox/LindaRobben vs. DiannCage/BethLansing
END:VEVENT
BEGIN:VEVENT
DTSTART:20241116T110000
DTEND:20241116T112000
SUMMARY:SabrinaEscalona/CharlesRobbins vs. TJSlattery/DanMerrifield
DESCRIPTION:Fall Classic Doubles 9am 11/16 - Paddle Up Pickleball Club
LOCATION:Court 5
CATEGORIES:QuickScores; Pickleball Game
TRANSP:0
DALARM:20241116T090000;PT10M;2;SabrinaEscalona/CharlesRobbins vs. TJSlattery/DanMerrifield
END:VEVENT
BEGIN:VEVENT
DTSTART:20241116T110000
DTEND:20241116T112000
SUMMARY:DavidEcklund/NicholasFleming vs. AdamBrown/Shaun Schnurbusch
DESCRIPTION:Fall Classic Doubles 9am 11/16 - Paddle Up Pickleball Club
LOCATION:Court 1
CATEGORIES:QuickScores; Pickleball Game
TRANSP:0
DALARM:20241116T090000;PT10M;2;DavidEcklund/NicholasFleming vs. AdamBrown/Shaun Schnurbusch
END:VEVENT
BEGIN:VEVENT
DTSTART:20241116T110000
DTEND:20241116T112000
SUMMARY:DerekPollock/JannaPollock vs. DeniseWunderlich/MikeWunderlich
DESCRIPTION:Fall Classic Doubles 9am 11/16 - Paddle Up Pickleball Club
LOCATION:Court 7
CATEGORIES:QuickScores; Pickleball Game
TRANSP:0
DALARM:20241116T090000;PT10M;2;DerekPollock/JannaPollock vs. DeniseWunderlich/MikeWunderlich
END:VEVENT
BEGIN:VEVENT
DTSTART:20241116T110000
DTEND:20241116T112000
SUMMARY:LisaHavens/LoganHavens vs. FrankFleming/PaulStewart
DESCRIPTION:Fall Classic Doubles 9am 11/16 - Paddle Up Pickleball Club
LOCATION:Court 2
CATEGORIES:QuickScores; Pickleball Game
TRANSP:0
DALARM:20241116T090000;PT10M;2;LisaHavens/LoganHavens vs. FrankFleming/PaulStewart
END:VEVENT
BEGIN:VEVENT
DTSTART:20241116T110000
DTEND:20241116T112000
SUMMARY:CamdenScobey/KrissyCox vs. SteveDuBois/CherylDubois
DESCRIPTION:Fall Classic Doubles 9am 11/16 - Paddle Up Pickleball Club
LOCATION:Court 9
CATEGORIES:QuickScores; Pickleball Game
TRANSP:0
DALARM:20241116T090000;PT10M;2;CamdenScobey/KrissyCox vs. SteveDuBois/CherylDubois
END:VEVENT
BEGIN:VEVENT
DTSTART:20241116T110000
DTEND:20241116T112000
SUMMARY:MarcRosner/MarcRosnerJr vs. LonnieNeckermann/GwenBrooks
DESCRIPTION:Fall Classic Doubles 9am 11/16 - Paddle Up Pickleball Club
LOCATION:Court 8
CATEGORIES:QuickScores; Pickleball Game
TRANSP:0
DALARM:20241116T090000;PT10M;2;MarcRosner/MarcRosnerJr vs. LonnieNeckermann/GwenBrooks
END:VEVENT
BEGIN:VEVENT
DTSTART:20241116T110000
DTEND:20241116T112000
SUMMARY:DinaDougherty/BridgetGagne vs. AnnaDornquast/JenDuong
DESCRIPTION:Fall Classic Doubles 9am 11/16 - Paddle Up Pickleball Club
LOCATION:Court 3
CATEGORIES:QuickScores; Pickleball Game
TRANSP:0
DALARM:20241116T090000;PT10M;2;DinaDougherty/BridgetGagne vs. AnnaDornquast/JenDuong
END:VEVENT
BEGIN:VEVENT
DTSTART:20241116T112000
DTEND:20241116T114000
SUMMARY:TJSlattery/DanMerrifield vs. BryanLopez/DerickLopez
DESCRIPTION:Fall Classic Doubles 9am 11/16 - Paddle Up Pickleball Club
LOCATION:Court 1
CATEGORIES:QuickScores; Pickleball Game
TRANSP:0
DALARM:20241116T092000;PT10M;2;TJSlattery/DanMerrifield vs. BryanLopez/DerickLopez
END:VEVENT
BEGIN:VEVENT
DTSTART:20241116T112000
DTEND:20241116T114000
SUMMARY:DiannCage/BethLansing vs. JulieTaylor/DanielleDuHadway
DESCRIPTION:Fall Classic Doubles 9am 11/16 - Paddle Up Pickleball Club
LOCATION:Court 4
CATEGORIES:QuickScores; Pickleball Game
TRANSP:0
DALARM:20241116T092000;PT10M;2;DiannCage/BethLansing vs. JulieTaylor/DanielleDuHadway
END:VEVENT
BEGIN:VEVENT
DTSTART:20241116T112000
DTEND:20241116T114000
SUMMARY:CassandraKornfeld/ShannonStamper vs. KellyBeard/HannaOechsner
DESCRIPTION:Fall Classic Doubles 9am 11/16 - Paddle Up Pickleball Club
LOCATION:Court 9
CATEGORIES:QuickScores; Pickleball Game
TRANSP:0
DALARM:20241116T092000;PT10M;2;CassandraKornfeld/ShannonStamper vs. KellyBeard/HannaOechsner
END:VEVENT
BEGIN:VEVENT
DTSTART:20241116T112000
DTEND:20241116T114000
SUMMARY:WhitneyDurham/VickieWheeler vs. KellieKeling/LauraSwindler
DESCRIPTION:Fall Classic Doubles 9am 11/16 - Paddle Up Pickleball Club
LOCATION:Court 6
CATEGORIES:QuickScores; Pickleball Game
TRANSP:0
DALARM:20241116T092000;PT10M;2;WhitneyDurham/VickieWheeler vs. KellieKeling/LauraSwindler
END:VEVENT
BEGIN:VEVENT
DTSTART:20241116T112000
DTEND:20241116T114000
SUMMARY:MukiSchlomka/AnkurPatel vs. AdamBrown/Shaun Schnurbusch
DESCRIPTION:Fall Classic Doubles 9am 11/16 - Paddle Up Pickleball Club
LOCATION:Court 5
CATEGORIES:QuickScores; Pickleball Game
TRANSP:0
DALARM:20241116T092000;PT10M;2;MukiSchlomka/AnkurPatel vs. AdamBrown/Shaun Schnurbusch
END:VEVENT
BEGIN:VEVENT
DTSTART:20241116T112000
DTEND:20241116T114000
SUMMARY:DerekPollock/JannaPollock vs. SteveDuBois/CherylDubois
DESCRIPTION:Fall Classic Doubles 9am 11/16 - Paddle Up Pickleball Club
LOCATION:Court 2
CATEGORIES:QuickScores; Pickleball Game
TRANSP:0
DALARM:20241116T092000;PT10M;2;DerekPollock/JannaPollock vs. SteveDuBois/CherylDubois
END:VEVENT
BEGIN:VEVENT
DTSTART:20241116T112000
DTEND:20241116T114000
SUMMARY:PhilipVincent/DrakeVincent vs. JeffEddy/ScottStern
DESCRIPTION:Fall Classic Doubles 9am 11/16 - Paddle Up Pickleball Club
LOCATION:Court 3
CATEGORIES:QuickScores; Pickleball Game
TRANSP:0
DALARM:20241116T092000;PT10M;2;PhilipVincent/DrakeVincent vs. JeffEddy/ScottStern
END:VEVENT
BEGIN:VEVENT
DTSTART:20241116T112000
DTEND:20241116T114000
SUMMARY:DeniseWunderlich/MikeWunderlich vs. FrankFleming/PaulStewart
DESCRIPTION:Fall Classic Doubles 9am 11/16 - Paddle Up Pickleball Club
LOCATION:Court 7
CATEGORIES:QuickScores; Pickleball Game
TRANSP:0
DALARM:20241116T092000;PT10M;2;DeniseWunderlich/MikeWunderlich vs. FrankFleming/PaulStewart
END:VEVENT
BEGIN:VEVENT
DTSTART:20241116T112000
DTEND:20241116T114000
SUMMARY:MarcRosner/MarcRosnerJr vs. AliKhaled/Said El Khezraji
DESCRIPTION:Fall Classic Doubles 9am 11/16 - Paddle Up Pickleball Club
LOCATION:Court 8
CATEGORIES:QuickScores; Pickleball Game
TRANSP:0
DALARM:20241116T092000;PT10M;2;MarcRosner/MarcRosnerJr vs. AliKhaled/Said El Khezraji
END:VEVENT
BEGIN:VEVENT
DTSTART:20241116T114000
DTEND:20241116T120000
SUMMARY:AdamBrown/Shaun Schnurbusch vs. BryanLopez/DerickLopez
DESCRIPTION:Fall Classic Doubles 9am 11/16 - Paddle Up Pickleball Club
LOCATION:Court 6
CATEGORIES:QuickScores; Pickleball Game
TRANSP:0
DALARM:20241116T094000;PT10M;2;AdamBrown/Shaun Schnurbusch vs. BryanLopez/DerickLopez
END:VEVENT
BEGIN:VEVENT
DTSTART:20241116T114000
DTEND:20241116T120000
SUMMARY:LisaHavens/LoganHavens vs. DerekPollock/JannaPollock
DESCRIPTION:Fall Classic Doubles 9am 11/16 - Paddle Up Pickleball Club
LOCATION:Court 7
CATEGORIES:QuickScores; Pickleball Game
TRANSP:0
DALARM:20241116T094000;PT10M;2;LisaHavens/LoganHavens vs. DerekPollock/JannaPollock
END:VEVENT
BEGIN:VEVENT
DTSTART:20241116T114000
DTEND:20241116T120000
SUMMARY:KellyBeard/HannaOechsner vs. DinaDougherty/BridgetGagne
DESCRIPTION:Fall Classic Doubles 9am 11/16 - Paddle Up Pickleball Club
LOCATION:Court 5
CATEGORIES:QuickScores; Pickleball Game
TRANSP:0
DALARM:20241116T094000;PT10M;2;KellyBeard/HannaOechsner vs. DinaDougherty/BridgetGagne
END:VEVENT
BEGIN:VEVENT
DTSTART:20241116T114000
DTEND:20241116T120000
SUMMARY:RobinFox/LindaRobben vs. AnnaDornquast/JenDuong
DESCRIPTION:Fall Classic Doubles 9am 11/16 - Paddle Up Pickleball Club
LOCATION:Court 1
CATEGORIES:QuickScores; Pickleball Game
TRANSP:0
DALARM:20241116T094000;PT10M;2;RobinFox/LindaRobben vs. AnnaDornquast/JenDuong
END:VEVENT
BEGIN:VEVENT
DTSTART:20241116T114000
DTEND:20241116T120000
SUMMARY:FrankFleming/PaulStewart vs. CamdenScobey/KrissyCox
DESCRIPTION:Fall Classic Doubles 9am 11/16 - Paddle Up Pickleball Club
LOCATION:Court 3
CATEGORIES:QuickScores; Pickleball Game
TRANSP:0
DALARM:20241116T094000;PT10M;2;FrankFleming/PaulStewart vs. CamdenScobey/KrissyCox
END:VEVENT
BEGIN:VEVENT
DTSTART:20241116T114000
DTEND:20241116T120000
SUMMARY:KellieKeling/LauraSwindler vs. JulieTaylor/DanielleDuHadway
DESCRIPTION:Fall Classic Doubles 9am 11/16 - Paddle Up Pickleball Club
LOCATION:Court 9
CATEGORIES:QuickScores; Pickleball Game
TRANSP:0
DALARM:20241116T094000;PT10M;2;KellieKeling/LauraSwindler vs. JulieTaylor/DanielleDuHadway
END:VEVENT
BEGIN:VEVENT
DTSTART:20241116T114000
DTEND:20241116T120000
SUMMARY:DavidEcklund/NicholasFleming vs. PhilipVincent/DrakeVincent
DESCRIPTION:Fall Classic Doubles 9am 11/16 - Paddle Up Pickleball Club
LOCATION:Court 8
CATEGORIES:QuickScores; Pickleball Game
TRANSP:0
DALARM:20241116T094000;PT10M;2;DavidEcklund/NicholasFleming vs. PhilipVincent/DrakeVincent
END:VEVENT
BEGIN:VEVENT
DTSTART:20241116T114000
DTEND:20241116T120000
SUMMARY:LonnieNeckermann/GwenBrooks vs. AliKhaled/Said El Khezraji
DESCRIPTION:Fall Classic Doubles 9am 11/16 - Paddle Up Pickleball Club
LOCATION:Court 2
CATEGORIES:QuickScores; Pickleball Game
TRANSP:0
DALARM:20241116T094000;PT10M;2;LonnieNeckermann/GwenBrooks vs. AliKhaled/Said El Khezraji
END:VEVENT
BEGIN:VEVENT
DTSTART:20241116T114000
DTEND:20241116T120000
SUMMARY:SabrinaEscalona/CharlesRobbins vs. AmandaJones/CarterGerlemann
DESCRIPTION:Fall Classic Doubles 9am 11/16 - Paddle Up Pickleball Club
LOCATION:Court 4
CATEGORIES:QuickScores; Pickleball Game
TRANSP:0
DALARM:20241116T094000;PT10M;2;SabrinaEscalona/CharlesRobbins vs. AmandaJones/CarterGerlemann
END:VEVENT
END:VCALENDAR
