BEGIN:VCALENDAR
VERSION:1.0
BEGIN:VEVENT
DTSTART:20250620T090000
DTEND:20250620T103000
SUMMARY:Bomani/TTK  60AAA vs. Michigan Wizards / 1 Under  60 AAA
DESCRIPTION:60 AA/AAA - <BR> <b> The Buckeye Classic
LOCATION:Field 3
CATEGORIES:QuickScores; Softball - Adult Game
TRANSP:0
DALARM:20250620T070000;PT10M;2;Bomani/TTK  60AAA vs. Michigan Wizards / 1 Under  60 AAA
END:VEVENT
BEGIN:VEVENT
DTSTART:20250620T090000
DTEND:20250620T103000
SUMMARY:Buckeye Classics 60 AAA vs. C P O A 60 AAA
DESCRIPTION:60 AA/AAA - <BR> <b> The Buckeye Classic
LOCATION:Field 1
CATEGORIES:QuickScores; Softball - Adult Game
TRANSP:0
DALARM:20250620T070000;PT10M;2;Buckeye Classics 60 AAA vs. C P O A 60 AAA
END:VEVENT
BEGIN:VEVENT
DTSTART:20250620T090000
DTEND:20250620T103000
SUMMARY:Pelley's Stix 60AA vs. Strategies for Success (SFS) 60AAA
DESCRIPTION:60 AA/AAA - <BR> <b> The Buckeye Classic
LOCATION:Field 4
CATEGORIES:QuickScores; Softball - Adult Game
TRANSP:0
DALARM:20250620T070000;PT10M;2;Pelley's Stix 60AA vs. Strategies for Success (SFS) 60AAA
END:VEVENT
BEGIN:VEVENT
DTSTART:20250620T090000
DTEND:20250620T103000
SUMMARY:Generac  60 AAA vs. Angry Rooster Deli 60AAA
DESCRIPTION:60 AA/AAA - <BR> <b> The Buckeye Classic
LOCATION:Field 2
CATEGORIES:QuickScores; Softball - Adult Game
TRANSP:0
DALARM:20250620T070000;PT10M;2;Generac  60 AAA vs. Angry Rooster Deli 60AAA
END:VEVENT
BEGIN:VEVENT
DTSTART:20250620T103000
DTEND:20250620T120000
SUMMARY:Michigan Wizards / 1 Under  60 AAA vs. Buckeye Classics 60 AAA
DESCRIPTION:60 AA/AAA - <BR> <b> The Buckeye Classic
LOCATION:Field 1
CATEGORIES:QuickScores; Softball - Adult Game
TRANSP:0
DALARM:20250620T083000;PT10M;2;Michigan Wizards / 1 Under  60 AAA vs. Buckeye Classics 60 AAA
END:VEVENT
BEGIN:VEVENT
DTSTART:20250620T103000
DTEND:20250620T120000
SUMMARY:Strategies for Success (SFS) 60AAA vs. Bomani/TTK  60AAA
DESCRIPTION:60 AA/AAA - <BR> <b> The Buckeye Classic
LOCATION:Field 4
CATEGORIES:QuickScores; Softball - Adult Game
TRANSP:0
DALARM:20250620T083000;PT10M;2;Strategies for Success (SFS) 60AAA vs. Bomani/TTK  60AAA
END:VEVENT
BEGIN:VEVENT
DTSTART:20250620T103000
DTEND:20250620T120000
SUMMARY:C P O A 60 AAA vs. Generac  60 AAA
DESCRIPTION:60 AA/AAA - <BR> <b> The Buckeye Classic
LOCATION:Field 3
CATEGORIES:QuickScores; Softball - Adult Game
TRANSP:0
DALARM:20250620T083000;PT10M;2;C P O A 60 AAA vs. Generac  60 AAA
END:VEVENT
BEGIN:VEVENT
DTSTART:20250620T103000
DTEND:20250620T120000
SUMMARY:Angry Rooster Deli 60AAA vs. Pelley's Stix 60AA
DESCRIPTION:60 AA/AAA - <BR> <b> The Buckeye Classic
LOCATION:Field 2
CATEGORIES:QuickScores; Softball - Adult Game
TRANSP:0
DALARM:20250620T083000;PT10M;2;Angry Rooster Deli 60AAA vs. Pelley's Stix 60AA
END:VEVENT
END:VCALENDAR
