BEGIN:VCALENDAR
VERSION:1.0
BEGIN:VEVENT
DTSTART:20241102T083000
DTEND:20241102T100000
SUMMARY:Demolition 60 vs. Monarchs/Miken/Elite 60M
DESCRIPTION:Men 60 Major - International Senior Softball Association<br>ISSA
LOCATION:BSC-A2
CATEGORIES:QuickScores; Softball Game
TRANSP:0
DALARM:20241102T063000;PT10M;2;Demolition 60 vs. Monarchs/Miken/Elite 60M
END:VEVENT
BEGIN:VEVENT
DTSTART:20241102T113000
DTEND:20241102T130000
SUMMARY:Monarchs/Miken/Elite 60M vs. Demolition 60
DESCRIPTION:Men 60 Major - International Senior Softball Association<br>ISSA
LOCATION:BSC-A3
CATEGORIES:QuickScores; Softball Game
TRANSP:0
DALARM:20241102T093000;PT10M;2;Monarchs/Miken/Elite 60M vs. Demolition 60
END:VEVENT
BEGIN:VEVENT
DTSTART:20241102T130000
DTEND:20241102T143000
SUMMARY:Demolition 60 vs. Monarchs/Miken/Elite 60M
DESCRIPTION:Men 60 Major - International Senior Softball Association<br>ISSA
LOCATION:BSC-A3
CATEGORIES:QuickScores; Softball Game
TRANSP:0
DALARM:20241102T110000;PT10M;2;Demolition 60 vs. Monarchs/Miken/Elite 60M
END:VEVENT
END:VCALENDAR
