BEGIN:VCALENDAR
VERSION:1.0
BEGIN:VEVENT
DTSTART:20241012T090000
DTEND:20241012T110000
SUMMARY:Eldorado Sophomores vs. Albuquerque High Sophomores
DESCRIPTION:Sophomore 11U - Divisional Bracket - New Mexico Young America Football League
LOCATION:Mesa Del Sol Field 1
CATEGORIES:QuickScores; Football Game
TRANSP:0
DALARM:20241012T070000;PT10M;2;Eldorado Sophomores vs. Albuquerque High Sophomores
END:VEVENT
BEGIN:VEVENT
DTSTART:20241012T110000
DTEND:20241012T130000
SUMMARY:Volcano Vista East Sophomores vs. Valencia Sophomores
DESCRIPTION:Sophomore 11U - Divisional Bracket - New Mexico Young America Football League
LOCATION:Mesa Del Sol Field 1
CATEGORIES:QuickScores; Football Game
TRANSP:0
DALARM:20241012T090000;PT10M;2;Volcano Vista East Sophomores vs. Valencia Sophomores
END:VEVENT
BEGIN:VEVENT
DTSTART:20241019T120000
DTEND:20241019T140000
SUMMARY:Los Lunas Sophomore vs. Volcano Vista East Sophomores
DESCRIPTION:Sophomore 11U - Divisional Bracket - New Mexico Young America Football League
LOCATION:Belen Stadium
CATEGORIES:QuickScores; Football Game
TRANSP:0
DALARM:20241019T100000;PT10M;2;Los Lunas Sophomore vs. Volcano Vista East Sophomores
END:VEVENT
BEGIN:VEVENT
DTSTART:20241019T140000
DTEND:20241019T160000
SUMMARY:Sue Cleveland Sophomores vs. Albuquerque High Sophomores
DESCRIPTION:Sophomore 11U - Divisional Bracket - New Mexico Young America Football League
LOCATION:Belen Stadium
CATEGORIES:QuickScores; Football Game
TRANSP:0
DALARM:20241019T120000;PT10M;2;Sue Cleveland Sophomores vs. Albuquerque High Sophomores
END:VEVENT
BEGIN:VEVENT
DTSTART:20241027T120000
DTEND:20241027T140000
SUMMARY:Albuquerque High Sophomores vs. Los Lunas Sophomore
DESCRIPTION:Sophomore 11U - Divisional Bracket - New Mexico Young America Football League
LOCATION:Milne Stadium
CATEGORIES:QuickScores; Football Game
TRANSP:0
DALARM:20241027T100000;PT10M;2;Albuquerque High Sophomores vs. Los Lunas Sophomore
END:VEVENT
END:VCALENDAR
