BEGIN:VCALENDAR
VERSION:1.0
BEGIN:VEVENT
DTSTART:20240919T180000
DTEND:20240919T184000
SUMMARY:Johns/Brower vs. Mayhall/Bye
DESCRIPTION:PUPC Thursday Low Int. Lg. - Fall 24 - Paddle Up Pickleball Club
LOCATION:Court 4
CATEGORIES:QuickScores; Pickleball Game
TRANSP:0
DALARM:20240919T160000;PT10M;2;Johns/Brower vs. Mayhall/Bye
END:VEVENT
BEGIN:VEVENT
DTSTART:20240919T184000
DTEND:20240919T192000
SUMMARY:Mueller/Stuhlman vs. Mayhall/Bye
DESCRIPTION:PUPC Thursday Low Int. Lg. - Fall 24 - Paddle Up Pickleball Club
LOCATION:Court 4
CATEGORIES:QuickScores; Pickleball Game
TRANSP:0
DALARM:20240919T164000;PT10M;2;Mueller/Stuhlman vs. Mayhall/Bye
END:VEVENT
BEGIN:VEVENT
DTSTART:20240919T184000
DTEND:20240919T192000
SUMMARY:Johns/Brower vs. Cary/Cary
DESCRIPTION:PUPC Thursday Low Int. Lg. - Fall 24 - Paddle Up Pickleball Club
LOCATION:Court 6
CATEGORIES:QuickScores; Pickleball Game
TRANSP:0
DALARM:20240919T164000;PT10M;2;Johns/Brower vs. Cary/Cary
END:VEVENT
BEGIN:VEVENT
DTSTART:20240919T192000
DTEND:20240919T200000
SUMMARY:Kough/Kough vs. Mueller/Stuhlman
DESCRIPTION:PUPC Thursday Low Int. Lg. - Fall 24 - Paddle Up Pickleball Club
LOCATION:Court 3
CATEGORIES:QuickScores; Pickleball Game
TRANSP:0
DALARM:20240919T172000;PT10M;2;Kough/Kough vs. Mueller/Stuhlman
END:VEVENT
BEGIN:VEVENT
DTSTART:20240919T192000
DTEND:20240919T200000
SUMMARY:Cary/Cary vs. Nielsen/Johnson
DESCRIPTION:PUPC Thursday Low Int. Lg. - Fall 24 - Paddle Up Pickleball Club
LOCATION:Court 4
CATEGORIES:QuickScores; Pickleball Game
TRANSP:0
DALARM:20240919T172000;PT10M;2;Cary/Cary vs. Nielsen/Johnson
END:VEVENT
BEGIN:VEVENT
DTSTART:20240919T200000
DTEND:20240919T204000
SUMMARY:Nielsen/Johnson vs. Struckman/McCarter
DESCRIPTION:PUPC Thursday Low Int. Lg. - Fall 24 - Paddle Up Pickleball Club
LOCATION:Court 3
CATEGORIES:QuickScores; Pickleball Game
TRANSP:0
DALARM:20240919T180000;PT10M;2;Nielsen/Johnson vs. Struckman/McCarter
END:VEVENT
BEGIN:VEVENT
DTSTART:20240919T204000
DTEND:20240919T212000
SUMMARY:Kough/Kough vs. Struckman/McCarter
DESCRIPTION:PUPC Thursday Low Int. Lg. - Fall 24 - Paddle Up Pickleball Club
LOCATION:Court 3
CATEGORIES:QuickScores; Pickleball Game
TRANSP:0
DALARM:20240919T184000;PT10M;2;Kough/Kough vs. Struckman/McCarter
END:VEVENT
BEGIN:VEVENT
DTSTART:20240926T180000
DTEND:20240926T184000
SUMMARY:Cary/Cary vs. Mayhall/Bye
DESCRIPTION:PUPC Thursday Low Int. Lg. - Fall 24 - Paddle Up Pickleball Club
LOCATION:Court 4
CATEGORIES:QuickScores; Pickleball Game
TRANSP:0
DALARM:20240926T160000;PT10M;2;Cary/Cary vs. Mayhall/Bye
END:VEVENT
BEGIN:VEVENT
DTSTART:20240926T184000
DTEND:20240926T192000
SUMMARY:Mueller/Stuhlman vs. Cary/Cary
DESCRIPTION:PUPC Thursday Low Int. Lg. - Fall 24 - Paddle Up Pickleball Club
LOCATION:Court 4
CATEGORIES:QuickScores; Pickleball Game
TRANSP:0
DALARM:20240926T164000;PT10M;2;Mueller/Stuhlman vs. Cary/Cary
END:VEVENT
BEGIN:VEVENT
DTSTART:20240926T184000
DTEND:20240926T192000
SUMMARY:Mayhall/Bye vs. Struckman/McCarter
DESCRIPTION:PUPC Thursday Low Int. Lg. - Fall 24 - Paddle Up Pickleball Club
LOCATION:Court 6
CATEGORIES:QuickScores; Pickleball Game
TRANSP:0
DALARM:20240926T164000;PT10M;2;Mayhall/Bye vs. Struckman/McCarter
END:VEVENT
BEGIN:VEVENT
DTSTART:20240926T192000
DTEND:20240926T200000
SUMMARY:Struckman/McCarter vs. Johns/Brower
DESCRIPTION:PUPC Thursday Low Int. Lg. - Fall 24 - Paddle Up Pickleball Club
LOCATION:Court 4
CATEGORIES:QuickScores; Pickleball Game
TRANSP:0
DALARM:20240926T172000;PT10M;2;Struckman/McCarter vs. Johns/Brower
END:VEVENT
BEGIN:VEVENT
DTSTART:20240926T192000
DTEND:20240926T200000
SUMMARY:Nielsen/Johnson vs. Mueller/Stuhlman
DESCRIPTION:PUPC Thursday Low Int. Lg. - Fall 24 - Paddle Up Pickleball Club
LOCATION:Court 3
CATEGORIES:QuickScores; Pickleball Game
TRANSP:0
DALARM:20240926T172000;PT10M;2;Nielsen/Johnson vs. Mueller/Stuhlman
END:VEVENT
BEGIN:VEVENT
DTSTART:20240926T200000
DTEND:20240926T204000
SUMMARY:Johns/Brower vs. Kough/Kough
DESCRIPTION:PUPC Thursday Low Int. Lg. - Fall 24 - Paddle Up Pickleball Club
LOCATION:Court 3
CATEGORIES:QuickScores; Pickleball Game
TRANSP:0
DALARM:20240926T180000;PT10M;2;Johns/Brower vs. Kough/Kough
END:VEVENT
BEGIN:VEVENT
DTSTART:20240926T204000
DTEND:20240926T212000
SUMMARY:Kough/Kough vs. Nielsen/Johnson
DESCRIPTION:PUPC Thursday Low Int. Lg. - Fall 24 - Paddle Up Pickleball Club
LOCATION:Court 3
CATEGORIES:QuickScores; Pickleball Game
TRANSP:0
DALARM:20240926T184000;PT10M;2;Kough/Kough vs. Nielsen/Johnson
END:VEVENT
BEGIN:VEVENT
DTSTART:20241003T180000
DTEND:20241003T184000
SUMMARY:Nielsen/Johnson vs. Johns/Brower
DESCRIPTION:PUPC Thursday Low Int. Lg. - Fall 24 - Paddle Up Pickleball Club
LOCATION:Court 4
CATEGORIES:QuickScores; Pickleball Game
TRANSP:0
DALARM:20241003T160000;PT10M;2;Nielsen/Johnson vs. Johns/Brower
END:VEVENT
BEGIN:VEVENT
DTSTART:20241003T184000
DTEND:20241003T192000
SUMMARY:Mayhall/Bye vs. Nielsen/Johnson
DESCRIPTION:PUPC Thursday Low Int. Lg. - Fall 24 - Paddle Up Pickleball Club
LOCATION:Court 6
CATEGORIES:QuickScores; Pickleball Game
TRANSP:0
DALARM:20241003T164000;PT10M;2;Mayhall/Bye vs. Nielsen/Johnson
END:VEVENT
BEGIN:VEVENT
DTSTART:20241003T184000
DTEND:20241003T192000
SUMMARY:Mueller/Stuhlman vs. Johns/Brower
DESCRIPTION:PUPC Thursday Low Int. Lg. - Fall 24 - Paddle Up Pickleball Club
LOCATION:Court 4
CATEGORIES:QuickScores; Pickleball Game
TRANSP:0
DALARM:20241003T164000;PT10M;2;Mueller/Stuhlman vs. Johns/Brower
END:VEVENT
BEGIN:VEVENT
DTSTART:20241003T192000
DTEND:20241003T200000
SUMMARY:Struckman/McCarter vs. Mueller/Stuhlman
DESCRIPTION:PUPC Thursday Low Int. Lg. - Fall 24 - Paddle Up Pickleball Club
LOCATION:Court 3
CATEGORIES:QuickScores; Pickleball Game
TRANSP:0
DALARM:20241003T172000;PT10M;2;Struckman/McCarter vs. Mueller/Stuhlman
END:VEVENT
BEGIN:VEVENT
DTSTART:20241003T192000
DTEND:20241003T200000
SUMMARY:Mayhall/Bye vs. Kough/Kough
DESCRIPTION:PUPC Thursday Low Int. Lg. - Fall 24 - Paddle Up Pickleball Club
LOCATION:Court 4
CATEGORIES:QuickScores; Pickleball Game
TRANSP:0
DALARM:20241003T172000;PT10M;2;Mayhall/Bye vs. Kough/Kough
END:VEVENT
BEGIN:VEVENT
DTSTART:20241003T200000
DTEND:20241003T204000
SUMMARY:Struckman/McCarter vs. Kough/Kough
DESCRIPTION:PUPC Thursday Low Int. Lg. - Fall 24 - Paddle Up Pickleball Club
LOCATION:Court 3
CATEGORIES:QuickScores; Pickleball Game
TRANSP:0
DALARM:20241003T180000;PT10M;2;Struckman/McCarter vs. Kough/Kough
END:VEVENT
BEGIN:VEVENT
DTSTART:20241010T180000
DTEND:20241010T184000
SUMMARY:Moss/Rodriguez2 vs. Mueller/Stuhlman
DESCRIPTION:PUPC Thursday Low Int. Lg. - Fall 24 - Paddle Up Pickleball Club
LOCATION:Court 3
CATEGORIES:QuickScores; Pickleball Game
TRANSP:0
DALARM:20241010T160000;PT10M;2;Moss/Rodriguez2 vs. Mueller/Stuhlman
END:VEVENT
BEGIN:VEVENT
DTSTART:20241010T180000
DTEND:20241010T184000
SUMMARY:Struckman/McCarter vs. Kough/Kough
DESCRIPTION:PUPC Thursday Low Int. Lg. - Fall 24 - Paddle Up Pickleball Club
LOCATION:Court 4
CATEGORIES:QuickScores; Pickleball Game
TRANSP:0
DALARM:20241010T160000;PT10M;2;Struckman/McCarter vs. Kough/Kough
END:VEVENT
BEGIN:VEVENT
DTSTART:20241010T184000
DTEND:20241010T192000
SUMMARY:Mueller/Stuhlman vs. Kough/Kough
DESCRIPTION:PUPC Thursday Low Int. Lg. - Fall 24 - Paddle Up Pickleball Club
LOCATION:Court 6
CATEGORIES:QuickScores; Pickleball Game
TRANSP:0
DALARM:20241010T164000;PT10M;2;Mueller/Stuhlman vs. Kough/Kough
END:VEVENT
BEGIN:VEVENT
DTSTART:20241010T184000
DTEND:20241010T192000
SUMMARY:Struckman/McCarter vs. Nielsen/Johnson
DESCRIPTION:PUPC Thursday Low Int. Lg. - Fall 24 - Paddle Up Pickleball Club
LOCATION:Court 4
CATEGORIES:QuickScores; Pickleball Game
TRANSP:0
DALARM:20241010T164000;PT10M;2;Struckman/McCarter vs. Nielsen/Johnson
END:VEVENT
BEGIN:VEVENT
DTSTART:20241010T192000
DTEND:20241010T200000
SUMMARY:Mayhall/Bye vs. Moss/Rodriguez2
DESCRIPTION:PUPC Thursday Low Int. Lg. - Fall 24 - Paddle Up Pickleball Club
LOCATION:Court 3
CATEGORIES:QuickScores; Pickleball Game
TRANSP:0
DALARM:20241010T172000;PT10M;2;Mayhall/Bye vs. Moss/Rodriguez2
END:VEVENT
BEGIN:VEVENT
DTSTART:20241010T192000
DTEND:20241010T200000
SUMMARY:Nielsen/Johnson vs. Cary/Cary
DESCRIPTION:PUPC Thursday Low Int. Lg. - Fall 24 - Paddle Up Pickleball Club
LOCATION:Court 4
CATEGORIES:QuickScores; Pickleball Game
TRANSP:0
DALARM:20241010T172000;PT10M;2;Nielsen/Johnson vs. Cary/Cary
END:VEVENT
BEGIN:VEVENT
DTSTART:20241010T200000
DTEND:20241010T204000
SUMMARY:Mayhall/Bye vs. Johns/Brower
DESCRIPTION:PUPC Thursday Low Int. Lg. - Fall 24 - Paddle Up Pickleball Club
LOCATION:Court 3
CATEGORIES:QuickScores; Pickleball Game
TRANSP:0
DALARM:20241010T180000;PT10M;2;Mayhall/Bye vs. Johns/Brower
END:VEVENT
BEGIN:VEVENT
DTSTART:20241010T204000
DTEND:20241010T212000
SUMMARY:Cary/Cary vs. Johns/Brower
DESCRIPTION:PUPC Thursday Low Int. Lg. - Fall 24 - Paddle Up Pickleball Club
LOCATION:Court 3
CATEGORIES:QuickScores; Pickleball Game
TRANSP:0
DALARM:20241010T184000;PT10M;2;Cary/Cary vs. Johns/Brower
END:VEVENT
BEGIN:VEVENT
DTSTART:20241017T180000
DTEND:20241017T184000
SUMMARY:Mueller/Stuhlman vs. Nielsen/Johnson
DESCRIPTION:PUPC Thursday Low Int. Lg. - Fall 24 - Paddle Up Pickleball Club
LOCATION:Court 4
CATEGORIES:QuickScores; Pickleball Game
TRANSP:0
DALARM:20241017T160000;PT10M;2;Mueller/Stuhlman vs. Nielsen/Johnson
END:VEVENT
BEGIN:VEVENT
DTSTART:20241017T184000
DTEND:20241017T192000
SUMMARY:Moss/Rodriguez2 vs. Nielsen/Johnson
DESCRIPTION:PUPC Thursday Low Int. Lg. - Fall 24 - Paddle Up Pickleball Club
LOCATION:Court 4
CATEGORIES:QuickScores; Pickleball Game
TRANSP:0
DALARM:20241017T164000;PT10M;2;Moss/Rodriguez2 vs. Nielsen/Johnson
END:VEVENT
BEGIN:VEVENT
DTSTART:20241017T184000
DTEND:20241017T192000
SUMMARY:Cary/Cary vs. Mueller/Stuhlman
DESCRIPTION:PUPC Thursday Low Int. Lg. - Fall 24 - Paddle Up Pickleball Club
LOCATION:Court 6
CATEGORIES:QuickScores; Pickleball Game
TRANSP:0
DALARM:20241017T164000;PT10M;2;Cary/Cary vs. Mueller/Stuhlman
END:VEVENT
BEGIN:VEVENT
DTSTART:20241017T192000
DTEND:20241017T200000
SUMMARY:Mayhall/Bye vs. Cary/Cary
DESCRIPTION:PUPC Thursday Low Int. Lg. - Fall 24 - Paddle Up Pickleball Club
LOCATION:Court 3
CATEGORIES:QuickScores; Pickleball Game
TRANSP:0
DALARM:20241017T172000;PT10M;2;Mayhall/Bye vs. Cary/Cary
END:VEVENT
BEGIN:VEVENT
DTSTART:20241017T192000
DTEND:20241017T200000
SUMMARY:Moss/Rodriguez2 vs. Johns/Brower
DESCRIPTION:PUPC Thursday Low Int. Lg. - Fall 24 - Paddle Up Pickleball Club
LOCATION:Court 4
CATEGORIES:QuickScores; Pickleball Game
TRANSP:0
DALARM:20241017T172000;PT10M;2;Moss/Rodriguez2 vs. Johns/Brower
END:VEVENT
BEGIN:VEVENT
DTSTART:20241017T200000
DTEND:20241017T204000
SUMMARY:Struckman/McCarter vs. Mayhall/Bye
DESCRIPTION:PUPC Thursday Low Int. Lg. - Fall 24 - Paddle Up Pickleball Club
LOCATION:Court 3
CATEGORIES:QuickScores; Pickleball Game
TRANSP:0
DALARM:20241017T180000;PT10M;2;Struckman/McCarter vs. Mayhall/Bye
END:VEVENT
BEGIN:VEVENT
DTSTART:20241017T204000
DTEND:20241017T212000
SUMMARY:Johns/Brower vs. Struckman/McCarter
DESCRIPTION:PUPC Thursday Low Int. Lg. - Fall 24 - Paddle Up Pickleball Club
LOCATION:Court 3
CATEGORIES:QuickScores; Pickleball Game
TRANSP:0
DALARM:20241017T184000;PT10M;2;Johns/Brower vs. Struckman/McCarter
END:VEVENT
BEGIN:VEVENT
DTSTART:20241024T180000
DTEND:20241024T184000
SUMMARY:Cary/Cary vs. Struckman/McCarter
DESCRIPTION:PUPC Thursday Low Int. Lg. - Fall 24 - Paddle Up Pickleball Club
LOCATION:Court 4
CATEGORIES:QuickScores; Pickleball Game
TRANSP:0
DALARM:20241024T160000;PT10M;2;Cary/Cary vs. Struckman/McCarter
END:VEVENT
BEGIN:VEVENT
DTSTART:20241024T184000
DTEND:20241024T192000
SUMMARY:Mueller/Stuhlman vs. Struckman/McCarter
DESCRIPTION:PUPC Thursday Low Int. Lg. - Fall 24 - Paddle Up Pickleball Club
LOCATION:Court 6
CATEGORIES:QuickScores; Pickleball Game
TRANSP:0
DALARM:20241024T164000;PT10M;2;Mueller/Stuhlman vs. Struckman/McCarter
END:VEVENT
BEGIN:VEVENT
DTSTART:20241024T184000
DTEND:20241024T192000
SUMMARY:Kough/Kough vs. Cary/Cary
DESCRIPTION:PUPC Thursday Low Int. Lg. - Fall 24 - Paddle Up Pickleball Club
LOCATION:Court 4
CATEGORIES:QuickScores; Pickleball Game
TRANSP:0
DALARM:20241024T164000;PT10M;2;Kough/Kough vs. Cary/Cary
END:VEVENT
BEGIN:VEVENT
DTSTART:20241024T192000
DTEND:20241024T200000
SUMMARY:Kough/Kough vs. Mayhall/Bye
DESCRIPTION:PUPC Thursday Low Int. Lg. - Fall 24 - Paddle Up Pickleball Club
LOCATION:Court 4
CATEGORIES:QuickScores; Pickleball Game
TRANSP:0
DALARM:20241024T172000;PT10M;2;Kough/Kough vs. Mayhall/Bye
END:VEVENT
BEGIN:VEVENT
DTSTART:20241024T192000
DTEND:20241024T200000
SUMMARY:Moss/Rodriguez2 vs. Mueller/Stuhlman
DESCRIPTION:PUPC Thursday Low Int. Lg. - Fall 24 - Paddle Up Pickleball Club
LOCATION:Court 3
CATEGORIES:QuickScores; Pickleball Game
TRANSP:0
DALARM:20241024T172000;PT10M;2;Moss/Rodriguez2 vs. Mueller/Stuhlman
END:VEVENT
BEGIN:VEVENT
DTSTART:20241024T200000
DTEND:20241024T204000
SUMMARY:Johns/Brower vs. Nielsen/Johnson
DESCRIPTION:PUPC Thursday Low Int. Lg. - Fall 24 - Paddle Up Pickleball Club
LOCATION:Court 3
CATEGORIES:QuickScores; Pickleball Game
TRANSP:0
DALARM:20241024T180000;PT10M;2;Johns/Brower vs. Nielsen/Johnson
END:VEVENT
BEGIN:VEVENT
DTSTART:20241024T204000
DTEND:20241024T212000
SUMMARY:Nielsen/Johnson vs. Mayhall/Bye
DESCRIPTION:PUPC Thursday Low Int. Lg. - Fall 24 - Paddle Up Pickleball Club
LOCATION:Court 3
CATEGORIES:QuickScores; Pickleball Game
TRANSP:0
DALARM:20241024T184000;PT10M;2;Nielsen/Johnson vs. Mayhall/Bye
END:VEVENT
BEGIN:VEVENT
DTSTART:20241024T204000
DTEND:20241024T212000
SUMMARY:Johns/Brower vs. Moss/Rodriguez2
DESCRIPTION:PUPC Thursday Low Int. Lg. - Fall 24 - Paddle Up Pickleball Club
LOCATION:Court 1
CATEGORIES:QuickScores; Pickleball Game
TRANSP:0
DALARM:20241024T184000;PT10M;2;Johns/Brower vs. Moss/Rodriguez2
END:VEVENT
BEGIN:VEVENT
DTSTART:20241107T180000
DTEND:20241107T184000
SUMMARY:Kough/Kough vs. Mueller/Stuhlman
DESCRIPTION:PUPC Thursday Low Int. Lg. - Fall 24 - Paddle Up Pickleball Club
LOCATION:Court 4
CATEGORIES:QuickScores; Pickleball Game
TRANSP:0
DALARM:20241107T160000;PT10M;2;Kough/Kough vs. Mueller/Stuhlman
END:VEVENT
BEGIN:VEVENT
DTSTART:20241107T184000
DTEND:20241107T192000
SUMMARY:Moss/Rodriguez2 vs. Struckman/McCarter
DESCRIPTION:PUPC Thursday Low Int. Lg. - Fall 24 - Paddle Up Pickleball Club
LOCATION:Court 2
CATEGORIES:QuickScores; Pickleball Game
TRANSP:0
DALARM:20241107T164000;PT10M;2;Moss/Rodriguez2 vs. Struckman/McCarter
END:VEVENT
BEGIN:VEVENT
DTSTART:20241107T184000
DTEND:20241107T192000
SUMMARY:Mueller/Stuhlman vs. Mayhall/Bye
DESCRIPTION:PUPC Thursday Low Int. Lg. - Fall 24 - Paddle Up Pickleball Club
LOCATION:Court 6
CATEGORIES:QuickScores; Pickleball Game
TRANSP:0
DALARM:20241107T164000;PT10M;2;Mueller/Stuhlman vs. Mayhall/Bye
END:VEVENT
BEGIN:VEVENT
DTSTART:20241107T184000
DTEND:20241107T192000
SUMMARY:Johns/Brower vs. Kough/Kough
DESCRIPTION:PUPC Thursday Low Int. Lg. - Fall 24 - Paddle Up Pickleball Club
LOCATION:Court 4
CATEGORIES:QuickScores; Pickleball Game
TRANSP:0
DALARM:20241107T164000;PT10M;2;Johns/Brower vs. Kough/Kough
END:VEVENT
BEGIN:VEVENT
DTSTART:20241107T192000
DTEND:20241107T200000
SUMMARY:Mayhall/Bye vs. Johns/Brower
DESCRIPTION:PUPC Thursday Low Int. Lg. - Fall 24 - Paddle Up Pickleball Club
LOCATION:Court 3
CATEGORIES:QuickScores; Pickleball Game
TRANSP:0
DALARM:20241107T172000;PT10M;2;Mayhall/Bye vs. Johns/Brower
END:VEVENT
BEGIN:VEVENT
DTSTART:20241107T192000
DTEND:20241107T200000
SUMMARY:Nielsen/Johnson vs. Struckman/McCarter
DESCRIPTION:PUPC Thursday Low Int. Lg. - Fall 24 - Paddle Up Pickleball Club
LOCATION:Court 4
CATEGORIES:QuickScores; Pickleball Game
TRANSP:0
DALARM:20241107T172000;PT10M;2;Nielsen/Johnson vs. Struckman/McCarter
END:VEVENT
BEGIN:VEVENT
DTSTART:20241107T200000
DTEND:20241107T204000
SUMMARY:Moss/Rodriguez2 vs. Cary/Cary
DESCRIPTION:PUPC Thursday Low Int. Lg. - Fall 24 - Paddle Up Pickleball Club
LOCATION:Court 3
CATEGORIES:QuickScores; Pickleball Game
TRANSP:0
DALARM:20241107T180000;PT10M;2;Moss/Rodriguez2 vs. Cary/Cary
END:VEVENT
BEGIN:VEVENT
DTSTART:20241107T204000
DTEND:20241107T212000
SUMMARY:Cary/Cary vs. Nielsen/Johnson
DESCRIPTION:PUPC Thursday Low Int. Lg. - Fall 24 - Paddle Up Pickleball Club
LOCATION:Court 3
CATEGORIES:QuickScores; Pickleball Game
TRANSP:0
DALARM:20241107T184000;PT10M;2;Cary/Cary vs. Nielsen/Johnson
END:VEVENT
BEGIN:VEVENT
DTSTART:20241114T180000
DTEND:20241114T183000
SUMMARY:[1] Mayhall/Bye vs. [8] Struckman/McCarter
DESCRIPTION:PUPC Thursday Low Int. Lg. - Fall 24 - Paddle Up Pickleball Club
LOCATION:Court 4
CATEGORIES:QuickScores; Pickleball Game
TRANSP:0
DALARM:20241114T160000;PT10M;2;[1] Mayhall/Bye vs. [8] Struckman/McCarter
END:VEVENT
BEGIN:VEVENT
DTSTART:20241114T180000
DTEND:20241114T183000
SUMMARY:[4] Johns/Brower vs. [5] Moss/Rodriguez2
DESCRIPTION:PUPC Thursday Low Int. Lg. - Fall 24 - Paddle Up Pickleball Club
LOCATION:Court 6
CATEGORIES:QuickScores; Pickleball Game
TRANSP:0
DALARM:20241114T160000;PT10M;2;[4] Johns/Brower vs. [5] Moss/Rodriguez2
END:VEVENT
BEGIN:VEVENT
DTSTART:20241114T180000
DTEND:20241114T183000
SUMMARY:[3] Mueller/Stuhlman vs. [6] Cary/Cary
DESCRIPTION:PUPC Thursday Low Int. Lg. - Fall 24 - Paddle Up Pickleball Club
LOCATION:Court 3
CATEGORIES:QuickScores; Pickleball Game
TRANSP:0
DALARM:20241114T160000;PT10M;2;[3] Mueller/Stuhlman vs. [6] Cary/Cary
END:VEVENT
BEGIN:VEVENT
DTSTART:20241114T183000
DTEND:20241114T190000
SUMMARY:[2] Nielsen/Johnson vs. [7] Kough/Kough
DESCRIPTION:PUPC Thursday Low Int. Lg. - Fall 24 - Paddle Up Pickleball Club
LOCATION:Court 4
CATEGORIES:QuickScores; Pickleball Game
TRANSP:0
DALARM:20241114T163000;PT10M;2;[2] Nielsen/Johnson vs. [7] Kough/Kough
END:VEVENT
BEGIN:VEVENT
DTSTART:20241114T183000
DTEND:20241114T190000
SUMMARY:[1] Mayhall/Bye vs. [4] Johns/Brower
DESCRIPTION:PUPC Thursday Low Int. Lg. - Fall 24 - Paddle Up Pickleball Club
LOCATION:Court 6
CATEGORIES:QuickScores; Pickleball Game
TRANSP:0
DALARM:20241114T163000;PT10M;2;[1] Mayhall/Bye vs. [4] Johns/Brower
END:VEVENT
BEGIN:VEVENT
DTSTART:20241114T190000
DTEND:20241114T193000
SUMMARY:[2] Nielsen/Johnson vs. [3] Mueller/Stuhlman
DESCRIPTION:PUPC Thursday Low Int. Lg. - Fall 24 - Paddle Up Pickleball Club
LOCATION:Court 3
CATEGORIES:QuickScores; Pickleball Game
TRANSP:0
DALARM:20241114T170000;PT10M;2;[2] Nielsen/Johnson vs. [3] Mueller/Stuhlman
END:VEVENT
BEGIN:VEVENT
DTSTART:20241114T193000
DTEND:20241114T200000
SUMMARY:[1] Mayhall/Bye vs. [3] Mueller/Stuhlman
DESCRIPTION:PUPC Thursday Low Int. Lg. - Fall 24 - Paddle Up Pickleball Club
LOCATION:Court 3
CATEGORIES:QuickScores; Pickleball Game
TRANSP:0
DALARM:20241114T173000;PT10M;2;[1] Mayhall/Bye vs. [3] Mueller/Stuhlman
END:VEVENT
END:VCALENDAR
