BEGIN:VCALENDAR
VERSION:1.0
BEGIN:VEVENT
DTSTART:20241002T110000
DTEND:20241002T123000
SUMMARY:Ancient Mariners 70s vs. Robinson’s Furniture
DESCRIPTION:Men 70 AA - International Senior Softball Association<br>ISSA
LOCATION:R 3
CATEGORIES:QuickScores; Softball Game
TRANSP:0
DALARM:20241002T090000;PT10M;2;Ancient Mariners 70s vs. Robinson’s Furniture
END:VEVENT
BEGIN:VEVENT
DTSTART:20241002T140000
DTEND:20241002T153000
SUMMARY:Robinson’s Furniture vs. Ancient Mariners 70s
DESCRIPTION:Men 70 AA - International Senior Softball Association<br>ISSA
LOCATION:R 3
CATEGORIES:QuickScores; Softball Game
TRANSP:0
DALARM:20241002T120000;PT10M;2;Robinson’s Furniture vs. Ancient Mariners 70s
END:VEVENT
END:VCALENDAR
