BEGIN:VCALENDAR
VERSION:1.0
BEGIN:VEVENT
DTSTART:20240907T100000
DTEND:20240907T110000
SUMMARY:Macon County vs. Dadeville
DESCRIPTION:EAYFL Sophomores - 
LOCATION:Dadeville
CATEGORIES:QuickScores; Football Game
TRANSP:0
DALARM:20240907T080000;PT10M;2;Macon County vs. Dadeville
END:VEVENT
BEGIN:VEVENT
DTSTART:20240907T100000
DTEND:20240907T110000
SUMMARY:Tallassee vs. Reeltown
DESCRIPTION:EAYFL Sophomores - 
LOCATION:Reeltown
CATEGORIES:QuickScores; Football Game
TRANSP:0
DALARM:20240907T080000;PT10M;2;Tallassee vs. Reeltown
END:VEVENT
BEGIN:VEVENT
DTSTART:20240907T100000
DTEND:20240907T110000
SUMMARY:Camp Hill vs. Wetumpka
DESCRIPTION:EAYFL Sophomores - 
LOCATION:Wetumpka
CATEGORIES:QuickScores; Football Game
TRANSP:0
DALARM:20240907T080000;PT10M;2;Camp Hill vs. Wetumpka
END:VEVENT
BEGIN:VEVENT
DTSTART:20240914T100000
DTEND:20240914T110000
SUMMARY:Dadeville vs. Tallassee
DESCRIPTION:EAYFL Sophomores - 
LOCATION:Tallassee
CATEGORIES:QuickScores; Football Game
TRANSP:0
DALARM:20240914T080000;PT10M;2;Dadeville vs. Tallassee
END:VEVENT
BEGIN:VEVENT
DTSTART:20240914T100000
DTEND:20240914T110000
SUMMARY:Reeltown vs. Camp Hill
DESCRIPTION:EAYFL Sophomores - 
LOCATION:Camp Hill
CATEGORIES:QuickScores; Football Game
TRANSP:0
DALARM:20240914T080000;PT10M;2;Reeltown vs. Camp Hill
END:VEVENT
BEGIN:VEVENT
DTSTART:20240914T100000
DTEND:20240914T110000
SUMMARY:Bullock County vs. Wetumpka
DESCRIPTION:EAYFL Sophomores - 
LOCATION:Wetumpka
CATEGORIES:QuickScores; Football Game
TRANSP:0
DALARM:20240914T080000;PT10M;2;Bullock County vs. Wetumpka
END:VEVENT
BEGIN:VEVENT
DTSTART:20240921T100000
DTEND:20240921T110000
SUMMARY:Camp Hill vs. Tallassee
DESCRIPTION:EAYFL Sophomores - 
LOCATION:Tallassee
CATEGORIES:QuickScores; Football Game
TRANSP:0
DALARM:20240921T080000;PT10M;2;Camp Hill vs. Tallassee
END:VEVENT
BEGIN:VEVENT
DTSTART:20240921T100000
DTEND:20240921T110000
SUMMARY:Wetumpka vs. Reeltown
DESCRIPTION:EAYFL Sophomores - 
LOCATION:Reeltown
CATEGORIES:QuickScores; Football Game
TRANSP:0
DALARM:20240921T080000;PT10M;2;Wetumpka vs. Reeltown
END:VEVENT
BEGIN:VEVENT
DTSTART:20240921T100000
DTEND:20240921T110000
SUMMARY:Bullock County vs. Macon County
DESCRIPTION:EAYFL Sophomores - 
LOCATION:Macon County
CATEGORIES:QuickScores; Football Game
TRANSP:0
DALARM:20240921T080000;PT10M;2;Bullock County vs. Macon County
END:VEVENT
BEGIN:VEVENT
DTSTART:20240928T100000
DTEND:20240928T110000
SUMMARY:Camp Hill vs. Bullock County
DESCRIPTION:EAYFL Sophomores - 
LOCATION:Bullock County
CATEGORIES:QuickScores; Football Game
TRANSP:0
DALARM:20240928T080000;PT10M;2;Camp Hill vs. Bullock County
END:VEVENT
BEGIN:VEVENT
DTSTART:20240928T100000
DTEND:20240928T110000
SUMMARY:Reeltown vs. Dadeville
DESCRIPTION:EAYFL Sophomores - 
LOCATION:Dadeville
CATEGORIES:QuickScores; Football Game
TRANSP:0
DALARM:20240928T080000;PT10M;2;Reeltown vs. Dadeville
END:VEVENT
BEGIN:VEVENT
DTSTART:20240928T100000
DTEND:20240928T110000
SUMMARY:Wetumpka vs. Macon County
DESCRIPTION:EAYFL Sophomores - 
LOCATION:Macon County
CATEGORIES:QuickScores; Football Game
TRANSP:0
DALARM:20240928T080000;PT10M;2;Wetumpka vs. Macon County
END:VEVENT
BEGIN:VEVENT
DTSTART:20241005T100000
DTEND:20241005T110000
SUMMARY:Tallassee vs. Wetumpka
DESCRIPTION:EAYFL Sophomores - 
LOCATION:Wetumpka
CATEGORIES:QuickScores; Football Game
TRANSP:0
DALARM:20241005T080000;PT10M;2;Tallassee vs. Wetumpka
END:VEVENT
BEGIN:VEVENT
DTSTART:20241005T100000
DTEND:20241005T110000
SUMMARY:Macon County vs. Camp Hill
DESCRIPTION:EAYFL Sophomores - 
LOCATION:Camp Hill
CATEGORIES:QuickScores; Football Game
TRANSP:0
DALARM:20241005T080000;PT10M;2;Macon County vs. Camp Hill
END:VEVENT
BEGIN:VEVENT
DTSTART:20241005T100000
DTEND:20241005T110000
SUMMARY:Dadeville vs. Bullock County
DESCRIPTION:EAYFL Sophomores - 
LOCATION:Bullock County
CATEGORIES:QuickScores; Football Game
TRANSP:0
DALARM:20241005T080000;PT10M;2;Dadeville vs. Bullock County
END:VEVENT
BEGIN:VEVENT
DTSTART:20241012T100000
DTEND:20241012T110000
SUMMARY:Dadeville vs. Camp Hill
DESCRIPTION:EAYFL Sophomores - 
LOCATION:Camp Hill
CATEGORIES:QuickScores; Football Game
TRANSP:0
DALARM:20241012T080000;PT10M;2;Dadeville vs. Camp Hill
END:VEVENT
BEGIN:VEVENT
DTSTART:20241012T100000
DTEND:20241012T110000
SUMMARY:Macon County vs. Reeltown
DESCRIPTION:EAYFL Sophomores - 
LOCATION:Reeltown
CATEGORIES:QuickScores; Football Game
TRANSP:0
DALARM:20241012T080000;PT10M;2;Macon County vs. Reeltown
END:VEVENT
BEGIN:VEVENT
DTSTART:20241012T100000
DTEND:20241012T110000
SUMMARY:Bullock County vs. Tallassee
DESCRIPTION:EAYFL Sophomores - 
LOCATION:Tallassee
CATEGORIES:QuickScores; Football Game
TRANSP:0
DALARM:20241012T080000;PT10M;2;Bullock County vs. Tallassee
END:VEVENT
BEGIN:VEVENT
DTSTART:20241019T100000
DTEND:20241019T110000
SUMMARY:Tallassee vs. Macon County
DESCRIPTION:EAYFL Sophomores - 
LOCATION:Macon County
CATEGORIES:QuickScores; Football Game
TRANSP:0
DALARM:20241019T080000;PT10M;2;Tallassee vs. Macon County
END:VEVENT
BEGIN:VEVENT
DTSTART:20241019T100000
DTEND:20241019T110000
SUMMARY:Wetumpka vs. Dadeville
DESCRIPTION:EAYFL Sophomores - 
LOCATION:Dadeville
CATEGORIES:QuickScores; Football Game
TRANSP:0
DALARM:20241019T080000;PT10M;2;Wetumpka vs. Dadeville
END:VEVENT
BEGIN:VEVENT
DTSTART:20241019T100000
DTEND:20241019T110000
SUMMARY:Reeltown vs. Bullock County
DESCRIPTION:EAYFL Sophomores - 
LOCATION:Bullock County
CATEGORIES:QuickScores; Football Game
TRANSP:0
DALARM:20241019T080000;PT10M;2;Reeltown vs. Bullock County
END:VEVENT
BEGIN:VEVENT
DTSTART:20241102T110000
DTEND:20241102T120000
SUMMARY:[4] Tallassee vs. [5] Dadeville
DESCRIPTION:EAYFL Sophomores - 
LOCATION:Notasulga H.S Field
CATEGORIES:QuickScores; Football Game
TRANSP:0
DALARM:20241102T090000;PT10M;2;[4] Tallassee vs. [5] Dadeville
END:VEVENT
BEGIN:VEVENT
DTSTART:20241102T120000
DTEND:20241102T130000
SUMMARY:[2] Reeltown vs. [7] Bullock County
DESCRIPTION:EAYFL Sophomores - 
LOCATION:Notasulga H.S Field
CATEGORIES:QuickScores; Football Game
TRANSP:0
DALARM:20241102T100000;PT10M;2;[2] Reeltown vs. [7] Bullock County
END:VEVENT
BEGIN:VEVENT
DTSTART:20241102T130000
DTEND:20241102T140000
SUMMARY:[3] Macon County vs. [6] Wetumpka
DESCRIPTION:EAYFL Sophomores - 
LOCATION:Notasulga H.S Field
CATEGORIES:QuickScores; Football Game
TRANSP:0
DALARM:20241102T110000;PT10M;2;[3] Macon County vs. [6] Wetumpka
END:VEVENT
BEGIN:VEVENT
DTSTART:20241109T100000
DTEND:20241109T110000
SUMMARY:[2] Reeltown vs. [3] Macon County
DESCRIPTION:EAYFL Sophomores - 
LOCATION:Notasulga H.S Field
CATEGORIES:QuickScores; Football Game
TRANSP:0
DALARM:20241109T080000;PT10M;2;[2] Reeltown vs. [3] Macon County
END:VEVENT
BEGIN:VEVENT
DTSTART:20241109T110000
DTEND:20241109T120000
SUMMARY:[1] Camp Hill vs. [4] Tallassee
DESCRIPTION:EAYFL Sophomores - 
LOCATION:Notasulga H.S Field
CATEGORIES:QuickScores; Football Game
TRANSP:0
DALARM:20241109T090000;PT10M;2;[1] Camp Hill vs. [4] Tallassee
END:VEVENT
BEGIN:VEVENT
DTSTART:20241116T140000
DTEND:20241116T150000
SUMMARY:[1] Camp Hill vs. [2] Reeltown
DESCRIPTION:EAYFL Sophomores - 
LOCATION:Dadeville
CATEGORIES:QuickScores; Football Game
TRANSP:0
DALARM:20241116T120000;PT10M;2;[1] Camp Hill vs. [2] Reeltown
END:VEVENT
END:VCALENDAR
