BEGIN:VCALENDAR
VERSION:1.0
BEGIN:VEVENT
DTSTART:20240916T180000
DTEND:20240916T190000
SUMMARY:Taters of the Carribean vs. Juan's Team
DESCRIPTION:Competitive CoEd Fall Volleyball - Carbondale Parks and Recreation
LOCATION:West Gym
CATEGORIES:QuickScores; Volleyball - Adult Game
TRANSP:0
DALARM:20240916T160000;PT10M;2;Taters of the Carribean vs. Juan's Team
END:VEVENT
BEGIN:VEVENT
DTSTART:20240916T190000
DTEND:20240916T200000
SUMMARY:_WAP vs. Tiger Bomb
DESCRIPTION:Competitive CoEd Fall Volleyball - Carbondale Parks and Recreation
LOCATION:West Gym
CATEGORIES:QuickScores; Volleyball - Adult Game
TRANSP:0
DALARM:20240916T170000;PT10M;2;_WAP vs. Tiger Bomb
END:VEVENT
BEGIN:VEVENT
DTSTART:20240916T200000
DTEND:20240916T210000
SUMMARY:Baker and the Cakes vs. Bonedale Bone Crushers
DESCRIPTION:Competitive CoEd Fall Volleyball - Carbondale Parks and Recreation
LOCATION:West Gym
CATEGORIES:QuickScores; Volleyball - Adult Game
TRANSP:0
DALARM:20240916T180000;PT10M;2;Baker and the Cakes vs. Bonedale Bone Crushers
END:VEVENT
BEGIN:VEVENT
DTSTART:20240923T180000
DTEND:20240923T190000
SUMMARY:Bonedale Bone Crushers vs. Juan's Team
DESCRIPTION:Competitive CoEd Fall Volleyball - Carbondale Parks and Recreation
LOCATION:West Gym
CATEGORIES:QuickScores; Volleyball - Adult Game
TRANSP:0
DALARM:20240923T160000;PT10M;2;Bonedale Bone Crushers vs. Juan's Team
END:VEVENT
BEGIN:VEVENT
DTSTART:20240923T190000
DTEND:20240923T200000
SUMMARY:_WAP vs. Taters of the Carribean
DESCRIPTION:Competitive CoEd Fall Volleyball - Carbondale Parks and Recreation
LOCATION:West Gym
CATEGORIES:QuickScores; Volleyball - Adult Game
TRANSP:0
DALARM:20240923T170000;PT10M;2;_WAP vs. Taters of the Carribean
END:VEVENT
BEGIN:VEVENT
DTSTART:20240923T200000
DTEND:20240923T210000
SUMMARY:Tiger Bomb vs. Baker and the Cakes
DESCRIPTION:Competitive CoEd Fall Volleyball - Carbondale Parks and Recreation
LOCATION:West Gym
CATEGORIES:QuickScores; Volleyball - Adult Game
TRANSP:0
DALARM:20240923T180000;PT10M;2;Tiger Bomb vs. Baker and the Cakes
END:VEVENT
BEGIN:VEVENT
DTSTART:20240930T180000
DTEND:20240930T190000
SUMMARY:Baker and the Cakes vs. Juan's Team
DESCRIPTION:Competitive CoEd Fall Volleyball - Carbondale Parks and Recreation
LOCATION:West Gym
CATEGORIES:QuickScores; Volleyball - Adult Game
TRANSP:0
DALARM:20240930T160000;PT10M;2;Baker and the Cakes vs. Juan's Team
END:VEVENT
BEGIN:VEVENT
DTSTART:20240930T190000
DTEND:20240930T200000
SUMMARY:Bonedale Bone Crushers vs. _WAP
DESCRIPTION:Competitive CoEd Fall Volleyball - Carbondale Parks and Recreation
LOCATION:West Gym
CATEGORIES:QuickScores; Volleyball - Adult Game
TRANSP:0
DALARM:20240930T170000;PT10M;2;Bonedale Bone Crushers vs. _WAP
END:VEVENT
BEGIN:VEVENT
DTSTART:20240930T200000
DTEND:20240930T210000
SUMMARY:Taters of the Carribean vs. Tiger Bomb
DESCRIPTION:Competitive CoEd Fall Volleyball - Carbondale Parks and Recreation
LOCATION:West Gym
CATEGORIES:QuickScores; Volleyball - Adult Game
TRANSP:0
DALARM:20240930T180000;PT10M;2;Taters of the Carribean vs. Tiger Bomb
END:VEVENT
BEGIN:VEVENT
DTSTART:20241007T180000
DTEND:20241007T190000
SUMMARY:Taters of the Carribean vs. Baker and the Cakes
DESCRIPTION:Competitive CoEd Fall Volleyball - Carbondale Parks and Recreation
LOCATION:West Gym
CATEGORIES:QuickScores; Volleyball - Adult Game
TRANSP:0
DALARM:20241007T160000;PT10M;2;Taters of the Carribean vs. Baker and the Cakes
END:VEVENT
BEGIN:VEVENT
DTSTART:20241007T190000
DTEND:20241007T200000
SUMMARY:Tiger Bomb vs. Bonedale Bone Crushers
DESCRIPTION:Competitive CoEd Fall Volleyball - Carbondale Parks and Recreation
LOCATION:West Gym
CATEGORIES:QuickScores; Volleyball - Adult Game
TRANSP:0
DALARM:20241007T170000;PT10M;2;Tiger Bomb vs. Bonedale Bone Crushers
END:VEVENT
BEGIN:VEVENT
DTSTART:20241007T200000
DTEND:20241007T210000
SUMMARY:Juan's Team vs. _WAP
DESCRIPTION:Competitive CoEd Fall Volleyball - Carbondale Parks and Recreation
LOCATION:West Gym
CATEGORIES:QuickScores; Volleyball - Adult Game
TRANSP:0
DALARM:20241007T180000;PT10M;2;Juan's Team vs. _WAP
END:VEVENT
BEGIN:VEVENT
DTSTART:20241014T180000
DTEND:20241014T190000
SUMMARY:Bonedale Bone Crushers vs. Taters of the Carribean
DESCRIPTION:Competitive CoEd Fall Volleyball - Carbondale Parks and Recreation
LOCATION:West Gym
CATEGORIES:QuickScores; Volleyball - Adult Game
TRANSP:0
DALARM:20241014T160000;PT10M;2;Bonedale Bone Crushers vs. Taters of the Carribean
END:VEVENT
BEGIN:VEVENT
DTSTART:20241014T190000
DTEND:20241014T200000
SUMMARY:Juan's Team vs. Tiger Bomb
DESCRIPTION:Competitive CoEd Fall Volleyball - Carbondale Parks and Recreation
LOCATION:West Gym
CATEGORIES:QuickScores; Volleyball - Adult Game
TRANSP:0
DALARM:20241014T170000;PT10M;2;Juan's Team vs. Tiger Bomb
END:VEVENT
BEGIN:VEVENT
DTSTART:20241014T200000
DTEND:20241014T210000
SUMMARY:_WAP vs. Baker and the Cakes
DESCRIPTION:Competitive CoEd Fall Volleyball - Carbondale Parks and Recreation
LOCATION:West Gym
CATEGORIES:QuickScores; Volleyball - Adult Game
TRANSP:0
DALARM:20241014T180000;PT10M;2;_WAP vs. Baker and the Cakes
END:VEVENT
BEGIN:VEVENT
DTSTART:20241021T180000
DTEND:20241021T190000
SUMMARY:Tiger Bomb vs. Sugar and Spikes
DESCRIPTION:Competitive CoEd Fall Volleyball - Carbondale Parks and Recreation
LOCATION:West Gym
CATEGORIES:QuickScores; Volleyball - Adult Game
TRANSP:0
DALARM:20241021T160000;PT10M;2;Tiger Bomb vs. Sugar and Spikes
END:VEVENT
BEGIN:VEVENT
DTSTART:20241021T190000
DTEND:20241021T200000
SUMMARY:Juan's Team vs. Baker and the Cakes
DESCRIPTION:Competitive CoEd Fall Volleyball - Carbondale Parks and Recreation
LOCATION:West Gym
CATEGORIES:QuickScores; Volleyball - Adult Game
TRANSP:0
DALARM:20241021T170000;PT10M;2;Juan's Team vs. Baker and the Cakes
END:VEVENT
BEGIN:VEVENT
DTSTART:20241021T200000
DTEND:20241021T210000
SUMMARY:Taters of the Carribean vs. _WAP
DESCRIPTION:Competitive CoEd Fall Volleyball - Carbondale Parks and Recreation
LOCATION:West Gym
CATEGORIES:QuickScores; Volleyball - Adult Game
TRANSP:0
DALARM:20241021T180000;PT10M;2;Taters of the Carribean vs. _WAP
END:VEVENT
BEGIN:VEVENT
DTSTART:20241028T180000
DTEND:20241028T190000
SUMMARY:Juan's Team vs. Bonedale Bone Crushers
DESCRIPTION:Competitive CoEd Fall Volleyball - Carbondale Parks and Recreation
LOCATION:West Gym
CATEGORIES:QuickScores; Volleyball - Adult Game
TRANSP:0
DALARM:20241028T160000;PT10M;2;Juan's Team vs. Bonedale Bone Crushers
END:VEVENT
BEGIN:VEVENT
DTSTART:20241028T190000
DTEND:20241028T200000
SUMMARY:Taters of the Carribean vs. Sugar and Spikes
DESCRIPTION:Competitive CoEd Fall Volleyball - Carbondale Parks and Recreation
LOCATION:West Gym
CATEGORIES:QuickScores; Volleyball - Adult Game
TRANSP:0
DALARM:20241028T170000;PT10M;2;Taters of the Carribean vs. Sugar and Spikes
END:VEVENT
BEGIN:VEVENT
DTSTART:20241028T200000
DTEND:20241028T210000
SUMMARY:_WAP vs. Baker and the Cakes
DESCRIPTION:Competitive CoEd Fall Volleyball - Carbondale Parks and Recreation
LOCATION:West Gym
CATEGORIES:QuickScores; Volleyball - Adult Game
TRANSP:0
DALARM:20241028T180000;PT10M;2;_WAP vs. Baker and the Cakes
END:VEVENT
BEGIN:VEVENT
DTSTART:20241104T180000
DTEND:20241104T190000
SUMMARY:Bonedale Bone Crushers vs. Baker and the Cakes
DESCRIPTION:Competitive CoEd Fall Volleyball - Carbondale Parks and Recreation
LOCATION:West Gym
CATEGORIES:QuickScores; Volleyball - Adult Game
TRANSP:0
DALARM:20241104T160000;PT10M;2;Bonedale Bone Crushers vs. Baker and the Cakes
END:VEVENT
BEGIN:VEVENT
DTSTART:20241104T190000
DTEND:20241104T200000
SUMMARY:Tiger Bomb vs. _WAP
DESCRIPTION:Competitive CoEd Fall Volleyball - Carbondale Parks and Recreation
LOCATION:West Gym
CATEGORIES:QuickScores; Volleyball - Adult Game
TRANSP:0
DALARM:20241104T170000;PT10M;2;Tiger Bomb vs. _WAP
END:VEVENT
BEGIN:VEVENT
DTSTART:20241104T200000
DTEND:20241104T210000
SUMMARY:Juan's Team vs. Taters of the Carribean
DESCRIPTION:Competitive CoEd Fall Volleyball - Carbondale Parks and Recreation
LOCATION:West Gym
CATEGORIES:QuickScores; Volleyball - Adult Game
TRANSP:0
DALARM:20241104T180000;PT10M;2;Juan's Team vs. Taters of the Carribean
END:VEVENT
BEGIN:VEVENT
DTSTART:20241111T180000
DTEND:20241111T190000
SUMMARY:Taters of the Carribean vs. Tiger Bomb
DESCRIPTION:Competitive CoEd Fall Volleyball - Carbondale Parks and Recreation
LOCATION:West Gym
CATEGORIES:QuickScores; Volleyball - Adult Game
TRANSP:0
DALARM:20241111T160000;PT10M;2;Taters of the Carribean vs. Tiger Bomb
END:VEVENT
BEGIN:VEVENT
DTSTART:20241111T190000
DTEND:20241111T200000
SUMMARY:_WAP vs. Bonedale Bone Crushers
DESCRIPTION:Competitive CoEd Fall Volleyball - Carbondale Parks and Recreation
LOCATION:West Gym
CATEGORIES:QuickScores; Volleyball - Adult Game
TRANSP:0
DALARM:20241111T170000;PT10M;2;_WAP vs. Bonedale Bone Crushers
END:VEVENT
BEGIN:VEVENT
DTSTART:20241111T200000
DTEND:20241111T210000
SUMMARY:Baker and the Cakes vs. Sugar and Spikes
DESCRIPTION:Competitive CoEd Fall Volleyball - Carbondale Parks and Recreation
LOCATION:West Gym
CATEGORIES:QuickScores; Volleyball - Adult Game
TRANSP:0
DALARM:20241111T180000;PT10M;2;Baker and the Cakes vs. Sugar and Spikes
END:VEVENT
BEGIN:VEVENT
DTSTART:20241118T180000
DTEND:20241118T190000
SUMMARY:Sugar and Spikes vs. _WAP
DESCRIPTION:Competitive CoEd Fall Volleyball - Carbondale Parks and Recreation
LOCATION:West Gym
CATEGORIES:QuickScores; Volleyball - Adult Game
TRANSP:0
DALARM:20241118T160000;PT10M;2;Sugar and Spikes vs. _WAP
END:VEVENT
BEGIN:VEVENT
DTSTART:20241118T190000
DTEND:20241118T200000
SUMMARY:Bonedale Bone Crushers vs. Taters of the Carribean
DESCRIPTION:Competitive CoEd Fall Volleyball - Carbondale Parks and Recreation
LOCATION:West Gym
CATEGORIES:QuickScores; Volleyball - Adult Game
TRANSP:0
DALARM:20241118T170000;PT10M;2;Bonedale Bone Crushers vs. Taters of the Carribean
END:VEVENT
BEGIN:VEVENT
DTSTART:20241118T200000
DTEND:20241118T210000
SUMMARY:Tiger Bomb vs. Juan's Team
DESCRIPTION:Competitive CoEd Fall Volleyball - Carbondale Parks and Recreation
LOCATION:West Gym
CATEGORIES:QuickScores; Volleyball - Adult Game
TRANSP:0
DALARM:20241118T180000;PT10M;2;Tiger Bomb vs. Juan's Team
END:VEVENT
BEGIN:VEVENT
DTSTART:20241202T180000
DTEND:20241202T190000
SUMMARY:Baker and the Cakes vs. Taters of the Carribean
DESCRIPTION:Competitive CoEd Fall Volleyball - Carbondale Parks and Recreation
LOCATION:West Gym
CATEGORIES:QuickScores; Volleyball - Adult Game
TRANSP:0
DALARM:20241202T160000;PT10M;2;Baker and the Cakes vs. Taters of the Carribean
END:VEVENT
BEGIN:VEVENT
DTSTART:20241202T190000
DTEND:20241202T200000
SUMMARY:Sugar and Spikes vs. Juan's Team
DESCRIPTION:Competitive CoEd Fall Volleyball - Carbondale Parks and Recreation
LOCATION:West Gym
CATEGORIES:QuickScores; Volleyball - Adult Game
TRANSP:0
DALARM:20241202T170000;PT10M;2;Sugar and Spikes vs. Juan's Team
END:VEVENT
BEGIN:VEVENT
DTSTART:20241202T200000
DTEND:20241202T210000
SUMMARY:Bonedale Bone Crushers vs. Tiger Bomb
DESCRIPTION:Competitive CoEd Fall Volleyball - Carbondale Parks and Recreation
LOCATION:West Gym
CATEGORIES:QuickScores; Volleyball - Adult Game
TRANSP:0
DALARM:20241202T180000;PT10M;2;Bonedale Bone Crushers vs. Tiger Bomb
END:VEVENT
BEGIN:VEVENT
DTSTART:20241209T180000
DTEND:20241209T190000
SUMMARY:[4] Sugar and Spikes vs. [5] Bonedale Bone Crushers
DESCRIPTION:Competitive CoEd Fall Volleyball - Carbondale Parks and Recreation
LOCATION:West Gym
CATEGORIES:QuickScores; Volleyball - Adult Game
TRANSP:0
DALARM:20241209T160000;PT10M;2;[4] Sugar and Spikes vs. [5] Bonedale Bone Crushers
END:VEVENT
BEGIN:VEVENT
DTSTART:20241209T190000
DTEND:20241209T200000
SUMMARY:[2] Taters of the Carribean vs. [7] Baker and the Cakes
DESCRIPTION:Competitive CoEd Fall Volleyball - Carbondale Parks and Recreation
LOCATION:West Gym
CATEGORIES:QuickScores; Volleyball - Adult Game
TRANSP:0
DALARM:20241209T170000;PT10M;2;[2] Taters of the Carribean vs. [7] Baker and the Cakes
END:VEVENT
BEGIN:VEVENT
DTSTART:20241209T200000
DTEND:20241209T210000
SUMMARY:[3] Juan's Team vs. [6] Tiger Bomb
DESCRIPTION:Competitive CoEd Fall Volleyball - Carbondale Parks and Recreation
LOCATION:West Gym
CATEGORIES:QuickScores; Volleyball - Adult Game
TRANSP:0
DALARM:20241209T180000;PT10M;2;[3] Juan's Team vs. [6] Tiger Bomb
END:VEVENT
BEGIN:VEVENT
DTSTART:20241216T180000
DTEND:20241216T190000
SUMMARY:[1] _WAP vs. [5] Bonedale Bone Crushers
DESCRIPTION:Competitive CoEd Fall Volleyball - Carbondale Parks and Recreation
LOCATION:West Gym
CATEGORIES:QuickScores; Volleyball - Adult Game
TRANSP:0
DALARM:20241216T160000;PT10M;2;[1] _WAP vs. [5] Bonedale Bone Crushers
END:VEVENT
BEGIN:VEVENT
DTSTART:20241216T190000
DTEND:20241216T200000
SUMMARY:[2] Taters of the Carribean vs. [3] Juan's Team
DESCRIPTION:Competitive CoEd Fall Volleyball - Carbondale Parks and Recreation
LOCATION:West Gym
CATEGORIES:QuickScores; Volleyball - Adult Game
TRANSP:0
DALARM:20241216T170000;PT10M;2;[2] Taters of the Carribean vs. [3] Juan's Team
END:VEVENT
BEGIN:VEVENT
DTSTART:20241216T200000
DTEND:20241216T210000
SUMMARY:Winner of Game 4 vs. Winner of Game 5
DESCRIPTION:Competitive CoEd Fall Volleyball - Carbondale Parks and Recreation
LOCATION:West Gym
CATEGORIES:QuickScores; Volleyball - Adult Game
TRANSP:0
DALARM:20241216T180000;PT10M;2;Winner of Game 4 vs. Winner of Game 5
END:VEVENT
END:VCALENDAR
