BEGIN:VCALENDAR
VERSION:1.0
BEGIN:VEVENT
DTSTART:20240921T090000
DTEND:20240921T100000
SUMMARY:packers vs. Coyotes
DESCRIPTION:AMERICAN - 
LOCATION:BC Field 3
CATEGORIES:QuickScores; Football Game
TRANSP:0
DALARM:20240921T070000;PT10M;2;packers vs. Coyotes
END:VEVENT
BEGIN:VEVENT
DTSTART:20240921T103000
DTEND:20240921T113000
SUMMARY:Texoma Dawgs vs. mustang
DESCRIPTION:AMERICAN - 
LOCATION:BC Field 3
CATEGORIES:QuickScores; Football Game
TRANSP:0
DALARM:20240921T083000;PT10M;2;Texoma Dawgs vs. mustang
END:VEVENT
BEGIN:VEVENT
DTSTART:20240928T090000
DTEND:20240928T100000
SUMMARY:Texoma Dawgs vs. Wildcats
DESCRIPTION:AMERICAN - 
LOCATION:BC Field 3
CATEGORIES:QuickScores; Football Game
TRANSP:0
DALARM:20240928T070000;PT10M;2;Texoma Dawgs vs. Wildcats
END:VEVENT
BEGIN:VEVENT
DTSTART:20240928T103000
DTEND:20240928T113000
SUMMARY:mustang vs. Coyotes
DESCRIPTION:AMERICAN - 
LOCATION:BC Field 3
CATEGORIES:QuickScores; Football Game
TRANSP:0
DALARM:20240928T083000;PT10M;2;mustang vs. Coyotes
END:VEVENT
BEGIN:VEVENT
DTSTART:20241005T090000
DTEND:20241005T100000
SUMMARY:Wildcats vs. mustang
DESCRIPTION:AMERICAN - 
LOCATION:BC Field 3
CATEGORIES:QuickScores; Football Game
TRANSP:0
DALARM:20241005T070000;PT10M;2;Wildcats vs. mustang
END:VEVENT
BEGIN:VEVENT
DTSTART:20241005T103000
DTEND:20241005T113000
SUMMARY:packers vs. Texoma Dawgs
DESCRIPTION:AMERICAN - 
LOCATION:BC Field 3
CATEGORIES:QuickScores; Football Game
TRANSP:0
DALARM:20241005T083000;PT10M;2;packers vs. Texoma Dawgs
END:VEVENT
BEGIN:VEVENT
DTSTART:20241012T090000
DTEND:20241012T100000
SUMMARY:mustang vs. packers
DESCRIPTION:AMERICAN - 
LOCATION:BC Field 3
CATEGORIES:QuickScores; Football Game
TRANSP:0
DALARM:20241012T070000;PT10M;2;mustang vs. packers
END:VEVENT
BEGIN:VEVENT
DTSTART:20241012T103000
DTEND:20241012T113000
SUMMARY:Coyotes vs. Wildcats
DESCRIPTION:AMERICAN - 
LOCATION:BC Field 3
CATEGORIES:QuickScores; Football Game
TRANSP:0
DALARM:20241012T083000;PT10M;2;Coyotes vs. Wildcats
END:VEVENT
BEGIN:VEVENT
DTSTART:20241019T090000
DTEND:20241019T100000
SUMMARY:Coyotes vs. Texoma Dawgs
DESCRIPTION:AMERICAN - 
LOCATION:BC Field 3
CATEGORIES:QuickScores; Football Game
TRANSP:0
DALARM:20241019T070000;PT10M;2;Coyotes vs. Texoma Dawgs
END:VEVENT
BEGIN:VEVENT
DTSTART:20241019T103000
DTEND:20241019T113000
SUMMARY:Wildcats vs. packers
DESCRIPTION:AMERICAN - 
LOCATION:BC Field 3
CATEGORIES:QuickScores; Football Game
TRANSP:0
DALARM:20241019T083000;PT10M;2;Wildcats vs. packers
END:VEVENT
BEGIN:VEVENT
DTSTART:20241026T090000
DTEND:20241026T100000
SUMMARY:Coyotes vs. mustang
DESCRIPTION:AMERICAN - 
LOCATION:BC Field 3
CATEGORIES:QuickScores; Football Game
TRANSP:0
DALARM:20241026T070000;PT10M;2;Coyotes vs. mustang
END:VEVENT
BEGIN:VEVENT
DTSTART:20241026T103000
DTEND:20241026T113000
SUMMARY:Texoma Dawgs vs. packers
DESCRIPTION:AMERICAN - 
LOCATION:BC Field 3
CATEGORIES:QuickScores; Football Game
TRANSP:0
DALARM:20241026T083000;PT10M;2;Texoma Dawgs vs. packers
END:VEVENT
BEGIN:VEVENT
DTSTART:20241102T090000
DTEND:20241102T100000
SUMMARY:Wildcats vs. Texoma Dawgs
DESCRIPTION:AMERICAN - 
LOCATION:BC Field 3
CATEGORIES:QuickScores; Football Game
TRANSP:0
DALARM:20241102T070000;PT10M;2;Wildcats vs. Texoma Dawgs
END:VEVENT
BEGIN:VEVENT
DTSTART:20241102T103000
DTEND:20241102T113000
SUMMARY:Coyotes vs. packers
DESCRIPTION:AMERICAN - 
LOCATION:BC Field 3
CATEGORIES:QuickScores; Football Game
TRANSP:0
DALARM:20241102T083000;PT10M;2;Coyotes vs. packers
END:VEVENT
BEGIN:VEVENT
DTSTART:20241109T090000
DTEND:20241109T100000
SUMMARY:mustang vs. Wildcats
DESCRIPTION:AMERICAN - 
LOCATION:BC Field 3
CATEGORIES:QuickScores; Football Game
TRANSP:0
DALARM:20241109T070000;PT10M;2;mustang vs. Wildcats
END:VEVENT
BEGIN:VEVENT
DTSTART:20241116T090000
DTEND:20241116T100000
SUMMARY:[2] packers vs. [3] Texoma Dawgs
DESCRIPTION:AMERICAN - 
LOCATION:BC Field 3
CATEGORIES:QuickScores; Football Game
TRANSP:0
DALARM:20241116T070000;PT10M;2;[2] packers vs. [3] Texoma Dawgs
END:VEVENT
BEGIN:VEVENT
DTSTART:20241116T110000
DTEND:20241116T120000
SUMMARY:[1] mustang vs. [4] Coyotes
DESCRIPTION:AMERICAN - 
LOCATION:BC Field 3
CATEGORIES:QuickScores; Football Game
TRANSP:0
DALARM:20241116T090000;PT10M;2;[1] mustang vs. [4] Coyotes
END:VEVENT
BEGIN:VEVENT
DTSTART:20241123T110000
DTEND:20241123T120000
SUMMARY:[1] mustang vs. [2] packers
DESCRIPTION:AMERICAN - 
CATEGORIES:QuickScores; Football Game
TRANSP:0
DALARM:20241123T090000;PT10M;2;[1] mustang vs. [2] packers
END:VEVENT
END:VCALENDAR
