BEGIN:VCALENDAR
VERSION:1.0
BEGIN:VEVENT
DTSTART:20240823T140000
DTEND:20240823T153000
SUMMARY:Bags vs. Jwp
DESCRIPTION:Women 50 AAA/Major/55 Major - International Senior Softball Association<br>ISSA
LOCATION:SSC 3
CATEGORIES:QuickScores; Softball Game
TRANSP:0
DALARM:20240823T120000;PT10M;2;Bags vs. Jwp
END:VEVENT
BEGIN:VEVENT
DTSTART:20240823T140000
DTEND:20240823T153000
SUMMARY:Lowe Lady Legends vs. Vipers
DESCRIPTION:Women 50 AAA/Major/55 Major - International Senior Softball Association<br>ISSA
LOCATION:SSC 1
CATEGORIES:QuickScores; Softball Game
TRANSP:0
DALARM:20240823T120000;PT10M;2;Lowe Lady Legends vs. Vipers
END:VEVENT
BEGIN:VEVENT
DTSTART:20240823T140000
DTEND:20240823T153000
SUMMARY:Lady Warriors 50 vs. Allstate/Taz
DESCRIPTION:Women 50 AAA/Major/55 Major - International Senior Softball Association<br>ISSA
LOCATION:SSC 4
CATEGORIES:QuickScores; Softball Game
TRANSP:0
DALARM:20240823T120000;PT10M;2;Lady Warriors 50 vs. Allstate/Taz
END:VEVENT
BEGIN:VEVENT
DTSTART:20240823T153000
DTEND:20240823T170000
SUMMARY:High Octane vs. Bags
DESCRIPTION:Women 50 AAA/Major/55 Major - International Senior Softball Association<br>ISSA
LOCATION:SSC 3
CATEGORIES:QuickScores; Softball Game
TRANSP:0
DALARM:20240823T133000;PT10M;2;High Octane vs. Bags
END:VEVENT
BEGIN:VEVENT
DTSTART:20240823T153000
DTEND:20240823T170000
SUMMARY:No Drama vs. Hot Flashers
DESCRIPTION:Women 50 AAA/Major/55 Major - International Senior Softball Association<br>ISSA
LOCATION:SSC 1
CATEGORIES:QuickScores; Softball Game
TRANSP:0
DALARM:20240823T133000;PT10M;2;No Drama vs. Hot Flashers
END:VEVENT
BEGIN:VEVENT
DTSTART:20240823T153000
DTEND:20240823T170000
SUMMARY:Allstate/Taz vs. 50 Shades
DESCRIPTION:Women 50 AAA/Major/55 Major - International Senior Softball Association<br>ISSA
LOCATION:SSC 4
CATEGORIES:QuickScores; Softball Game
TRANSP:0
DALARM:20240823T133000;PT10M;2;Allstate/Taz vs. 50 Shades
END:VEVENT
BEGIN:VEVENT
DTSTART:20240823T170000
DTEND:20240823T183000
SUMMARY:Hot Flashers vs. Lowe Lady Legends
DESCRIPTION:Women 50 AAA/Major/55 Major - International Senior Softball Association<br>ISSA
LOCATION:SSC 2
CATEGORIES:QuickScores; Softball Game
TRANSP:0
DALARM:20240823T150000;PT10M;2;Hot Flashers vs. Lowe Lady Legends
END:VEVENT
BEGIN:VEVENT
DTSTART:20240823T170000
DTEND:20240823T183000
SUMMARY:Vipers vs. No Drama
DESCRIPTION:Women 50 AAA/Major/55 Major - International Senior Softball Association<br>ISSA
LOCATION:SSC 1
CATEGORIES:QuickScores; Softball Game
TRANSP:0
DALARM:20240823T150000;PT10M;2;Vipers vs. No Drama
END:VEVENT
BEGIN:VEVENT
DTSTART:20240823T170000
DTEND:20240823T183000
SUMMARY:50 Shades vs. Lady Warriors 50
DESCRIPTION:Women 50 AAA/Major/55 Major - International Senior Softball Association<br>ISSA
LOCATION:SSC 4
CATEGORIES:QuickScores; Softball Game
TRANSP:0
DALARM:20240823T150000;PT10M;2;50 Shades vs. Lady Warriors 50
END:VEVENT
BEGIN:VEVENT
DTSTART:20240823T170000
DTEND:20240823T183000
SUMMARY:Jwp vs. High Octane
DESCRIPTION:Women 50 AAA/Major/55 Major - International Senior Softball Association<br>ISSA
LOCATION:SSC 3
CATEGORIES:QuickScores; Softball Game
TRANSP:0
DALARM:20240823T150000;PT10M;2;Jwp vs. High Octane
END:VEVENT
END:VCALENDAR
