BEGIN:VCALENDAR
VERSION:1.0
BEGIN:VEVENT
DTSTART:20240803T090000
DTEND:20240803T110000
SUMMARY:Los Lunas Rookies vs. Valley Rookies
DESCRIPTION:9U - Rookie Division - New Mexico Young America Football League
LOCATION:Mesa Del Sol Field 6
CATEGORIES:QuickScores; Football Game
TRANSP:0
DALARM:20240803T070000;PT10M;2;Los Lunas Rookies vs. Valley Rookies
END:VEVENT
BEGIN:VEVENT
DTSTART:20240803T090000
DTEND:20240803T110000
SUMMARY:La Cueva Rookies vs. Sandia Rookies
DESCRIPTION:9U - Rookie Division - New Mexico Young America Football League
LOCATION:Mesa Del Sol Field 5
CATEGORIES:QuickScores; Football Game
TRANSP:0
DALARM:20240803T070000;PT10M;2;La Cueva Rookies vs. Sandia Rookies
END:VEVENT
BEGIN:VEVENT
DTSTART:20240803T090000
DTEND:20240803T110000
SUMMARY:Albuquerque High Rookies vs. Atrisco Heritage Rookies
DESCRIPTION:9U - Rookie Division - New Mexico Young America Football League
LOCATION:Mesa Del Sol Field 7
CATEGORIES:QuickScores; Football Game
TRANSP:0
DALARM:20240803T070000;PT10M;2;Albuquerque High Rookies vs. Atrisco Heritage Rookies
END:VEVENT
BEGIN:VEVENT
DTSTART:20240803T130000
DTEND:20240803T150000
SUMMARY:West Mesa Rookies vs. Sue Cleveland Rookies
DESCRIPTION:9U - Rookie Division - New Mexico Young America Football League
LOCATION:Rio Rancho Sportsplex Field 2
CATEGORIES:QuickScores; Football Game
TRANSP:0
DALARM:20240803T110000;PT10M;2;West Mesa Rookies vs. Sue Cleveland Rookies
END:VEVENT
BEGIN:VEVENT
DTSTART:20240803T130000
DTEND:20240803T150000
SUMMARY:Volcano Vista Rookies vs. Rio Rancho Rookies
DESCRIPTION:9U - Rookie Division - New Mexico Young America Football League
LOCATION:Mesa Del Sol Field 7
CATEGORIES:QuickScores; Football Game
TRANSP:0
DALARM:20240803T110000;PT10M;2;Volcano Vista Rookies vs. Rio Rancho Rookies
END:VEVENT
BEGIN:VEVENT
DTSTART:20240810T090000
DTEND:20240810T110000
SUMMARY:Sandia Rookies vs. West Mesa Rookies
DESCRIPTION:9U - Rookie Division - New Mexico Young America Football League
LOCATION:Rio Rancho Sportsplex Field 2
CATEGORIES:QuickScores; Football Game
TRANSP:0
DALARM:20240810T070000;PT10M;2;Sandia Rookies vs. West Mesa Rookies
END:VEVENT
BEGIN:VEVENT
DTSTART:20240810T090000
DTEND:20240810T110000
SUMMARY:Sue Cleveland Rookies vs. Albuquerque High Rookies
DESCRIPTION:9U - Rookie Division - New Mexico Young America Football League
LOCATION:Mesa Del Sol Field 7
CATEGORIES:QuickScores; Football Game
TRANSP:0
DALARM:20240810T070000;PT10M;2;Sue Cleveland Rookies vs. Albuquerque High Rookies
END:VEVENT
BEGIN:VEVENT
DTSTART:20240810T090000
DTEND:20240810T110000
SUMMARY:Rio Rancho Rookies vs. Los Lunas Rookies
DESCRIPTION:9U - Rookie Division - New Mexico Young America Football League
LOCATION:Mesa Del Sol Field 5
CATEGORIES:QuickScores; Football Game
TRANSP:0
DALARM:20240810T070000;PT10M;2;Rio Rancho Rookies vs. Los Lunas Rookies
END:VEVENT
BEGIN:VEVENT
DTSTART:20240810T130000
DTEND:20240810T150000
SUMMARY:La Cueva Rookies vs. Moriarty Rookies
DESCRIPTION:9U - Rookie Division - New Mexico Young America Football League
LOCATION:Mesa Del Sol Field 5
CATEGORIES:QuickScores; Football Game
TRANSP:0
DALARM:20240810T110000;PT10M;2;La Cueva Rookies vs. Moriarty Rookies
END:VEVENT
BEGIN:VEVENT
DTSTART:20240810T130000
DTEND:20240810T150000
SUMMARY:Valley Rookies vs. Volcano Vista Rookies
DESCRIPTION:9U - Rookie Division - New Mexico Young America Football League
LOCATION:Mesa Del Sol Field 7
CATEGORIES:QuickScores; Football Game
TRANSP:0
DALARM:20240810T110000;PT10M;2;Valley Rookies vs. Volcano Vista Rookies
END:VEVENT
BEGIN:VEVENT
DTSTART:20240817T090000
DTEND:20240817T110000
SUMMARY:Albuquerque High Rookies vs. Moriarty Rookies
DESCRIPTION:9U - Rookie Division - New Mexico Young America Football League
LOCATION:Mesa Del Sol Field 7
CATEGORIES:QuickScores; Football Game
TRANSP:0
DALARM:20240817T070000;PT10M;2;Albuquerque High Rookies vs. Moriarty Rookies
END:VEVENT
BEGIN:VEVENT
DTSTART:20240817T110000
DTEND:20240817T130000
SUMMARY:Atrisco Heritage Rookies vs. Volcano Vista Rookies
DESCRIPTION:9U - Rookie Division - New Mexico Young America Football League
LOCATION:Mesa Del Sol Field 7
CATEGORIES:QuickScores; Football Game
TRANSP:0
DALARM:20240817T090000;PT10M;2;Atrisco Heritage Rookies vs. Volcano Vista Rookies
END:VEVENT
BEGIN:VEVENT
DTSTART:20240817T110000
DTEND:20240817T130000
SUMMARY:La Cueva Rookies vs. West Mesa Rookies
DESCRIPTION:9U - Rookie Division - New Mexico Young America Football League
LOCATION:Rio Rancho Sportsplex Field 2
CATEGORIES:QuickScores; Football Game
TRANSP:0
DALARM:20240817T090000;PT10M;2;La Cueva Rookies vs. West Mesa Rookies
END:VEVENT
BEGIN:VEVENT
DTSTART:20240817T130000
DTEND:20240817T150000
SUMMARY:Sue Cleveland Rookies vs. Sandia Rookies
DESCRIPTION:9U - Rookie Division - New Mexico Young America Football League
LOCATION:Mesa Del Sol Field 6
CATEGORIES:QuickScores; Football Game
TRANSP:0
DALARM:20240817T110000;PT10M;2;Sue Cleveland Rookies vs. Sandia Rookies
END:VEVENT
BEGIN:VEVENT
DTSTART:20240817T150000
DTEND:20240817T170000
SUMMARY:Rio Rancho Rookies vs. Valley Rookies
DESCRIPTION:9U - Rookie Division - New Mexico Young America Football League
LOCATION:Mesa Del Sol Field 5
CATEGORIES:QuickScores; Football Game
TRANSP:0
DALARM:20240817T130000;PT10M;2;Rio Rancho Rookies vs. Valley Rookies
END:VEVENT
BEGIN:VEVENT
DTSTART:20240824T090000
DTEND:20240824T110000
SUMMARY:Los Lunas Rookies vs. La Cueva Rookies
DESCRIPTION:9U - Rookie Division - New Mexico Young America Football League
LOCATION:Mesa Del Sol Field 5
CATEGORIES:QuickScores; Football Game
TRANSP:0
DALARM:20240824T070000;PT10M;2;Los Lunas Rookies vs. La Cueva Rookies
END:VEVENT
BEGIN:VEVENT
DTSTART:20240824T110000
DTEND:20240824T130000
SUMMARY:Moriarty Rookies vs. Rio Rancho Rookies
DESCRIPTION:9U - Rookie Division - New Mexico Young America Football League
LOCATION:Rio Rancho Sportsplex Field 2
CATEGORIES:QuickScores; Football Game
TRANSP:0
DALARM:20240824T090000;PT10M;2;Moriarty Rookies vs. Rio Rancho Rookies
END:VEVENT
BEGIN:VEVENT
DTSTART:20240824T110000
DTEND:20240824T130000
SUMMARY:Albuquerque High Rookies vs. Valley Rookies
DESCRIPTION:9U - Rookie Division - New Mexico Young America Football League
LOCATION:Mesa Del Sol Field 7
CATEGORIES:QuickScores; Football Game
TRANSP:0
DALARM:20240824T090000;PT10M;2;Albuquerque High Rookies vs. Valley Rookies
END:VEVENT
BEGIN:VEVENT
DTSTART:20240824T130000
DTEND:20240824T150000
SUMMARY:West Mesa Rookies vs. Volcano Vista Rookies
DESCRIPTION:9U - Rookie Division - New Mexico Young America Football League
LOCATION:Rio Rancho Sportsplex Field 2
CATEGORIES:QuickScores; Football Game
TRANSP:0
DALARM:20240824T110000;PT10M;2;West Mesa Rookies vs. Volcano Vista Rookies
END:VEVENT
BEGIN:VEVENT
DTSTART:20240824T130000
DTEND:20240824T150000
SUMMARY:Sandia Rookies vs. Atrisco Heritage Rookies
DESCRIPTION:9U - Rookie Division - New Mexico Young America Football League
LOCATION:Mesa Del Sol Field 5
CATEGORIES:QuickScores; Football Game
TRANSP:0
DALARM:20240824T110000;PT10M;2;Sandia Rookies vs. Atrisco Heritage Rookies
END:VEVENT
BEGIN:VEVENT
DTSTART:20240907T090000
DTEND:20240907T110000
SUMMARY:Volcano Vista Rookies vs. Sue Cleveland Rookies
DESCRIPTION:9U - Rookie Division - New Mexico Young America Football League
LOCATION:Mesa Del Sol Field 7
CATEGORIES:QuickScores; Football Game
TRANSP:0
DALARM:20240907T070000;PT10M;2;Volcano Vista Rookies vs. Sue Cleveland Rookies
END:VEVENT
BEGIN:VEVENT
DTSTART:20240907T090000
DTEND:20240907T110000
SUMMARY:Los Lunas Rookies vs. Sandia Rookies
DESCRIPTION:9U - Rookie Division - New Mexico Young America Football League
LOCATION:Mesa Del Sol Field 5
CATEGORIES:QuickScores; Football Game
TRANSP:0
DALARM:20240907T070000;PT10M;2;Los Lunas Rookies vs. Sandia Rookies
END:VEVENT
BEGIN:VEVENT
DTSTART:20240907T090000
DTEND:20240907T110000
SUMMARY:Moriarty Rookies vs. West Mesa Rookies
DESCRIPTION:9U - Rookie Division - New Mexico Young America Football League
LOCATION:Mesa Del Sol Field 6
CATEGORIES:QuickScores; Football Game
TRANSP:0
DALARM:20240907T070000;PT10M;2;Moriarty Rookies vs. West Mesa Rookies
END:VEVENT
BEGIN:VEVENT
DTSTART:20240907T110000
DTEND:20240907T130000
SUMMARY:Albuquerque High Rookies vs. La Cueva Rookies
DESCRIPTION:9U - Rookie Division - New Mexico Young America Football League
LOCATION:Mesa Del Sol Field 7
CATEGORIES:QuickScores; Football Game
TRANSP:0
DALARM:20240907T090000;PT10M;2;Albuquerque High Rookies vs. La Cueva Rookies
END:VEVENT
BEGIN:VEVENT
DTSTART:20240907T130000
DTEND:20240907T150000
SUMMARY:Valley Rookies vs. Atrisco Heritage Rookies
DESCRIPTION:9U - Rookie Division - New Mexico Young America Football League
LOCATION:Mesa Del Sol Field 5
CATEGORIES:QuickScores; Football Game
TRANSP:0
DALARM:20240907T110000;PT10M;2;Valley Rookies vs. Atrisco Heritage Rookies
END:VEVENT
BEGIN:VEVENT
DTSTART:20240914T090000
DTEND:20240914T110000
SUMMARY:West Mesa Rookies vs. Los Lunas Rookies
DESCRIPTION:9U - Rookie Division - New Mexico Young America Football League
LOCATION:Mesa Del Sol Field 5
CATEGORIES:QuickScores; Football Game
TRANSP:0
DALARM:20240914T070000;PT10M;2;West Mesa Rookies vs. Los Lunas Rookies
END:VEVENT
BEGIN:VEVENT
DTSTART:20240914T110000
DTEND:20240914T130000
SUMMARY:Atrisco Heritage Rookies vs. Rio Rancho Rookies
DESCRIPTION:9U - Rookie Division - New Mexico Young America Football League
LOCATION:Mesa Del Sol Field 6
CATEGORIES:QuickScores; Football Game
TRANSP:0
DALARM:20240914T090000;PT10M;2;Atrisco Heritage Rookies vs. Rio Rancho Rookies
END:VEVENT
BEGIN:VEVENT
DTSTART:20240914T110000
DTEND:20240914T130000
SUMMARY:Volcano Vista Rookies vs. La Cueva Rookies
DESCRIPTION:9U - Rookie Division - New Mexico Young America Football League
LOCATION:Mesa Del Sol Field 5
CATEGORIES:QuickScores; Football Game
TRANSP:0
DALARM:20240914T090000;PT10M;2;Volcano Vista Rookies vs. La Cueva Rookies
END:VEVENT
BEGIN:VEVENT
DTSTART:20240914T130000
DTEND:20240914T150000
SUMMARY:Sandia Rookies vs. Moriarty Rookies
DESCRIPTION:9U - Rookie Division - New Mexico Young America Football League
LOCATION:Mesa Del Sol Field 5
CATEGORIES:QuickScores; Football Game
TRANSP:0
DALARM:20240914T110000;PT10M;2;Sandia Rookies vs. Moriarty Rookies
END:VEVENT
BEGIN:VEVENT
DTSTART:20240914T130000
DTEND:20240914T150000
SUMMARY:Valley Rookies vs. Sue Cleveland Rookies
DESCRIPTION:9U - Rookie Division - New Mexico Young America Football League
LOCATION:Mesa Del Sol Field 7
CATEGORIES:QuickScores; Football Game
TRANSP:0
DALARM:20240914T110000;PT10M;2;Valley Rookies vs. Sue Cleveland Rookies
END:VEVENT
BEGIN:VEVENT
DTSTART:20240921T090000
DTEND:20240921T110000
SUMMARY:Los Lunas Rookies vs. Albuquerque High Rookies
DESCRIPTION:9U - Rookie Division - New Mexico Young America Football League
LOCATION:Mesa Del Sol Field 7
CATEGORIES:QuickScores; Football Game
TRANSP:0
DALARM:20240921T070000;PT10M;2;Los Lunas Rookies vs. Albuquerque High Rookies
END:VEVENT
BEGIN:VEVENT
DTSTART:20240921T110000
DTEND:20240921T130000
SUMMARY:Atrisco Heritage Rookies vs. La Cueva Rookies
DESCRIPTION:9U - Rookie Division - New Mexico Young America Football League
LOCATION:Mesa Del Sol Field 5
CATEGORIES:QuickScores; Football Game
TRANSP:0
DALARM:20240921T090000;PT10M;2;Atrisco Heritage Rookies vs. La Cueva Rookies
END:VEVENT
BEGIN:VEVENT
DTSTART:20240921T130000
DTEND:20240921T150000
SUMMARY:Valley Rookies vs. Sandia Rookies
DESCRIPTION:9U - Rookie Division - New Mexico Young America Football League
LOCATION:Mesa Del Sol Field 5
CATEGORIES:QuickScores; Football Game
TRANSP:0
DALARM:20240921T110000;PT10M;2;Valley Rookies vs. Sandia Rookies
END:VEVENT
BEGIN:VEVENT
DTSTART:20240921T130000
DTEND:20240921T150000
SUMMARY:Moriarty Rookies vs. Volcano Vista Rookies
DESCRIPTION:9U - Rookie Division - New Mexico Young America Football League
LOCATION:Mesa Del Sol Field 7
CATEGORIES:QuickScores; Football Game
TRANSP:0
DALARM:20240921T110000;PT10M;2;Moriarty Rookies vs. Volcano Vista Rookies
END:VEVENT
BEGIN:VEVENT
DTSTART:20240921T150000
DTEND:20240921T170000
SUMMARY:Rio Rancho Rookies vs. Sue Cleveland Rookies
DESCRIPTION:9U - Rookie Division - New Mexico Young America Football League
LOCATION:Rio Rancho Sportsplex Field 2
CATEGORIES:QuickScores; Football Game
TRANSP:0
DALARM:20240921T130000;PT10M;2;Rio Rancho Rookies vs. Sue Cleveland Rookies
END:VEVENT
BEGIN:VEVENT
DTSTART:20240928T090000
DTEND:20240928T110000
SUMMARY:Sandia Rookies vs. Albuquerque High Rookies
DESCRIPTION:9U - Rookie Division - New Mexico Young America Football League
LOCATION:Mesa Del Sol Field 7
CATEGORIES:QuickScores; Football Game
TRANSP:0
DALARM:20240928T070000;PT10M;2;Sandia Rookies vs. Albuquerque High Rookies
END:VEVENT
BEGIN:VEVENT
DTSTART:20240928T090000
DTEND:20240928T110000
SUMMARY:Atrisco Heritage Rookies vs. Los Lunas Rookies
DESCRIPTION:9U - Rookie Division - New Mexico Young America Football League
LOCATION:Mesa Del Sol Field 5
CATEGORIES:QuickScores; Football Game
TRANSP:0
DALARM:20240928T070000;PT10M;2;Atrisco Heritage Rookies vs. Los Lunas Rookies
END:VEVENT
BEGIN:VEVENT
DTSTART:20240928T110000
DTEND:20240928T130000
SUMMARY:West Mesa Rookies vs. Rio Rancho Rookies
DESCRIPTION:9U - Rookie Division - New Mexico Young America Football League
LOCATION:Rio Rancho Sportsplex Field 2
CATEGORIES:QuickScores; Football Game
TRANSP:0
DALARM:20240928T090000;PT10M;2;West Mesa Rookies vs. Rio Rancho Rookies
END:VEVENT
BEGIN:VEVENT
DTSTART:20240928T130000
DTEND:20240928T150000
SUMMARY:La Cueva Rookies vs. Valley Rookies
DESCRIPTION:9U - Rookie Division - New Mexico Young America Football League
LOCATION:Mesa Del Sol Field 6
CATEGORIES:QuickScores; Football Game
TRANSP:0
DALARM:20240928T110000;PT10M;2;La Cueva Rookies vs. Valley Rookies
END:VEVENT
BEGIN:VEVENT
DTSTART:20240928T130000
DTEND:20240928T150000
SUMMARY:Sue Cleveland Rookies vs. Moriarty Rookies
DESCRIPTION:9U - Rookie Division - New Mexico Young America Football League
LOCATION:Mesa Del Sol Field 7
CATEGORIES:QuickScores; Football Game
TRANSP:0
DALARM:20240928T110000;PT10M;2;Sue Cleveland Rookies vs. Moriarty Rookies
END:VEVENT
BEGIN:VEVENT
DTSTART:20241012T080000
DTEND:20241012T100000
SUMMARY:Sandia Rookies vs. Rio Rancho Rookies
DESCRIPTION:9U - Rookie Division - New Mexico Young America Football League
LOCATION:Belen Stadium
CATEGORIES:QuickScores; Football Game
TRANSP:0
DALARM:20241012T060000;PT10M;2;Sandia Rookies vs. Rio Rancho Rookies
END:VEVENT
BEGIN:VEVENT
DTSTART:20241012T100000
DTEND:20241012T120000
SUMMARY:Volcano Vista Rookies vs. Valley Rookies
DESCRIPTION:9U - Rookie Division - New Mexico Young America Football League
LOCATION:Belen Stadium
CATEGORIES:QuickScores; Football Game
TRANSP:0
DALARM:20241012T080000;PT10M;2;Volcano Vista Rookies vs. Valley Rookies
END:VEVENT
BEGIN:VEVENT
DTSTART:20241013T160000
DTEND:20241013T180000
SUMMARY:Sue Cleveland Rookies vs. Los Lunas Rookies
DESCRIPTION:9U - Rookie Division - New Mexico Young America Football League
LOCATION:Community Stadium
CATEGORIES:QuickScores; Football Game
TRANSP:0
DALARM:20241013T140000;PT10M;2;Sue Cleveland Rookies vs. Los Lunas Rookies
END:VEVENT
BEGIN:VEVENT
DTSTART:20241013T180000
DTEND:20241013T200000
SUMMARY:Albuquerque High Rookies vs. West Mesa Rookies
DESCRIPTION:9U - Rookie Division - New Mexico Young America Football League
LOCATION:Community Stadium
CATEGORIES:QuickScores; Football Game
TRANSP:0
DALARM:20241013T160000;PT10M;2;Albuquerque High Rookies vs. West Mesa Rookies
END:VEVENT
BEGIN:VEVENT
DTSTART:20241019T160000
DTEND:20241019T180000
SUMMARY:West Mesa Rookies vs. Rio Rancho Rookies
DESCRIPTION:9U - Rookie Division - New Mexico Young America Football League
LOCATION:Belen Stadium
CATEGORIES:QuickScores; Football Game
TRANSP:0
DALARM:20241019T140000;PT10M;2;West Mesa Rookies vs. Rio Rancho Rookies
END:VEVENT
BEGIN:VEVENT
DTSTART:20241019T180000
DTEND:20241019T200000
SUMMARY:Los Lunas Rookies vs. Valley Rookies
DESCRIPTION:9U - Rookie Division - New Mexico Young America Football League
LOCATION:Belen Stadium
CATEGORIES:QuickScores; Football Game
TRANSP:0
DALARM:20241019T160000;PT10M;2;Los Lunas Rookies vs. Valley Rookies
END:VEVENT
BEGIN:VEVENT
DTSTART:20241020T080000
DTEND:20241020T100000
SUMMARY:Volcano Vista Rookies vs. Sandia Rookies
DESCRIPTION:9U - Rookie Division - New Mexico Young America Football League
LOCATION:Milne Stadium
CATEGORIES:QuickScores; Football Game
TRANSP:0
DALARM:20241020T060000;PT10M;2;Volcano Vista Rookies vs. Sandia Rookies
END:VEVENT
BEGIN:VEVENT
DTSTART:20241020T100000
DTEND:20241020T120000
SUMMARY:Albuquerque High Rookies vs. Sue Cleveland Rookies
DESCRIPTION:9U - Rookie Division - New Mexico Young America Football League
LOCATION:Milne Stadium
CATEGORIES:QuickScores; Football Game
TRANSP:0
DALARM:20241020T080000;PT10M;2;Albuquerque High Rookies vs. Sue Cleveland Rookies
END:VEVENT
BEGIN:VEVENT
DTSTART:20241027T160000
DTEND:20241027T180000
SUMMARY:West Mesa Rookies vs. Valley Rookies
DESCRIPTION:9U - Rookie Division - New Mexico Young America Football League
LOCATION:Milne Stadium
CATEGORIES:QuickScores; Football Game
TRANSP:0
DALARM:20241027T140000;PT10M;2;West Mesa Rookies vs. Valley Rookies
END:VEVENT
BEGIN:VEVENT
DTSTART:20241027T160000
DTEND:20241027T180000
SUMMARY:Sue Cleveland Rookies vs. Sandia Rookies
DESCRIPTION:9U - Rookie Division - New Mexico Young America Football League
LOCATION:Community Stadium
CATEGORIES:QuickScores; Football Game
TRANSP:0
DALARM:20241027T140000;PT10M;2;Sue Cleveland Rookies vs. Sandia Rookies
END:VEVENT
END:VCALENDAR
