BEGIN:VCALENDAR
VERSION:1.0
BEGIN:VEVENT
DTSTART:20240810T083000
DTEND:20240810T100000
SUMMARY:[4] Maryland Cougars vs. [5] Grill 584
DESCRIPTION:Men 60 Major - International Senior Softball Association<br>ISSA
LOCATION:PGP 3
CATEGORIES:QuickScores; Softball Game
TRANSP:0
DALARM:20240810T063000;PT10M;2;[4] Maryland Cougars vs. [5] Grill 584
END:VEVENT
BEGIN:VEVENT
DTSTART:20240810T083000
DTEND:20240810T100000
SUMMARY:[2] Nova Force 60 vs. [3] Diamondblade
DESCRIPTION:Men 60 Major - International Senior Softball Association<br>ISSA
LOCATION:PGP 4
CATEGORIES:QuickScores; Softball Game
TRANSP:0
DALARM:20240810T063000;PT10M;2;[2] Nova Force 60 vs. [3] Diamondblade
END:VEVENT
BEGIN:VEVENT
DTSTART:20240810T100000
DTEND:20240810T113000
SUMMARY:[1] Carolina Legends vs. [4] Maryland Cougars
DESCRIPTION:Men 60 Major - International Senior Softball Association<br>ISSA
LOCATION:PGP 3
CATEGORIES:QuickScores; Softball Game
TRANSP:0
DALARM:20240810T080000;PT10M;2;[1] Carolina Legends vs. [4] Maryland Cougars
END:VEVENT
BEGIN:VEVENT
DTSTART:20240810T100000
DTEND:20240810T113000
SUMMARY:[5] Grill 584 vs. [2] Nova Force 60
DESCRIPTION:Men 60 Major - International Senior Softball Association<br>ISSA
LOCATION:PGP 4
CATEGORIES:QuickScores; Softball Game
TRANSP:0
DALARM:20240810T080000;PT10M;2;[5] Grill 584 vs. [2] Nova Force 60
END:VEVENT
BEGIN:VEVENT
DTSTART:20240810T130000
DTEND:20240810T143000
SUMMARY:[5] Grill 584 vs. [4] Maryland Cougars
DESCRIPTION:Men 60 Major - International Senior Softball Association<br>ISSA
LOCATION:PGP 4
CATEGORIES:QuickScores; Softball Game
TRANSP:0
DALARM:20240810T110000;PT10M;2;[5] Grill 584 vs. [4] Maryland Cougars
END:VEVENT
BEGIN:VEVENT
DTSTART:20240810T130000
DTEND:20240810T143000
SUMMARY:[3] Diamondblade vs. [1] Carolina Legends
DESCRIPTION:Men 60 Major - International Senior Softball Association<br>ISSA
LOCATION:PGP 3
CATEGORIES:QuickScores; Softball Game
TRANSP:0
DALARM:20240810T110000;PT10M;2;[3] Diamondblade vs. [1] Carolina Legends
END:VEVENT
BEGIN:VEVENT
DTSTART:20240810T143000
DTEND:20240810T160000
SUMMARY:[2] Nova Force 60 vs. [5] Grill 584
DESCRIPTION:Men 60 Major - International Senior Softball Association<br>ISSA
LOCATION:PGP 4
CATEGORIES:QuickScores; Softball Game
TRANSP:0
DALARM:20240810T123000;PT10M;2;[2] Nova Force 60 vs. [5] Grill 584
END:VEVENT
BEGIN:VEVENT
DTSTART:20240811T083000
DTEND:20240811T100000
SUMMARY:[4] Maryland Cougars vs. [5] Grill 584
DESCRIPTION:Men 60 Major - International Senior Softball Association<br>ISSA
LOCATION:PGP 4
CATEGORIES:QuickScores; Softball Game
TRANSP:0
DALARM:20240811T063000;PT10M;2;[4] Maryland Cougars vs. [5] Grill 584
END:VEVENT
BEGIN:VEVENT
DTSTART:20240811T100000
DTEND:20240811T113000
SUMMARY:[1] Carolina Legends vs. [5] Grill 584
DESCRIPTION:Men 60 Major - International Senior Softball Association<br>ISSA
LOCATION:PGP 4
CATEGORIES:QuickScores; Softball Game
TRANSP:0
DALARM:20240811T080000;PT10M;2;[1] Carolina Legends vs. [5] Grill 584
END:VEVENT
BEGIN:VEVENT
DTSTART:20240811T113000
DTEND:20240811T130000
SUMMARY:[3] Diamondblade vs. [1] Carolina Legends
DESCRIPTION:Men 60 Major - International Senior Softball Association<br>ISSA
LOCATION:PGP 4
CATEGORIES:QuickScores; Softball Game
TRANSP:0
DALARM:20240811T093000;PT10M;2;[3] Diamondblade vs. [1] Carolina Legends
END:VEVENT
BEGIN:VEVENT
DTSTART:20240811T130000
DTEND:20240811T143000
SUMMARY:[1] Carolina Legends vs. [3] Diamondblade
DESCRIPTION:Men 60 Major - International Senior Softball Association<br>ISSA
LOCATION:PGP 4
CATEGORIES:QuickScores; Softball Game
TRANSP:0
DALARM:20240811T110000;PT10M;2;[1] Carolina Legends vs. [3] Diamondblade
END:VEVENT
END:VCALENDAR
