BEGIN:VCALENDAR
VERSION:1.0
BEGIN:VEVENT
DTSTART:20240724T180000
DTEND:20240724T184000
SUMMARY:Lober/Lober vs. Spence/Spence
DESCRIPTION:FMG Wednesday Inter. Lg. - Late Summer '24 - Paddle Up Pickleball Club
LOCATION:FMG Court 1
CATEGORIES:QuickScores; Pickleball Game
TRANSP:0
DALARM:20240724T160000;PT10M;2;Lober/Lober vs. Spence/Spence
END:VEVENT
BEGIN:VEVENT
DTSTART:20240724T184000
DTEND:20240724T192000
SUMMARY:Langston/Luber vs. Olsen/Eisenhoffer
DESCRIPTION:FMG Wednesday Inter. Lg. - Late Summer '24 - Paddle Up Pickleball Club
LOCATION:FMG Court 1
CATEGORIES:QuickScores; Pickleball Game
TRANSP:0
DALARM:20240724T164000;PT10M;2;Langston/Luber vs. Olsen/Eisenhoffer
END:VEVENT
BEGIN:VEVENT
DTSTART:20240724T192000
DTEND:20240724T200000
SUMMARY:Lober/Lober vs. Peer/Kogan
DESCRIPTION:FMG Wednesday Inter. Lg. - Late Summer '24 - Paddle Up Pickleball Club
LOCATION:FMG Court 1
CATEGORIES:QuickScores; Pickleball Game
TRANSP:0
DALARM:20240724T172000;PT10M;2;Lober/Lober vs. Peer/Kogan
END:VEVENT
BEGIN:VEVENT
DTSTART:20240724T192000
DTEND:20240724T200000
SUMMARY:Spence/Spence vs. Olsen/Eisenhoffer
DESCRIPTION:FMG Wednesday Inter. Lg. - Late Summer '24 - Paddle Up Pickleball Club
LOCATION:FMG Court 2
CATEGORIES:QuickScores; Pickleball Game
TRANSP:0
DALARM:20240724T172000;PT10M;2;Spence/Spence vs. Olsen/Eisenhoffer
END:VEVENT
BEGIN:VEVENT
DTSTART:20240724T200000
DTEND:20240724T204000
SUMMARY:Lodes/Williams vs. Langston/Luber
DESCRIPTION:FMG Wednesday Inter. Lg. - Late Summer '24 - Paddle Up Pickleball Club
LOCATION:FMG Court 1
CATEGORIES:QuickScores; Pickleball Game
TRANSP:0
DALARM:20240724T180000;PT10M;2;Lodes/Williams vs. Langston/Luber
END:VEVENT
BEGIN:VEVENT
DTSTART:20240724T204000
DTEND:20240724T212000
SUMMARY:Lodes/Williams vs. Peer/Kogan
DESCRIPTION:FMG Wednesday Inter. Lg. - Late Summer '24 - Paddle Up Pickleball Club
LOCATION:FMG Court 1
CATEGORIES:QuickScores; Pickleball Game
TRANSP:0
DALARM:20240724T184000;PT10M;2;Lodes/Williams vs. Peer/Kogan
END:VEVENT
BEGIN:VEVENT
DTSTART:20240731T180000
DTEND:20240731T184000
SUMMARY:Spence/Spence vs. Lodes/Williams
DESCRIPTION:FMG Wednesday Inter. Lg. - Late Summer '24 - Paddle Up Pickleball Club
LOCATION:FMG Court 1
CATEGORIES:QuickScores; Pickleball Game
TRANSP:0
DALARM:20240731T160000;PT10M;2;Spence/Spence vs. Lodes/Williams
END:VEVENT
BEGIN:VEVENT
DTSTART:20240731T184000
DTEND:20240731T192000
SUMMARY:Lober/Lober vs. Lodes/Williams
DESCRIPTION:FMG Wednesday Inter. Lg. - Late Summer '24 - Paddle Up Pickleball Club
LOCATION:FMG Court 1
CATEGORIES:QuickScores; Pickleball Game
TRANSP:0
DALARM:20240731T164000;PT10M;2;Lober/Lober vs. Lodes/Williams
END:VEVENT
BEGIN:VEVENT
DTSTART:20240731T192000
DTEND:20240731T200000
SUMMARY:Spence/Spence vs. Langston/Luber
DESCRIPTION:FMG Wednesday Inter. Lg. - Late Summer '24 - Paddle Up Pickleball Club
LOCATION:FMG Court 1
CATEGORIES:QuickScores; Pickleball Game
TRANSP:0
DALARM:20240731T172000;PT10M;2;Spence/Spence vs. Langston/Luber
END:VEVENT
BEGIN:VEVENT
DTSTART:20240731T200000
DTEND:20240731T204000
SUMMARY:Lober/Lober vs. Olsen/Eisenhoffer
DESCRIPTION:FMG Wednesday Inter. Lg. - Late Summer '24 - Paddle Up Pickleball Club
LOCATION:FMG Court 1
CATEGORIES:QuickScores; Pickleball Game
TRANSP:0
DALARM:20240731T180000;PT10M;2;Lober/Lober vs. Olsen/Eisenhoffer
END:VEVENT
BEGIN:VEVENT
DTSTART:20240731T204000
DTEND:20240731T212000
SUMMARY:Langston/Luber vs. Olsen/Eisenhoffer
DESCRIPTION:FMG Wednesday Inter. Lg. - Late Summer '24 - Paddle Up Pickleball Club
LOCATION:FMG Court 1
CATEGORIES:QuickScores; Pickleball Game
TRANSP:0
DALARM:20240731T184000;PT10M;2;Langston/Luber vs. Olsen/Eisenhoffer
END:VEVENT
BEGIN:VEVENT
DTSTART:20240807T180000
DTEND:20240807T184000
SUMMARY:Lober/Lober vs. Langston/Luber
DESCRIPTION:FMG Wednesday Inter. Lg. - Late Summer '24 - Paddle Up Pickleball Club
LOCATION:FMG Court 1
CATEGORIES:QuickScores; Pickleball Game
TRANSP:0
DALARM:20240807T160000;PT10M;2;Lober/Lober vs. Langston/Luber
END:VEVENT
BEGIN:VEVENT
DTSTART:20240807T184000
DTEND:20240807T192000
SUMMARY:Peer/Kogan vs. Spence/Spence
DESCRIPTION:FMG Wednesday Inter. Lg. - Late Summer '24 - Paddle Up Pickleball Club
LOCATION:FMG Court 1
CATEGORIES:QuickScores; Pickleball Game
TRANSP:0
DALARM:20240807T164000;PT10M;2;Peer/Kogan vs. Spence/Spence
END:VEVENT
BEGIN:VEVENT
DTSTART:20240807T192000
DTEND:20240807T200000
SUMMARY:Langston/Luber vs. Lodes/Williams
DESCRIPTION:FMG Wednesday Inter. Lg. - Late Summer '24 - Paddle Up Pickleball Club
LOCATION:FMG Court 1
CATEGORIES:QuickScores; Pickleball Game
TRANSP:0
DALARM:20240807T172000;PT10M;2;Langston/Luber vs. Lodes/Williams
END:VEVENT
BEGIN:VEVENT
DTSTART:20240807T192000
DTEND:20240807T200000
SUMMARY:Peer/Kogan vs. Lober/Lober
DESCRIPTION:FMG Wednesday Inter. Lg. - Late Summer '24 - Paddle Up Pickleball Club
LOCATION:FMG Court 2
CATEGORIES:QuickScores; Pickleball Game
TRANSP:0
DALARM:20240807T172000;PT10M;2;Peer/Kogan vs. Lober/Lober
END:VEVENT
BEGIN:VEVENT
DTSTART:20240807T200000
DTEND:20240807T204000
SUMMARY:Olsen/Eisenhoffer vs. Spence/Spence
DESCRIPTION:FMG Wednesday Inter. Lg. - Late Summer '24 - Paddle Up Pickleball Club
LOCATION:FMG Court 1
CATEGORIES:QuickScores; Pickleball Game
TRANSP:0
DALARM:20240807T180000;PT10M;2;Olsen/Eisenhoffer vs. Spence/Spence
END:VEVENT
BEGIN:VEVENT
DTSTART:20240807T204000
DTEND:20240807T212000
SUMMARY:Olsen/Eisenhoffer vs. Lodes/Williams
DESCRIPTION:FMG Wednesday Inter. Lg. - Late Summer '24 - Paddle Up Pickleball Club
LOCATION:FMG Court 1
CATEGORIES:QuickScores; Pickleball Game
TRANSP:0
DALARM:20240807T184000;PT10M;2;Olsen/Eisenhoffer vs. Lodes/Williams
END:VEVENT
BEGIN:VEVENT
DTSTART:20240814T180000
DTEND:20240814T184000
SUMMARY:Langston/Luber vs. Peer/Kogan
DESCRIPTION:FMG Wednesday Inter. Lg. - Late Summer '24 - Paddle Up Pickleball Club
LOCATION:FMG Court 1
CATEGORIES:QuickScores; Pickleball Game
TRANSP:0
DALARM:20240814T160000;PT10M;2;Langston/Luber vs. Peer/Kogan
END:VEVENT
BEGIN:VEVENT
DTSTART:20240814T184000
DTEND:20240814T192000
SUMMARY:Lodes/Williams vs. Spence/Spence
DESCRIPTION:FMG Wednesday Inter. Lg. - Late Summer '24 - Paddle Up Pickleball Club
LOCATION:FMG Court 1
CATEGORIES:QuickScores; Pickleball Game
TRANSP:0
DALARM:20240814T164000;PT10M;2;Lodes/Williams vs. Spence/Spence
END:VEVENT
BEGIN:VEVENT
DTSTART:20240814T192000
DTEND:20240814T200000
SUMMARY:Peer/Kogan vs. Lodes/Williams
DESCRIPTION:FMG Wednesday Inter. Lg. - Late Summer '24 - Paddle Up Pickleball Club
LOCATION:FMG Court 1
CATEGORIES:QuickScores; Pickleball Game
TRANSP:0
DALARM:20240814T172000;PT10M;2;Peer/Kogan vs. Lodes/Williams
END:VEVENT
BEGIN:VEVENT
DTSTART:20240814T192000
DTEND:20240814T200000
SUMMARY:Olsen/Eisenhoffer vs. Langston/Luber
DESCRIPTION:FMG Wednesday Inter. Lg. - Late Summer '24 - Paddle Up Pickleball Club
LOCATION:FMG Court 2
CATEGORIES:QuickScores; Pickleball Game
TRANSP:0
DALARM:20240814T172000;PT10M;2;Olsen/Eisenhoffer vs. Langston/Luber
END:VEVENT
BEGIN:VEVENT
DTSTART:20240814T200000
DTEND:20240814T204000
SUMMARY:Spence/Spence vs. Lober/Lober
DESCRIPTION:FMG Wednesday Inter. Lg. - Late Summer '24 - Paddle Up Pickleball Club
LOCATION:FMG Court 1
CATEGORIES:QuickScores; Pickleball Game
TRANSP:0
DALARM:20240814T180000;PT10M;2;Spence/Spence vs. Lober/Lober
END:VEVENT
BEGIN:VEVENT
DTSTART:20240814T204000
DTEND:20240814T212000
SUMMARY:Olsen/Eisenhoffer vs. Lober/Lober
DESCRIPTION:FMG Wednesday Inter. Lg. - Late Summer '24 - Paddle Up Pickleball Club
LOCATION:FMG Court 1
CATEGORIES:QuickScores; Pickleball Game
TRANSP:0
DALARM:20240814T184000;PT10M;2;Olsen/Eisenhoffer vs. Lober/Lober
END:VEVENT
BEGIN:VEVENT
DTSTART:20240821T180000
DTEND:20240821T184000
SUMMARY:Peer/Kogan vs. Olsen/Eisenhoffer
DESCRIPTION:FMG Wednesday Inter. Lg. - Late Summer '24 - Paddle Up Pickleball Club
LOCATION:FMG Court 1
CATEGORIES:QuickScores; Pickleball Game
TRANSP:0
DALARM:20240821T160000;PT10M;2;Peer/Kogan vs. Olsen/Eisenhoffer
END:VEVENT
BEGIN:VEVENT
DTSTART:20240821T184000
DTEND:20240821T192000
SUMMARY:Lodes/Williams vs. Lober/Lober
DESCRIPTION:FMG Wednesday Inter. Lg. - Late Summer '24 - Paddle Up Pickleball Club
LOCATION:FMG Court 1
CATEGORIES:QuickScores; Pickleball Game
TRANSP:0
DALARM:20240821T164000;PT10M;2;Lodes/Williams vs. Lober/Lober
END:VEVENT
BEGIN:VEVENT
DTSTART:20240821T192000
DTEND:20240821T200000
SUMMARY:Lodes/Williams vs. Olsen/Eisenhoffer
DESCRIPTION:FMG Wednesday Inter. Lg. - Late Summer '24 - Paddle Up Pickleball Club
LOCATION:FMG Court 2
CATEGORIES:QuickScores; Pickleball Game
TRANSP:0
DALARM:20240821T172000;PT10M;2;Lodes/Williams vs. Olsen/Eisenhoffer
END:VEVENT
BEGIN:VEVENT
DTSTART:20240821T192000
DTEND:20240821T200000
SUMMARY:Spence/Spence vs. Peer/Kogan
DESCRIPTION:FMG Wednesday Inter. Lg. - Late Summer '24 - Paddle Up Pickleball Club
LOCATION:FMG Court 1
CATEGORIES:QuickScores; Pickleball Game
TRANSP:0
DALARM:20240821T172000;PT10M;2;Spence/Spence vs. Peer/Kogan
END:VEVENT
BEGIN:VEVENT
DTSTART:20240821T200000
DTEND:20240821T204000
SUMMARY:Langston/Luber vs. Lober/Lober
DESCRIPTION:FMG Wednesday Inter. Lg. - Late Summer '24 - Paddle Up Pickleball Club
LOCATION:FMG Court 1
CATEGORIES:QuickScores; Pickleball Game
TRANSP:0
DALARM:20240821T180000;PT10M;2;Langston/Luber vs. Lober/Lober
END:VEVENT
BEGIN:VEVENT
DTSTART:20240821T204000
DTEND:20240821T212000
SUMMARY:Spence/Spence vs. Langston/Luber
DESCRIPTION:FMG Wednesday Inter. Lg. - Late Summer '24 - Paddle Up Pickleball Club
LOCATION:FMG Court 1
CATEGORIES:QuickScores; Pickleball Game
TRANSP:0
DALARM:20240821T184000;PT10M;2;Spence/Spence vs. Langston/Luber
END:VEVENT
BEGIN:VEVENT
DTSTART:20240828T183000
DTEND:20240828T190000
SUMMARY:[3] Peer/Kogan vs. [6] Langston/Luber
DESCRIPTION:FMG Wednesday Inter. Lg. - Late Summer '24 - Paddle Up Pickleball Club
LOCATION:FMG Court 2
CATEGORIES:QuickScores; Pickleball Game
TRANSP:0
DALARM:20240828T163000;PT10M;2;[3] Peer/Kogan vs. [6] Langston/Luber
END:VEVENT
BEGIN:VEVENT
DTSTART:20240828T183000
DTEND:20240828T190000
SUMMARY:[4] Lodes/Williams vs. [5] Spence/Spence
DESCRIPTION:FMG Wednesday Inter. Lg. - Late Summer '24 - Paddle Up Pickleball Club
LOCATION:FMG Court 1
CATEGORIES:QuickScores; Pickleball Game
TRANSP:0
DALARM:20240828T163000;PT10M;2;[4] Lodes/Williams vs. [5] Spence/Spence
END:VEVENT
BEGIN:VEVENT
DTSTART:20240828T190000
DTEND:20240828T193000
SUMMARY:[1] Lober/Lober vs. Winner of Game 1
DESCRIPTION:FMG Wednesday Inter. Lg. - Late Summer '24 - Paddle Up Pickleball Club
LOCATION:FMG Court 1
CATEGORIES:QuickScores; Pickleball Game
TRANSP:0
DALARM:20240828T170000;PT10M;2;[1] Lober/Lober vs. Winner of Game 1
END:VEVENT
BEGIN:VEVENT
DTSTART:20240828T190000
DTEND:20240828T193000
SUMMARY:[2] Olsen/Eisenhoffer vs. Winner of Game 2
DESCRIPTION:FMG Wednesday Inter. Lg. - Late Summer '24 - Paddle Up Pickleball Club
LOCATION:FMG Court 2
CATEGORIES:QuickScores; Pickleball Game
TRANSP:0
DALARM:20240828T170000;PT10M;2;[2] Olsen/Eisenhoffer vs. Winner of Game 2
END:VEVENT
BEGIN:VEVENT
DTSTART:20240828T193000
DTEND:20240828T200000
SUMMARY:Winner of Game 3 vs. Winner of Game 4
DESCRIPTION:FMG Wednesday Inter. Lg. - Late Summer '24 - Paddle Up Pickleball Club
LOCATION:FMG Court 1
CATEGORIES:QuickScores; Pickleball Game
TRANSP:0
DALARM:20240828T173000;PT10M;2;Winner of Game 3 vs. Winner of Game 4
END:VEVENT
END:VCALENDAR
