BEGIN:VCALENDAR
VERSION:1.0
BEGIN:VEVENT
DTSTART:20240719T133000
DTEND:20240719T150000
SUMMARY:B2B vs. Fossils
DESCRIPTION:Women 50/55 AAA - International Senior Softball Association<br>ISSA
LOCATION:MBSC Red
CATEGORIES:QuickScores; Softball Game
TRANSP:0
DALARM:20240719T113000;PT10M;2;B2B vs. Fossils
END:VEVENT
BEGIN:VEVENT
DTSTART:20240719T150000
DTEND:20240719T163000
SUMMARY:Unfazed vs. North Carolina Legendz
DESCRIPTION:Women 50/55 AAA - International Senior Softball Association<br>ISSA
LOCATION:MBSC Blue
CATEGORIES:QuickScores; Softball Game
TRANSP:0
DALARM:20240719T130000;PT10M;2;Unfazed vs. North Carolina Legendz
END:VEVENT
BEGIN:VEVENT
DTSTART:20240719T150000
DTEND:20240719T163000
SUMMARY:No Drama vs. B2B
DESCRIPTION:Women 50/55 AAA - International Senior Softball Association<br>ISSA
LOCATION:MBSC Red
CATEGORIES:QuickScores; Softball Game
TRANSP:0
DALARM:20240719T130000;PT10M;2;No Drama vs. B2B
END:VEVENT
BEGIN:VEVENT
DTSTART:20240719T163000
DTEND:20240719T180000
SUMMARY:Fossils vs. No Drama
DESCRIPTION:Women 50/55 AAA - International Senior Softball Association<br>ISSA
LOCATION:MBSC Red
CATEGORIES:QuickScores; Softball Game
TRANSP:0
DALARM:20240719T143000;PT10M;2;Fossils vs. No Drama
END:VEVENT
BEGIN:VEVENT
DTSTART:20240719T163000
DTEND:20240719T180000
SUMMARY:Queen Dynasty vs. Unfazed
DESCRIPTION:Women 50/55 AAA - International Senior Softball Association<br>ISSA
LOCATION:MBSC Blue
CATEGORIES:QuickScores; Softball Game
TRANSP:0
DALARM:20240719T143000;PT10M;2;Queen Dynasty vs. Unfazed
END:VEVENT
BEGIN:VEVENT
DTSTART:20240719T180000
DTEND:20240719T193000
SUMMARY:North Carolina Legendz vs. Queen Dynasty
DESCRIPTION:Women 50/55 AAA - International Senior Softball Association<br>ISSA
LOCATION:MBSC Blue
CATEGORIES:QuickScores; Softball Game
TRANSP:0
DALARM:20240719T160000;PT10M;2;North Carolina Legendz vs. Queen Dynasty
END:VEVENT
END:VCALENDAR
