BEGIN:VCALENDAR
VERSION:1.0
BEGIN:VEVENT
DTSTART:20240622T150000
DTEND:20240622T163000
SUMMARY:Our Dirt vs. TSC
DESCRIPTION:50 AAA - <BR> <b> The Buckeye Classic
LOCATION:Field 1
CATEGORIES:QuickScores; Softball - Adult Game
TRANSP:0
DALARM:20240622T130000;PT10M;2;Our Dirt vs. TSC
END:VEVENT
BEGIN:VEVENT
DTSTART:20240622T150000
DTEND:20240622T163000
SUMMARY:Tri State vs. Fireballz
DESCRIPTION:50 AAA - <BR> <b> The Buckeye Classic
LOCATION:Field 2
CATEGORIES:QuickScores; Softball - Adult Game
TRANSP:0
DALARM:20240622T130000;PT10M;2;Tri State vs. Fireballz
END:VEVENT
BEGIN:VEVENT
DTSTART:20240623T090000
DTEND:20240623T103000
SUMMARY:Our Dirt vs. Tri State
DESCRIPTION:50 AAA - <BR> <b> The Buckeye Classic
LOCATION:Field 2
CATEGORIES:QuickScores; Softball - Adult Game
TRANSP:0
DALARM:20240623T070000;PT10M;2;Our Dirt vs. Tri State
END:VEVENT
BEGIN:VEVENT
DTSTART:20240623T090000
DTEND:20240623T103000
SUMMARY:TSC vs. Fireballz
DESCRIPTION:50 AAA - <BR> <b> The Buckeye Classic
LOCATION:Field 1
CATEGORIES:QuickScores; Softball - Adult Game
TRANSP:0
DALARM:20240623T070000;PT10M;2;TSC vs. Fireballz
END:VEVENT
BEGIN:VEVENT
DTSTART:20240623T103000
DTEND:20240623T120000
SUMMARY:Our Dirt vs. Fireballz
DESCRIPTION:50 AAA - <BR> <b> The Buckeye Classic
LOCATION:Field 2
CATEGORIES:QuickScores; Softball - Adult Game
TRANSP:0
DALARM:20240623T083000;PT10M;2;Our Dirt vs. Fireballz
END:VEVENT
BEGIN:VEVENT
DTSTART:20240623T120000
DTEND:20240623T133000
SUMMARY:Tri State vs. Our Dirt
DESCRIPTION:50 AAA - <BR> <b> The Buckeye Classic
LOCATION:Field 2
CATEGORIES:QuickScores; Softball - Adult Game
TRANSP:0
DALARM:20240623T100000;PT10M;2;Tri State vs. Our Dirt
END:VEVENT
END:VCALENDAR
