BEGIN:VCALENDAR
VERSION:1.0
BEGIN:VEVENT
DTSTART:20240602T130000
DTEND:20240602T140000
SUMMARY:Heat - Ospina vs. Lakers - Khan
DESCRIPTION:Youth Basketball - 3rd/4th Grade Boys (In House) - Carol Stream Park District
LOCATION:Fountain View - Court 3
CATEGORIES:QuickScores; Basketball - Youth Game
TRANSP:0
DALARM:20240602T110000;PT10M;2;Heat - Ospina vs. Lakers - Khan
END:VEVENT
BEGIN:VEVENT
DTSTART:20240602T141500
DTEND:20240602T151500
SUMMARY:Hornets - Yah vs. Spurs - Jasim
DESCRIPTION:Youth Basketball - 3rd/4th Grade Boys (In House) - Carol Stream Park District
LOCATION:Fountain View - Court 3
CATEGORIES:QuickScores; Basketball - Youth Game
TRANSP:0
DALARM:20240602T121500;PT10M;2;Hornets - Yah vs. Spurs - Jasim
END:VEVENT
BEGIN:VEVENT
DTSTART:20240602T153000
DTEND:20240602T163000
SUMMARY:Bulls - Desai vs. Hornets - Yah
DESCRIPTION:Youth Basketball - 3rd/4th Grade Boys (In House) - Carol Stream Park District
LOCATION:Fountain View - Court 3
CATEGORIES:QuickScores; Basketball - Youth Game
TRANSP:0
DALARM:20240602T133000;PT10M;2;Bulls - Desai vs. Hornets - Yah
END:VEVENT
BEGIN:VEVENT
DTSTART:20240609T130000
DTEND:20240609T140000
SUMMARY:Bulls - Desai vs. Lakers - Khan
DESCRIPTION:Youth Basketball - 3rd/4th Grade Boys (In House) - Carol Stream Park District
LOCATION:Fountain View - Court 3
CATEGORIES:QuickScores; Basketball - Youth Game
TRANSP:0
DALARM:20240609T110000;PT10M;2;Bulls - Desai vs. Lakers - Khan
END:VEVENT
BEGIN:VEVENT
DTSTART:20240609T141500
DTEND:20240609T151500
SUMMARY:Hornets - Yah vs. Heat - Ospina
DESCRIPTION:Youth Basketball - 3rd/4th Grade Boys (In House) - Carol Stream Park District
LOCATION:Fountain View - Court 3
CATEGORIES:QuickScores; Basketball - Youth Game
TRANSP:0
DALARM:20240609T121500;PT10M;2;Hornets - Yah vs. Heat - Ospina
END:VEVENT
BEGIN:VEVENT
DTSTART:20240623T130000
DTEND:20240623T140000
SUMMARY:Lakers - Khan vs. Hornets - Yah
DESCRIPTION:Youth Basketball - 3rd/4th Grade Boys (In House) - Carol Stream Park District
LOCATION:Fountain View - Court 3
CATEGORIES:QuickScores; Basketball - Youth Game
TRANSP:0
DALARM:20240623T110000;PT10M;2;Lakers - Khan vs. Hornets - Yah
END:VEVENT
BEGIN:VEVENT
DTSTART:20240623T141500
DTEND:20240623T151500
SUMMARY:Lakers - Khan vs. Spurs - Jasim
DESCRIPTION:Youth Basketball - 3rd/4th Grade Boys (In House) - Carol Stream Park District
LOCATION:Fountain View - Court 3
CATEGORIES:QuickScores; Basketball - Youth Game
TRANSP:0
DALARM:20240623T121500;PT10M;2;Lakers - Khan vs. Spurs - Jasim
END:VEVENT
BEGIN:VEVENT
DTSTART:20240623T153000
DTEND:20240623T163000
SUMMARY:Heat - Ospina vs. Bulls - Desai
DESCRIPTION:Youth Basketball - 3rd/4th Grade Boys (In House) - Carol Stream Park District
LOCATION:Fountain View - Court 3
CATEGORIES:QuickScores; Basketball - Youth Game
TRANSP:0
DALARM:20240623T133000;PT10M;2;Heat - Ospina vs. Bulls - Desai
END:VEVENT
BEGIN:VEVENT
DTSTART:20240630T131500
DTEND:20240630T141500
SUMMARY:Spurs - Jasim vs. Heat - Ospina
DESCRIPTION:Youth Basketball - 3rd/4th Grade Boys (In House) - Carol Stream Park District
LOCATION:Fountain View - Court 1
CATEGORIES:QuickScores; Basketball - Youth Game
TRANSP:0
DALARM:20240630T111500;PT10M;2;Spurs - Jasim vs. Heat - Ospina
END:VEVENT
BEGIN:VEVENT
DTSTART:20240714T120000
DTEND:20240714T130000
SUMMARY:Hornets - Yah vs. Bulls - Desai
DESCRIPTION:Youth Basketball - 3rd/4th Grade Boys (In House) - Carol Stream Park District
LOCATION:Fountain View - Court 2
CATEGORIES:QuickScores; Basketball - Youth Game
TRANSP:0
DALARM:20240714T100000;PT10M;2;Hornets - Yah vs. Bulls - Desai
END:VEVENT
BEGIN:VEVENT
DTSTART:20240714T130000
DTEND:20240714T140000
SUMMARY:Spurs - Jasim vs. Hornets - Yah
DESCRIPTION:Youth Basketball - 3rd/4th Grade Boys (In House) - Carol Stream Park District
LOCATION:Fountain View - Court 2
CATEGORIES:QuickScores; Basketball - Youth Game
TRANSP:0
DALARM:20240714T110000;PT10M;2;Spurs - Jasim vs. Hornets - Yah
END:VEVENT
BEGIN:VEVENT
DTSTART:20240714T141500
DTEND:20240714T151500
SUMMARY:Lakers - Khan vs. Heat - Ospina
DESCRIPTION:Youth Basketball - 3rd/4th Grade Boys (In House) - Carol Stream Park District
LOCATION:Fountain View - Court 2
CATEGORIES:QuickScores; Basketball - Youth Game
TRANSP:0
DALARM:20240714T121500;PT10M;2;Lakers - Khan vs. Heat - Ospina
END:VEVENT
BEGIN:VEVENT
DTSTART:20240721T120000
DTEND:20240721T130000
SUMMARY:Spurs - Jasim vs. Bulls - Desai
DESCRIPTION:Youth Basketball - 3rd/4th Grade Boys (In House) - Carol Stream Park District
LOCATION:Fountain View - Court 1
CATEGORIES:QuickScores; Basketball - Youth Game
TRANSP:0
DALARM:20240721T100000;PT10M;2;Spurs - Jasim vs. Bulls - Desai
END:VEVENT
BEGIN:VEVENT
DTSTART:20240721T131500
DTEND:20240721T141500
SUMMARY:Spurs - Jasim vs. Lakers - Khan
DESCRIPTION:Youth Basketball - 3rd/4th Grade Boys (In House) - Carol Stream Park District
LOCATION:Fountain View - Court 1
CATEGORIES:QuickScores; Basketball - Youth Game
TRANSP:0
DALARM:20240721T111500;PT10M;2;Spurs - Jasim vs. Lakers - Khan
END:VEVENT
BEGIN:VEVENT
DTSTART:20240728T130000
DTEND:20240728T140000
SUMMARY:Lakers - Khan vs. Bulls - Desai
DESCRIPTION:Youth Basketball - 3rd/4th Grade Boys (In House) - Carol Stream Park District
LOCATION:Fountain View - Court 3
CATEGORIES:QuickScores; Basketball - Youth Game
TRANSP:0
DALARM:20240728T110000;PT10M;2;Lakers - Khan vs. Bulls - Desai
END:VEVENT
BEGIN:VEVENT
DTSTART:20240728T141500
DTEND:20240728T151500
SUMMARY:Heat - Ospina vs. Hornets - Yah
DESCRIPTION:Youth Basketball - 3rd/4th Grade Boys (In House) - Carol Stream Park District
LOCATION:Fountain View - Court 3
CATEGORIES:QuickScores; Basketball - Youth Game
TRANSP:0
DALARM:20240728T121500;PT10M;2;Heat - Ospina vs. Hornets - Yah
END:VEVENT
BEGIN:VEVENT
DTSTART:20240728T153000
DTEND:20240728T163000
SUMMARY:Heat - Ospina vs. Spurs - Jasim
DESCRIPTION:Youth Basketball - 3rd/4th Grade Boys (In House) - Carol Stream Park District
LOCATION:Fountain View - Court 3
CATEGORIES:QuickScores; Basketball - Youth Game
TRANSP:0
DALARM:20240728T133000;PT10M;2;Heat - Ospina vs. Spurs - Jasim
END:VEVENT
BEGIN:VEVENT
DTSTART:20240804T120000
DTEND:20240804T130000
SUMMARY:Hornets - Yah vs. Lakers - Khan
DESCRIPTION:Youth Basketball - 3rd/4th Grade Boys (In House) - Carol Stream Park District
LOCATION:Fountain View - Court 1
CATEGORIES:QuickScores; Basketball - Youth Game
TRANSP:0
DALARM:20240804T100000;PT10M;2;Hornets - Yah vs. Lakers - Khan
END:VEVENT
BEGIN:VEVENT
DTSTART:20240804T131500
DTEND:20240804T141500
SUMMARY:Bulls - Desai vs. Spurs - Jasim
DESCRIPTION:Youth Basketball - 3rd/4th Grade Boys (In House) - Carol Stream Park District
LOCATION:Fountain View - Court 1
CATEGORIES:QuickScores; Basketball - Youth Game
TRANSP:0
DALARM:20240804T111500;PT10M;2;Bulls - Desai vs. Spurs - Jasim
END:VEVENT
BEGIN:VEVENT
DTSTART:20240804T143000
DTEND:20240804T153000
SUMMARY:Bulls - Desai vs. Heat - Ospina
DESCRIPTION:Youth Basketball - 3rd/4th Grade Boys (In House) - Carol Stream Park District
LOCATION:Fountain View - Court 1
CATEGORIES:QuickScores; Basketball - Youth Game
TRANSP:0
DALARM:20240804T123000;PT10M;2;Bulls - Desai vs. Heat - Ospina
END:VEVENT
END:VCALENDAR
