BEGIN:VCALENDAR
VERSION:1.0
BEGIN:VEVENT
DTSTART:20240604T123000
DTEND:20240604T140000
SUMMARY:65 Levin Ameriprise AAA vs. Great Lakes Tornadoes
DESCRIPTION:Men 65 AAA - International Senior Softball Association<br>ISSA
LOCATION:LMP 3
CATEGORIES:QuickScores; Softball Game
TRANSP:0
DALARM:20240604T103000;PT10M;2;65 Levin Ameriprise AAA vs. Great Lakes Tornadoes
END:VEVENT
BEGIN:VEVENT
DTSTART:20240604T123000
DTEND:20240604T140000
SUMMARY:Vercter Scorpions vs. Coastal Riptides
DESCRIPTION:Men 65 AAA - International Senior Softball Association<br>ISSA
LOCATION:LMP 2
CATEGORIES:QuickScores; Softball Game
TRANSP:0
DALARM:20240604T103000;PT10M;2;Vercter Scorpions vs. Coastal Riptides
END:VEVENT
BEGIN:VEVENT
DTSTART:20240605T090000
DTEND:20240605T103000
SUMMARY:Louisville Softball Club vs. GAS
DESCRIPTION:Men 65 AAA - International Senior Softball Association<br>ISSA
LOCATION:SSP 3
CATEGORIES:QuickScores; Softball Game
TRANSP:0
DALARM:20240605T070000;PT10M;2;Louisville Softball Club vs. GAS
END:VEVENT
BEGIN:VEVENT
DTSTART:20240605T090000
DTEND:20240605T103000
SUMMARY:Claremont Property Co. vs. The Power
DESCRIPTION:Men 65 AAA - International Senior Softball Association<br>ISSA
LOCATION:SSP 4
CATEGORIES:QuickScores; Softball Game
TRANSP:0
DALARM:20240605T070000;PT10M;2;Claremont Property Co. vs. The Power
END:VEVENT
BEGIN:VEVENT
DTSTART:20240605T103000
DTEND:20240605T120000
SUMMARY:[A1] 65 Levin Ameriprise AAA vs. [B4] Claremont Property Co.
DESCRIPTION:Men 65 AAA - International Senior Softball Association<br>ISSA
LOCATION:SSP 3
CATEGORIES:QuickScores; Softball Game
TRANSP:0
DALARM:20240605T083000;PT10M;2;[A1] 65 Levin Ameriprise AAA vs. [B4] Claremont Property Co.
END:VEVENT
BEGIN:VEVENT
DTSTART:20240605T103000
DTEND:20240605T120000
SUMMARY:[A2] Vercter Scorpions vs. [B3] GAS
DESCRIPTION:Men 65 AAA - International Senior Softball Association<br>ISSA
LOCATION:SSP 4
CATEGORIES:QuickScores; Softball Game
TRANSP:0
DALARM:20240605T083000;PT10M;2;[A2] Vercter Scorpions vs. [B3] GAS
END:VEVENT
BEGIN:VEVENT
DTSTART:20240605T120000
DTEND:20240605T133000
SUMMARY:[B2] The Power vs. [A3] Great Lakes Tornadoes
DESCRIPTION:Men 65 AAA - International Senior Softball Association<br>ISSA
LOCATION:SSP 4
CATEGORIES:QuickScores; Softball Game
TRANSP:0
DALARM:20240605T100000;PT10M;2;[B2] The Power vs. [A3] Great Lakes Tornadoes
END:VEVENT
BEGIN:VEVENT
DTSTART:20240605T120000
DTEND:20240605T133000
SUMMARY:[B1] Louisville Softball Club vs. [A4] Coastal Riptides
DESCRIPTION:Men 65 AAA - International Senior Softball Association<br>ISSA
LOCATION:SSP 3
CATEGORIES:QuickScores; Softball Game
TRANSP:0
DALARM:20240605T100000;PT10M;2;[B1] Louisville Softball Club vs. [A4] Coastal Riptides
END:VEVENT
BEGIN:VEVENT
DTSTART:20240605T133000
DTEND:20240605T150000
SUMMARY:[B1] Louisville Softball Club vs. [B3] GAS
DESCRIPTION:Men 65 AAA - International Senior Softball Association<br>ISSA
LOCATION:SSP 4
CATEGORIES:QuickScores; Softball Game
TRANSP:0
DALARM:20240605T113000;PT10M;2;[B1] Louisville Softball Club vs. [B3] GAS
END:VEVENT
BEGIN:VEVENT
DTSTART:20240605T133000
DTEND:20240605T150000
SUMMARY:[A1] 65 Levin Ameriprise AAA vs. [B2] The Power
DESCRIPTION:Men 65 AAA - International Senior Softball Association<br>ISSA
LOCATION:SSP 3
CATEGORIES:QuickScores; Softball Game
TRANSP:0
DALARM:20240605T113000;PT10M;2;[A1] 65 Levin Ameriprise AAA vs. [B2] The Power
END:VEVENT
BEGIN:VEVENT
DTSTART:20240605T150000
DTEND:20240605T163000
SUMMARY:[B4] Claremont Property Co. vs. [A3] Great Lakes Tornadoes
DESCRIPTION:Men 65 AAA - International Senior Softball Association<br>ISSA
LOCATION:SSP 4
CATEGORIES:QuickScores; Softball Game
TRANSP:0
DALARM:20240605T130000;PT10M;2;[B4] Claremont Property Co. vs. [A3] Great Lakes Tornadoes
END:VEVENT
BEGIN:VEVENT
DTSTART:20240605T150000
DTEND:20240605T163000
SUMMARY:[A4] Coastal Riptides vs. [A2] Vercter Scorpions
DESCRIPTION:Men 65 AAA - International Senior Softball Association<br>ISSA
LOCATION:SSP 3
CATEGORIES:QuickScores; Softball Game
TRANSP:0
DALARM:20240605T130000;PT10M;2;[A4] Coastal Riptides vs. [A2] Vercter Scorpions
END:VEVENT
BEGIN:VEVENT
DTSTART:20240605T163000
DTEND:20240605T180000
SUMMARY:[B2] The Power vs. [B1] Louisville Softball Club
DESCRIPTION:Men 65 AAA - International Senior Softball Association<br>ISSA
LOCATION:SSP 3
CATEGORIES:QuickScores; Softball Game
TRANSP:0
DALARM:20240605T143000;PT10M;2;[B2] The Power vs. [B1] Louisville Softball Club
END:VEVENT
BEGIN:VEVENT
DTSTART:20240605T163000
DTEND:20240605T180000
SUMMARY:[B3] GAS vs. [B4] Claremont Property Co.
DESCRIPTION:Men 65 AAA - International Senior Softball Association<br>ISSA
LOCATION:SSP 4
CATEGORIES:QuickScores; Softball Game
TRANSP:0
DALARM:20240605T143000;PT10M;2;[B3] GAS vs. [B4] Claremont Property Co.
END:VEVENT
BEGIN:VEVENT
DTSTART:20240605T180000
DTEND:20240605T193000
SUMMARY:[A1] 65 Levin Ameriprise AAA vs. [A2] Vercter Scorpions
DESCRIPTION:Men 65 AAA - International Senior Softball Association<br>ISSA
LOCATION:SSP 4
CATEGORIES:QuickScores; Softball Game
TRANSP:0
DALARM:20240605T160000;PT10M;2;[A1] 65 Levin Ameriprise AAA vs. [A2] Vercter Scorpions
END:VEVENT
BEGIN:VEVENT
DTSTART:20240606T090000
DTEND:20240606T103000
SUMMARY:[B3] GAS vs. [A1] 65 Levin Ameriprise AAA
DESCRIPTION:Men 65 AAA - International Senior Softball Association<br>ISSA
LOCATION:SSP 3
CATEGORIES:QuickScores; Softball Game
TRANSP:0
DALARM:20240606T070000;PT10M;2;[B3] GAS vs. [A1] 65 Levin Ameriprise AAA
END:VEVENT
BEGIN:VEVENT
DTSTART:20240606T103000
DTEND:20240606T120000
SUMMARY:[B2] The Power vs. [A1] 65 Levin Ameriprise AAA
DESCRIPTION:Men 65 AAA - International Senior Softball Association<br>ISSA
LOCATION:SSP 3
CATEGORIES:QuickScores; Softball Game
TRANSP:0
DALARM:20240606T083000;PT10M;2;[B2] The Power vs. [A1] 65 Levin Ameriprise AAA
END:VEVENT
BEGIN:VEVENT
DTSTART:20240606T120000
DTEND:20240606T133000
SUMMARY:[B1] Louisville Softball Club vs. [A1] 65 Levin Ameriprise AAA
DESCRIPTION:Men 65 AAA - International Senior Softball Association<br>ISSA
LOCATION:SSP 3
CATEGORIES:QuickScores; Softball Game
TRANSP:0
DALARM:20240606T100000;PT10M;2;[B1] Louisville Softball Club vs. [A1] 65 Levin Ameriprise AAA
END:VEVENT
BEGIN:VEVENT
DTSTART:20240606T133000
DTEND:20240606T150000
SUMMARY:[A1] 65 Levin Ameriprise AAA vs. [B1] Louisville Softball Club
DESCRIPTION:Men 65 AAA - International Senior Softball Association<br>ISSA
LOCATION:SSP 3
CATEGORIES:QuickScores; Softball Game
TRANSP:0
DALARM:20240606T113000;PT10M;2;[A1] 65 Levin Ameriprise AAA vs. [B1] Louisville Softball Club
END:VEVENT
END:VCALENDAR
