BEGIN:VCALENDAR
VERSION:1.0
BEGIN:VEVENT
DTSTART:20240505T090000
DTEND:20240505T092000
SUMMARY:MattNaumann/CraigPainter vs. BlaineArmbruster/MelissaArmbruster
DESCRIPTION:Prados Tournament (Low Inter - 5/5  Sunday 9am Start) - Paddle Up Pickleball Club
LOCATION:Court 1
CATEGORIES:QuickScores; Pickleball Game
TRANSP:0
DALARM:20240505T070000;PT10M;2;MattNaumann/CraigPainter vs. BlaineArmbruster/MelissaArmbruster
END:VEVENT
BEGIN:VEVENT
DTSTART:20240505T090000
DTEND:20240505T092000
SUMMARY:FlorDeLuca/MatSevilla vs. AmySmith/LauraLink
DESCRIPTION:Prados Tournament (Low Inter - 5/5  Sunday 9am Start) - Paddle Up Pickleball Club
LOCATION:Court 2
CATEGORIES:QuickScores; Pickleball Game
TRANSP:0
DALARM:20240505T070000;PT10M;2;FlorDeLuca/MatSevilla vs. AmySmith/LauraLink
END:VEVENT
BEGIN:VEVENT
DTSTART:20240505T090000
DTEND:20240505T092000
SUMMARY:LoriGibson/NickGibson vs. NickDeBrower/NickBeavers
DESCRIPTION:Prados Tournament (Low Inter - 5/5  Sunday 9am Start) - Paddle Up Pickleball Club
LOCATION:Court 7
CATEGORIES:QuickScores; Pickleball Game
TRANSP:0
DALARM:20240505T070000;PT10M;2;LoriGibson/NickGibson vs. NickDeBrower/NickBeavers
END:VEVENT
BEGIN:VEVENT
DTSTART:20240505T090000
DTEND:20240505T092000
SUMMARY:DavidEcklund/NicholasFleming vs. MichaelFitzgerald/JenniferFitzgerald
DESCRIPTION:Prados Tournament (Low Inter - 5/5  Sunday 9am Start) - Paddle Up Pickleball Club
LOCATION:Court 8
CATEGORIES:QuickScores; Pickleball Game
TRANSP:0
DALARM:20240505T070000;PT10M;2;DavidEcklund/NicholasFleming vs. MichaelFitzgerald/JenniferFitzgerald
END:VEVENT
BEGIN:VEVENT
DTSTART:20240505T090000
DTEND:20240505T092000
SUMMARY:PCCordero/LibbyPeterson vs. JessieArras/AlexMalloy
DESCRIPTION:Prados Tournament (Low Inter - 5/5  Sunday 9am Start) - Paddle Up Pickleball Club
LOCATION:Court 4
CATEGORIES:QuickScores; Pickleball Game
TRANSP:0
DALARM:20240505T070000;PT10M;2;PCCordero/LibbyPeterson vs. JessieArras/AlexMalloy
END:VEVENT
BEGIN:VEVENT
DTSTART:20240505T090000
DTEND:20240505T092000
SUMMARY:CraigNorsen/CindyNorsen vs. KellyRichert/PhilipWindham
DESCRIPTION:Prados Tournament (Low Inter - 5/5  Sunday 9am Start) - Paddle Up Pickleball Club
LOCATION:Court 9
CATEGORIES:QuickScores; Pickleball Game
TRANSP:0
DALARM:20240505T070000;PT10M;2;CraigNorsen/CindyNorsen vs. KellyRichert/PhilipWindham
END:VEVENT
BEGIN:VEVENT
DTSTART:20240505T090000
DTEND:20240505T092000
SUMMARY:KenNaumann/DonnaNaumann vs. NancyMurphy/TerriSeger
DESCRIPTION:Prados Tournament (Low Inter - 5/5  Sunday 9am Start) - Paddle Up Pickleball Club
LOCATION:Court 5
CATEGORIES:QuickScores; Pickleball Game
TRANSP:0
DALARM:20240505T070000;PT10M;2;KenNaumann/DonnaNaumann vs. NancyMurphy/TerriSeger
END:VEVENT
BEGIN:VEVENT
DTSTART:20240505T090000
DTEND:20240505T092000
SUMMARY:WhitneyDurham/ScottDurham vs. NoalPresley/ShaneLaswell
DESCRIPTION:Prados Tournament (Low Inter - 5/5  Sunday 9am Start) - Paddle Up Pickleball Club
LOCATION:Court 6
CATEGORIES:QuickScores; Pickleball Game
TRANSP:0
DALARM:20240505T070000;PT10M;2;WhitneyDurham/ScottDurham vs. NoalPresley/ShaneLaswell
END:VEVENT
BEGIN:VEVENT
DTSTART:20240505T092000
DTEND:20240505T094000
SUMMARY:FlorDeLuca/MatSevilla vs. DavidEcklund/NicholasFleming
DESCRIPTION:Prados Tournament (Low Inter - 5/5  Sunday 9am Start) - Paddle Up Pickleball Club
LOCATION:Court 9
CATEGORIES:QuickScores; Pickleball Game
TRANSP:0
DALARM:20240505T072000;PT10M;2;FlorDeLuca/MatSevilla vs. DavidEcklund/NicholasFleming
END:VEVENT
BEGIN:VEVENT
DTSTART:20240505T092000
DTEND:20240505T094000
SUMMARY:KellyRichert/PhilipWindham vs. KenNaumann/DonnaNaumann
DESCRIPTION:Prados Tournament (Low Inter - 5/5  Sunday 9am Start) - Paddle Up Pickleball Club
LOCATION:Court 7
CATEGORIES:QuickScores; Pickleball Game
TRANSP:0
DALARM:20240505T072000;PT10M;2;KellyRichert/PhilipWindham vs. KenNaumann/DonnaNaumann
END:VEVENT
BEGIN:VEVENT
DTSTART:20240505T092000
DTEND:20240505T094000
SUMMARY:NoalPresley/ShaneLaswell vs. CraigNorsen/CindyNorsen
DESCRIPTION:Prados Tournament (Low Inter - 5/5  Sunday 9am Start) - Paddle Up Pickleball Club
LOCATION:Court 2
CATEGORIES:QuickScores; Pickleball Game
TRANSP:0
DALARM:20240505T072000;PT10M;2;NoalPresley/ShaneLaswell vs. CraigNorsen/CindyNorsen
END:VEVENT
BEGIN:VEVENT
DTSTART:20240505T092000
DTEND:20240505T094000
SUMMARY:NancyMurphy/TerriSeger vs. BlaineArmbruster/MelissaArmbruster
DESCRIPTION:Prados Tournament (Low Inter - 5/5  Sunday 9am Start) - Paddle Up Pickleball Club
LOCATION:Court 1
CATEGORIES:QuickScores; Pickleball Game
TRANSP:0
DALARM:20240505T072000;PT10M;2;NancyMurphy/TerriSeger vs. BlaineArmbruster/MelissaArmbruster
END:VEVENT
BEGIN:VEVENT
DTSTART:20240505T092000
DTEND:20240505T094000
SUMMARY:WhitneyDurham/ScottDurham vs. MattNaumann/CraigPainter
DESCRIPTION:Prados Tournament (Low Inter - 5/5  Sunday 9am Start) - Paddle Up Pickleball Club
LOCATION:Court 4
CATEGORIES:QuickScores; Pickleball Game
TRANSP:0
DALARM:20240505T072000;PT10M;2;WhitneyDurham/ScottDurham vs. MattNaumann/CraigPainter
END:VEVENT
BEGIN:VEVENT
DTSTART:20240505T092000
DTEND:20240505T094000
SUMMARY:MichaelFitzgerald/JenniferFitzgerald vs. JessArnold/AnnieJones
DESCRIPTION:Prados Tournament (Low Inter - 5/5  Sunday 9am Start) - Paddle Up Pickleball Club
LOCATION:Court 6
CATEGORIES:QuickScores; Pickleball Game
TRANSP:0
DALARM:20240505T072000;PT10M;2;MichaelFitzgerald/JenniferFitzgerald vs. JessArnold/AnnieJones
END:VEVENT
BEGIN:VEVENT
DTSTART:20240505T092000
DTEND:20240505T094000
SUMMARY:NickDeBrower/NickBeavers vs. GaryNielsen/HarshLohani
DESCRIPTION:Prados Tournament (Low Inter - 5/5  Sunday 9am Start) - Paddle Up Pickleball Club
LOCATION:Court 5
CATEGORIES:QuickScores; Pickleball Game
TRANSP:0
DALARM:20240505T072000;PT10M;2;NickDeBrower/NickBeavers vs. GaryNielsen/HarshLohani
END:VEVENT
BEGIN:VEVENT
DTSTART:20240505T092000
DTEND:20240505T094000
SUMMARY:AmySmith/LauraLink vs. JessieArras/AlexMalloy
DESCRIPTION:Prados Tournament (Low Inter - 5/5  Sunday 9am Start) - Paddle Up Pickleball Club
LOCATION:Court 8
CATEGORIES:QuickScores; Pickleball Game
TRANSP:0
DALARM:20240505T072000;PT10M;2;AmySmith/LauraLink vs. JessieArras/AlexMalloy
END:VEVENT
BEGIN:VEVENT
DTSTART:20240505T094000
DTEND:20240505T100000
SUMMARY:JessieArras/AlexMalloy vs. LoriGibson/NickGibson
DESCRIPTION:Prados Tournament (Low Inter - 5/5  Sunday 9am Start) - Paddle Up Pickleball Club
LOCATION:Court 6
CATEGORIES:QuickScores; Pickleball Game
TRANSP:0
DALARM:20240505T074000;PT10M;2;JessieArras/AlexMalloy vs. LoriGibson/NickGibson
END:VEVENT
BEGIN:VEVENT
DTSTART:20240505T094000
DTEND:20240505T100000
SUMMARY:GaryNielsen/HarshLohani vs. PCCordero/LibbyPeterson
DESCRIPTION:Prados Tournament (Low Inter - 5/5  Sunday 9am Start) - Paddle Up Pickleball Club
LOCATION:Court 7
CATEGORIES:QuickScores; Pickleball Game
TRANSP:0
DALARM:20240505T074000;PT10M;2;GaryNielsen/HarshLohani vs. PCCordero/LibbyPeterson
END:VEVENT
BEGIN:VEVENT
DTSTART:20240505T094000
DTEND:20240505T100000
SUMMARY:CraigNorsen/CindyNorsen vs. NancyMurphy/TerriSeger
DESCRIPTION:Prados Tournament (Low Inter - 5/5  Sunday 9am Start) - Paddle Up Pickleball Club
LOCATION:Court 1
CATEGORIES:QuickScores; Pickleball Game
TRANSP:0
DALARM:20240505T074000;PT10M;2;CraigNorsen/CindyNorsen vs. NancyMurphy/TerriSeger
END:VEVENT
BEGIN:VEVENT
DTSTART:20240505T094000
DTEND:20240505T100000
SUMMARY:KellyRichert/PhilipWindham vs. WhitneyDurham/ScottDurham
DESCRIPTION:Prados Tournament (Low Inter - 5/5  Sunday 9am Start) - Paddle Up Pickleball Club
LOCATION:Court 4
CATEGORIES:QuickScores; Pickleball Game
TRANSP:0
DALARM:20240505T074000;PT10M;2;KellyRichert/PhilipWindham vs. WhitneyDurham/ScottDurham
END:VEVENT
BEGIN:VEVENT
DTSTART:20240505T094000
DTEND:20240505T100000
SUMMARY:BlaineArmbruster/MelissaArmbruster vs. KenNaumann/DonnaNaumann
DESCRIPTION:Prados Tournament (Low Inter - 5/5  Sunday 9am Start) - Paddle Up Pickleball Club
LOCATION:Court 5
CATEGORIES:QuickScores; Pickleball Game
TRANSP:0
DALARM:20240505T074000;PT10M;2;BlaineArmbruster/MelissaArmbruster vs. KenNaumann/DonnaNaumann
END:VEVENT
BEGIN:VEVENT
DTSTART:20240505T094000
DTEND:20240505T100000
SUMMARY:MattNaumann/CraigPainter vs. NoalPresley/ShaneLaswell
DESCRIPTION:Prados Tournament (Low Inter - 5/5  Sunday 9am Start) - Paddle Up Pickleball Club
LOCATION:Court 8
CATEGORIES:QuickScores; Pickleball Game
TRANSP:0
DALARM:20240505T074000;PT10M;2;MattNaumann/CraigPainter vs. NoalPresley/ShaneLaswell
END:VEVENT
BEGIN:VEVENT
DTSTART:20240505T094000
DTEND:20240505T100000
SUMMARY:AmySmith/LauraLink vs. MichaelFitzgerald/JenniferFitzgerald
DESCRIPTION:Prados Tournament (Low Inter - 5/5  Sunday 9am Start) - Paddle Up Pickleball Club
LOCATION:Court 9
CATEGORIES:QuickScores; Pickleball Game
TRANSP:0
DALARM:20240505T074000;PT10M;2;AmySmith/LauraLink vs. MichaelFitzgerald/JenniferFitzgerald
END:VEVENT
BEGIN:VEVENT
DTSTART:20240505T094000
DTEND:20240505T100000
SUMMARY:FlorDeLuca/MatSevilla vs. JessArnold/AnnieJones
DESCRIPTION:Prados Tournament (Low Inter - 5/5  Sunday 9am Start) - Paddle Up Pickleball Club
LOCATION:Court 2
CATEGORIES:QuickScores; Pickleball Game
TRANSP:0
DALARM:20240505T074000;PT10M;2;FlorDeLuca/MatSevilla vs. JessArnold/AnnieJones
END:VEVENT
BEGIN:VEVENT
DTSTART:20240505T100000
DTEND:20240505T102000
SUMMARY:KenNaumann/DonnaNaumann vs. NoalPresley/ShaneLaswell
DESCRIPTION:Prados Tournament (Low Inter - 5/5  Sunday 9am Start) - Paddle Up Pickleball Club
LOCATION:Court 9
CATEGORIES:QuickScores; Pickleball Game
TRANSP:0
DALARM:20240505T080000;PT10M;2;KenNaumann/DonnaNaumann vs. NoalPresley/ShaneLaswell
END:VEVENT
BEGIN:VEVENT
DTSTART:20240505T100000
DTEND:20240505T102000
SUMMARY:BlaineArmbruster/MelissaArmbruster vs. KellyRichert/PhilipWindham
DESCRIPTION:Prados Tournament (Low Inter - 5/5  Sunday 9am Start) - Paddle Up Pickleball Club
LOCATION:Court 4
CATEGORIES:QuickScores; Pickleball Game
TRANSP:0
DALARM:20240505T080000;PT10M;2;BlaineArmbruster/MelissaArmbruster vs. KellyRichert/PhilipWindham
END:VEVENT
BEGIN:VEVENT
DTSTART:20240505T100000
DTEND:20240505T102000
SUMMARY:CraigNorsen/CindyNorsen vs. WhitneyDurham/ScottDurham
DESCRIPTION:Prados Tournament (Low Inter - 5/5  Sunday 9am Start) - Paddle Up Pickleball Club
LOCATION:Court 1
CATEGORIES:QuickScores; Pickleball Game
TRANSP:0
DALARM:20240505T080000;PT10M;2;CraigNorsen/CindyNorsen vs. WhitneyDurham/ScottDurham
END:VEVENT
BEGIN:VEVENT
DTSTART:20240505T100000
DTEND:20240505T102000
SUMMARY:NancyMurphy/TerriSeger vs. MattNaumann/CraigPainter
DESCRIPTION:Prados Tournament (Low Inter - 5/5  Sunday 9am Start) - Paddle Up Pickleball Club
LOCATION:Court 7
CATEGORIES:QuickScores; Pickleball Game
TRANSP:0
DALARM:20240505T080000;PT10M;2;NancyMurphy/TerriSeger vs. MattNaumann/CraigPainter
END:VEVENT
BEGIN:VEVENT
DTSTART:20240505T100000
DTEND:20240505T102000
SUMMARY:LoriGibson/NickGibson vs. DavidEcklund/NicholasFleming
DESCRIPTION:Prados Tournament (Low Inter - 5/5  Sunday 9am Start) - Paddle Up Pickleball Club
LOCATION:Court 8
CATEGORIES:QuickScores; Pickleball Game
TRANSP:0
DALARM:20240505T080000;PT10M;2;LoriGibson/NickGibson vs. DavidEcklund/NicholasFleming
END:VEVENT
BEGIN:VEVENT
DTSTART:20240505T100000
DTEND:20240505T102000
SUMMARY:FlorDeLuca/MatSevilla vs. NickDeBrower/NickBeavers
DESCRIPTION:Prados Tournament (Low Inter - 5/5  Sunday 9am Start) - Paddle Up Pickleball Club
LOCATION:Court 2
CATEGORIES:QuickScores; Pickleball Game
TRANSP:0
DALARM:20240505T080000;PT10M;2;FlorDeLuca/MatSevilla vs. NickDeBrower/NickBeavers
END:VEVENT
BEGIN:VEVENT
DTSTART:20240505T100000
DTEND:20240505T102000
SUMMARY:JessieArras/AlexMalloy vs. GaryNielsen/HarshLohani
DESCRIPTION:Prados Tournament (Low Inter - 5/5  Sunday 9am Start) - Paddle Up Pickleball Club
LOCATION:Court 5
CATEGORIES:QuickScores; Pickleball Game
TRANSP:0
DALARM:20240505T080000;PT10M;2;JessieArras/AlexMalloy vs. GaryNielsen/HarshLohani
END:VEVENT
BEGIN:VEVENT
DTSTART:20240505T100000
DTEND:20240505T102000
SUMMARY:PCCordero/LibbyPeterson vs. JessArnold/AnnieJones
DESCRIPTION:Prados Tournament (Low Inter - 5/5  Sunday 9am Start) - Paddle Up Pickleball Club
LOCATION:Court 6
CATEGORIES:QuickScores; Pickleball Game
TRANSP:0
DALARM:20240505T080000;PT10M;2;PCCordero/LibbyPeterson vs. JessArnold/AnnieJones
END:VEVENT
BEGIN:VEVENT
DTSTART:20240505T102000
DTEND:20240505T104000
SUMMARY:WhitneyDurham/ScottDurham vs. KenNaumann/DonnaNaumann
DESCRIPTION:Prados Tournament (Low Inter - 5/5  Sunday 9am Start) - Paddle Up Pickleball Club
LOCATION:Court 2
CATEGORIES:QuickScores; Pickleball Game
TRANSP:0
DALARM:20240505T082000;PT10M;2;WhitneyDurham/ScottDurham vs. KenNaumann/DonnaNaumann
END:VEVENT
BEGIN:VEVENT
DTSTART:20240505T102000
DTEND:20240505T104000
SUMMARY:MichaelFitzgerald/JenniferFitzgerald vs. JessieArras/AlexMalloy
DESCRIPTION:Prados Tournament (Low Inter - 5/5  Sunday 9am Start) - Paddle Up Pickleball Club
LOCATION:Court 6
CATEGORIES:QuickScores; Pickleball Game
TRANSP:0
DALARM:20240505T082000;PT10M;2;MichaelFitzgerald/JenniferFitzgerald vs. JessieArras/AlexMalloy
END:VEVENT
BEGIN:VEVENT
DTSTART:20240505T102000
DTEND:20240505T104000
SUMMARY:MattNaumann/CraigPainter vs. KellyRichert/PhilipWindham
DESCRIPTION:Prados Tournament (Low Inter - 5/5  Sunday 9am Start) - Paddle Up Pickleball Club
LOCATION:Court 7
CATEGORIES:QuickScores; Pickleball Game
TRANSP:0
DALARM:20240505T082000;PT10M;2;MattNaumann/CraigPainter vs. KellyRichert/PhilipWindham
END:VEVENT
BEGIN:VEVENT
DTSTART:20240505T102000
DTEND:20240505T104000
SUMMARY:BlaineArmbruster/MelissaArmbruster vs. CraigNorsen/CindyNorsen
DESCRIPTION:Prados Tournament (Low Inter - 5/5  Sunday 9am Start) - Paddle Up Pickleball Club
LOCATION:Court 1
CATEGORIES:QuickScores; Pickleball Game
TRANSP:0
DALARM:20240505T082000;PT10M;2;BlaineArmbruster/MelissaArmbruster vs. CraigNorsen/CindyNorsen
END:VEVENT
BEGIN:VEVENT
DTSTART:20240505T102000
DTEND:20240505T104000
SUMMARY:GaryNielsen/HarshLohani vs. FlorDeLuca/MatSevilla
DESCRIPTION:Prados Tournament (Low Inter - 5/5  Sunday 9am Start) - Paddle Up Pickleball Club
LOCATION:Court 9
CATEGORIES:QuickScores; Pickleball Game
TRANSP:0
DALARM:20240505T082000;PT10M;2;GaryNielsen/HarshLohani vs. FlorDeLuca/MatSevilla
END:VEVENT
BEGIN:VEVENT
DTSTART:20240505T102000
DTEND:20240505T104000
SUMMARY:NickDeBrower/NickBeavers vs. PCCordero/LibbyPeterson
DESCRIPTION:Prados Tournament (Low Inter - 5/5  Sunday 9am Start) - Paddle Up Pickleball Club
LOCATION:Court 4
CATEGORIES:QuickScores; Pickleball Game
TRANSP:0
DALARM:20240505T082000;PT10M;2;NickDeBrower/NickBeavers vs. PCCordero/LibbyPeterson
END:VEVENT
BEGIN:VEVENT
DTSTART:20240505T102000
DTEND:20240505T104000
SUMMARY:DavidEcklund/NicholasFleming vs. AmySmith/LauraLink
DESCRIPTION:Prados Tournament (Low Inter - 5/5  Sunday 9am Start) - Paddle Up Pickleball Club
LOCATION:Court 5
CATEGORIES:QuickScores; Pickleball Game
TRANSP:0
DALARM:20240505T082000;PT10M;2;DavidEcklund/NicholasFleming vs. AmySmith/LauraLink
END:VEVENT
BEGIN:VEVENT
DTSTART:20240505T102000
DTEND:20240505T104000
SUMMARY:JessArnold/AnnieJones vs. LoriGibson/NickGibson
DESCRIPTION:Prados Tournament (Low Inter - 5/5  Sunday 9am Start) - Paddle Up Pickleball Club
LOCATION:Court 8
CATEGORIES:QuickScores; Pickleball Game
TRANSP:0
DALARM:20240505T082000;PT10M;2;JessArnold/AnnieJones vs. LoriGibson/NickGibson
END:VEVENT
BEGIN:VEVENT
DTSTART:20240505T104000
DTEND:20240505T110000
SUMMARY:BlaineArmbruster/MelissaArmbruster vs. WhitneyDurham/ScottDurham
DESCRIPTION:Prados Tournament (Low Inter - 5/5  Sunday 9am Start) - Paddle Up Pickleball Club
LOCATION:Court 1
CATEGORIES:QuickScores; Pickleball Game
TRANSP:0
DALARM:20240505T084000;PT10M;2;BlaineArmbruster/MelissaArmbruster vs. WhitneyDurham/ScottDurham
END:VEVENT
BEGIN:VEVENT
DTSTART:20240505T104000
DTEND:20240505T110000
SUMMARY:JessArnold/AnnieJones vs. AmySmith/LauraLink
DESCRIPTION:Prados Tournament (Low Inter - 5/5  Sunday 9am Start) - Paddle Up Pickleball Club
LOCATION:Court 6
CATEGORIES:QuickScores; Pickleball Game
TRANSP:0
DALARM:20240505T084000;PT10M;2;JessArnold/AnnieJones vs. AmySmith/LauraLink
END:VEVENT
BEGIN:VEVENT
DTSTART:20240505T104000
DTEND:20240505T110000
SUMMARY:NickDeBrower/NickBeavers vs. JessieArras/AlexMalloy
DESCRIPTION:Prados Tournament (Low Inter - 5/5  Sunday 9am Start) - Paddle Up Pickleball Club
LOCATION:Court 7
CATEGORIES:QuickScores; Pickleball Game
TRANSP:0
DALARM:20240505T084000;PT10M;2;NickDeBrower/NickBeavers vs. JessieArras/AlexMalloy
END:VEVENT
BEGIN:VEVENT
DTSTART:20240505T104000
DTEND:20240505T110000
SUMMARY:MattNaumann/CraigPainter vs. CraigNorsen/CindyNorsen
DESCRIPTION:Prados Tournament (Low Inter - 5/5  Sunday 9am Start) - Paddle Up Pickleball Club
LOCATION:Court 5
CATEGORIES:QuickScores; Pickleball Game
TRANSP:0
DALARM:20240505T084000;PT10M;2;MattNaumann/CraigPainter vs. CraigNorsen/CindyNorsen
END:VEVENT
BEGIN:VEVENT
DTSTART:20240505T104000
DTEND:20240505T110000
SUMMARY:DavidEcklund/NicholasFleming vs. PCCordero/LibbyPeterson
DESCRIPTION:Prados Tournament (Low Inter - 5/5  Sunday 9am Start) - Paddle Up Pickleball Club
LOCATION:Court 2
CATEGORIES:QuickScores; Pickleball Game
TRANSP:0
DALARM:20240505T084000;PT10M;2;DavidEcklund/NicholasFleming vs. PCCordero/LibbyPeterson
END:VEVENT
BEGIN:VEVENT
DTSTART:20240505T104000
DTEND:20240505T110000
SUMMARY:LoriGibson/NickGibson vs. FlorDeLuca/MatSevilla
DESCRIPTION:Prados Tournament (Low Inter - 5/5  Sunday 9am Start) - Paddle Up Pickleball Club
LOCATION:Court 4
CATEGORIES:QuickScores; Pickleball Game
TRANSP:0
DALARM:20240505T084000;PT10M;2;LoriGibson/NickGibson vs. FlorDeLuca/MatSevilla
END:VEVENT
BEGIN:VEVENT
DTSTART:20240505T104000
DTEND:20240505T110000
SUMMARY:MichaelFitzgerald/JenniferFitzgerald vs. GaryNielsen/HarshLohani
DESCRIPTION:Prados Tournament (Low Inter - 5/5  Sunday 9am Start) - Paddle Up Pickleball Club
LOCATION:Court 9
CATEGORIES:QuickScores; Pickleball Game
TRANSP:0
DALARM:20240505T084000;PT10M;2;MichaelFitzgerald/JenniferFitzgerald vs. GaryNielsen/HarshLohani
END:VEVENT
BEGIN:VEVENT
DTSTART:20240505T104000
DTEND:20240505T110000
SUMMARY:NoalPresley/ShaneLaswell vs. NancyMurphy/TerriSeger
DESCRIPTION:Prados Tournament (Low Inter - 5/5  Sunday 9am Start) - Paddle Up Pickleball Club
LOCATION:Court 8
CATEGORIES:QuickScores; Pickleball Game
TRANSP:0
DALARM:20240505T084000;PT10M;2;NoalPresley/ShaneLaswell vs. NancyMurphy/TerriSeger
END:VEVENT
BEGIN:VEVENT
DTSTART:20240505T110000
DTEND:20240505T112000
SUMMARY:GaryNielsen/HarshLohani vs. JessArnold/AnnieJones
DESCRIPTION:Prados Tournament (Low Inter - 5/5  Sunday 9am Start) - Paddle Up Pickleball Club
LOCATION:Court 1
CATEGORIES:QuickScores; Pickleball Game
TRANSP:0
DALARM:20240505T090000;PT10M;2;GaryNielsen/HarshLohani vs. JessArnold/AnnieJones
END:VEVENT
BEGIN:VEVENT
DTSTART:20240505T110000
DTEND:20240505T112000
SUMMARY:KenNaumann/DonnaNaumann vs. MattNaumann/CraigPainter
DESCRIPTION:Prados Tournament (Low Inter - 5/5  Sunday 9am Start) - Paddle Up Pickleball Club
LOCATION:Court 4
CATEGORIES:QuickScores; Pickleball Game
TRANSP:0
DALARM:20240505T090000;PT10M;2;KenNaumann/DonnaNaumann vs. MattNaumann/CraigPainter
END:VEVENT
BEGIN:VEVENT
DTSTART:20240505T110000
DTEND:20240505T112000
SUMMARY:AmySmith/LauraLink vs. PCCordero/LibbyPeterson
DESCRIPTION:Prados Tournament (Low Inter - 5/5  Sunday 9am Start) - Paddle Up Pickleball Club
LOCATION:Court 6
CATEGORIES:QuickScores; Pickleball Game
TRANSP:0
DALARM:20240505T090000;PT10M;2;AmySmith/LauraLink vs. PCCordero/LibbyPeterson
END:VEVENT
BEGIN:VEVENT
DTSTART:20240505T110000
DTEND:20240505T112000
SUMMARY:NoalPresley/ShaneLaswell vs. KellyRichert/PhilipWindham
DESCRIPTION:Prados Tournament (Low Inter - 5/5  Sunday 9am Start) - Paddle Up Pickleball Club
LOCATION:Court 8
CATEGORIES:QuickScores; Pickleball Game
TRANSP:0
DALARM:20240505T090000;PT10M;2;NoalPresley/ShaneLaswell vs. KellyRichert/PhilipWindham
END:VEVENT
BEGIN:VEVENT
DTSTART:20240505T110000
DTEND:20240505T112000
SUMMARY:NancyMurphy/TerriSeger vs. WhitneyDurham/ScottDurham
DESCRIPTION:Prados Tournament (Low Inter - 5/5  Sunday 9am Start) - Paddle Up Pickleball Club
LOCATION:Court 5
CATEGORIES:QuickScores; Pickleball Game
TRANSP:0
DALARM:20240505T090000;PT10M;2;NancyMurphy/TerriSeger vs. WhitneyDurham/ScottDurham
END:VEVENT
BEGIN:VEVENT
DTSTART:20240505T110000
DTEND:20240505T112000
SUMMARY:JessieArras/AlexMalloy vs. FlorDeLuca/MatSevilla
DESCRIPTION:Prados Tournament (Low Inter - 5/5  Sunday 9am Start) - Paddle Up Pickleball Club
LOCATION:Court 2
CATEGORIES:QuickScores; Pickleball Game
TRANSP:0
DALARM:20240505T090000;PT10M;2;JessieArras/AlexMalloy vs. FlorDeLuca/MatSevilla
END:VEVENT
BEGIN:VEVENT
DTSTART:20240505T110000
DTEND:20240505T112000
SUMMARY:MichaelFitzgerald/JenniferFitzgerald vs. LoriGibson/NickGibson
DESCRIPTION:Prados Tournament (Low Inter - 5/5  Sunday 9am Start) - Paddle Up Pickleball Club
LOCATION:Court 9
CATEGORIES:QuickScores; Pickleball Game
TRANSP:0
DALARM:20240505T090000;PT10M;2;MichaelFitzgerald/JenniferFitzgerald vs. LoriGibson/NickGibson
END:VEVENT
BEGIN:VEVENT
DTSTART:20240505T110000
DTEND:20240505T112000
SUMMARY:DavidEcklund/NicholasFleming vs. NickDeBrower/NickBeavers
DESCRIPTION:Prados Tournament (Low Inter - 5/5  Sunday 9am Start) - Paddle Up Pickleball Club
LOCATION:Court 7
CATEGORIES:QuickScores; Pickleball Game
TRANSP:0
DALARM:20240505T090000;PT10M;2;DavidEcklund/NicholasFleming vs. NickDeBrower/NickBeavers
END:VEVENT
BEGIN:VEVENT
DTSTART:20240505T112000
DTEND:20240505T114000
SUMMARY:NickDeBrower/NickBeavers vs. AmySmith/LauraLink
DESCRIPTION:Prados Tournament (Low Inter - 5/5  Sunday 9am Start) - Paddle Up Pickleball Club
LOCATION:Court 7
CATEGORIES:QuickScores; Pickleball Game
TRANSP:0
DALARM:20240505T092000;PT10M;2;NickDeBrower/NickBeavers vs. AmySmith/LauraLink
END:VEVENT
BEGIN:VEVENT
DTSTART:20240505T112000
DTEND:20240505T114000
SUMMARY:KenNaumann/DonnaNaumann vs. CraigNorsen/CindyNorsen
DESCRIPTION:Prados Tournament (Low Inter - 5/5  Sunday 9am Start) - Paddle Up Pickleball Club
LOCATION:Court 2
CATEGORIES:QuickScores; Pickleball Game
TRANSP:0
DALARM:20240505T092000;PT10M;2;KenNaumann/DonnaNaumann vs. CraigNorsen/CindyNorsen
END:VEVENT
BEGIN:VEVENT
DTSTART:20240505T112000
DTEND:20240505T114000
SUMMARY:KellyRichert/PhilipWindham vs. NancyMurphy/TerriSeger
DESCRIPTION:Prados Tournament (Low Inter - 5/5  Sunday 9am Start) - Paddle Up Pickleball Club
LOCATION:Court 6
CATEGORIES:QuickScores; Pickleball Game
TRANSP:0
DALARM:20240505T092000;PT10M;2;KellyRichert/PhilipWindham vs. NancyMurphy/TerriSeger
END:VEVENT
BEGIN:VEVENT
DTSTART:20240505T112000
DTEND:20240505T114000
SUMMARY:PCCordero/LibbyPeterson vs. MichaelFitzgerald/JenniferFitzgerald
DESCRIPTION:Prados Tournament (Low Inter - 5/5  Sunday 9am Start) - Paddle Up Pickleball Club
LOCATION:Court 5
CATEGORIES:QuickScores; Pickleball Game
TRANSP:0
DALARM:20240505T092000;PT10M;2;PCCordero/LibbyPeterson vs. MichaelFitzgerald/JenniferFitzgerald
END:VEVENT
BEGIN:VEVENT
DTSTART:20240505T112000
DTEND:20240505T114000
SUMMARY:LoriGibson/NickGibson vs. GaryNielsen/HarshLohani
DESCRIPTION:Prados Tournament (Low Inter - 5/5  Sunday 9am Start) - Paddle Up Pickleball Club
LOCATION:Court 1
CATEGORIES:QuickScores; Pickleball Game
TRANSP:0
DALARM:20240505T092000;PT10M;2;LoriGibson/NickGibson vs. GaryNielsen/HarshLohani
END:VEVENT
BEGIN:VEVENT
DTSTART:20240505T112000
DTEND:20240505T114000
SUMMARY:JessArnold/AnnieJones vs. DavidEcklund/NicholasFleming
DESCRIPTION:Prados Tournament (Low Inter - 5/5  Sunday 9am Start) - Paddle Up Pickleball Club
LOCATION:Court 8
CATEGORIES:QuickScores; Pickleball Game
TRANSP:0
DALARM:20240505T092000;PT10M;2;JessArnold/AnnieJones vs. DavidEcklund/NicholasFleming
END:VEVENT
BEGIN:VEVENT
DTSTART:20240505T112000
DTEND:20240505T114000
SUMMARY:NoalPresley/ShaneLaswell vs. BlaineArmbruster/MelissaArmbruster
DESCRIPTION:Prados Tournament (Low Inter - 5/5  Sunday 9am Start) - Paddle Up Pickleball Club
LOCATION:Court 4
CATEGORIES:QuickScores; Pickleball Game
TRANSP:0
DALARM:20240505T092000;PT10M;2;NoalPresley/ShaneLaswell vs. BlaineArmbruster/MelissaArmbruster
END:VEVENT
END:VCALENDAR
