BEGIN:VCALENDAR
VERSION:1.0
BEGIN:VEVENT
DTSTART:20240406T091000
DTEND:20240406T093000
SUMMARY:WhitneyDurham/FlorDeLuca vs. TinaIngrim/LauraFletcher
DESCRIPTION:April Paddle Battle Womens (9am Saturday 4/6) - Paddle Up Pickleball Club
LOCATION:Court 7
CATEGORIES:QuickScores; Pickleball Game
TRANSP:0
DALARM:20240406T071000;PT10M;2;WhitneyDurham/FlorDeLuca vs. TinaIngrim/LauraFletcher
END:VEVENT
BEGIN:VEVENT
DTSTART:20240406T091000
DTEND:20240406T093000
SUMMARY:LoriGibson/ColleenSiebeneck vs. AngelaLamb/KristyHagen
DESCRIPTION:April Paddle Battle Womens (9am Saturday 4/6) - Paddle Up Pickleball Club
LOCATION:Court 4
CATEGORIES:QuickScores; Pickleball Game
TRANSP:0
DALARM:20240406T071000;PT10M;2;LoriGibson/ColleenSiebeneck vs. AngelaLamb/KristyHagen
END:VEVENT
BEGIN:VEVENT
DTSTART:20240406T091000
DTEND:20240406T093000
SUMMARY:KarenShaw/LindaRobben vs. BobbieTracy/CarrolSanders
DESCRIPTION:April Paddle Battle Womens (9am Saturday 4/6) - Paddle Up Pickleball Club
LOCATION:Court 9
CATEGORIES:QuickScores; Pickleball Game
TRANSP:0
DALARM:20240406T071000;PT10M;2;KarenShaw/LindaRobben vs. BobbieTracy/CarrolSanders
END:VEVENT
BEGIN:VEVENT
DTSTART:20240406T091000
DTEND:20240406T093000
SUMMARY:RobynJones/BeckyBee vs. LauraSwindler/LauraGladis
DESCRIPTION:April Paddle Battle Womens (9am Saturday 4/6) - Paddle Up Pickleball Club
LOCATION:Court 2
CATEGORIES:QuickScores; Pickleball Game
TRANSP:0
DALARM:20240406T071000;PT10M;2;RobynJones/BeckyBee vs. LauraSwindler/LauraGladis
END:VEVENT
BEGIN:VEVENT
DTSTART:20240406T091000
DTEND:20240406T093000
SUMMARY:WendyWitte/LindseyHeaberlin vs. CristinZiegler/AmySenter
DESCRIPTION:April Paddle Battle Womens (9am Saturday 4/6) - Paddle Up Pickleball Club
LOCATION:Court 8
CATEGORIES:QuickScores; Pickleball Game
TRANSP:0
DALARM:20240406T071000;PT10M;2;WendyWitte/LindseyHeaberlin vs. CristinZiegler/AmySenter
END:VEVENT
BEGIN:VEVENT
DTSTART:20240406T091000
DTEND:20240406T093000
SUMMARY:SierraBraun/JaneJoy vs. ErinSmith/KayleighTrokey
DESCRIPTION:April Paddle Battle Womens (9am Saturday 4/6) - Paddle Up Pickleball Club
LOCATION:Court 5
CATEGORIES:QuickScores; Pickleball Game
TRANSP:0
DALARM:20240406T071000;PT10M;2;SierraBraun/JaneJoy vs. ErinSmith/KayleighTrokey
END:VEVENT
BEGIN:VEVENT
DTSTART:20240406T093000
DTEND:20240406T095000
SUMMARY:LauraSwindler/LauraGladis vs. WendyWitte/LindseyHeaberlin
DESCRIPTION:April Paddle Battle Womens (9am Saturday 4/6) - Paddle Up Pickleball Club
LOCATION:Court 9
CATEGORIES:QuickScores; Pickleball Game
TRANSP:0
DALARM:20240406T073000;PT10M;2;LauraSwindler/LauraGladis vs. WendyWitte/LindseyHeaberlin
END:VEVENT
BEGIN:VEVENT
DTSTART:20240406T093000
DTEND:20240406T095000
SUMMARY:RobynJones/BeckyBee vs. SierraBraun/JaneJoy
DESCRIPTION:April Paddle Battle Womens (9am Saturday 4/6) - Paddle Up Pickleball Club
LOCATION:Court 8
CATEGORIES:QuickScores; Pickleball Game
TRANSP:0
DALARM:20240406T073000;PT10M;2;RobynJones/BeckyBee vs. SierraBraun/JaneJoy
END:VEVENT
BEGIN:VEVENT
DTSTART:20240406T093000
DTEND:20240406T095000
SUMMARY:ErinSmith/KayleighTrokey vs. CristinZiegler/AmySenter
DESCRIPTION:April Paddle Battle Womens (9am Saturday 4/6) - Paddle Up Pickleball Club
LOCATION:Court 5
CATEGORIES:QuickScores; Pickleball Game
TRANSP:0
DALARM:20240406T073000;PT10M;2;ErinSmith/KayleighTrokey vs. CristinZiegler/AmySenter
END:VEVENT
BEGIN:VEVENT
DTSTART:20240406T093000
DTEND:20240406T095000
SUMMARY:BobbieTracy/CarrolSanders vs. AngelaLamb/KristyHagen
DESCRIPTION:April Paddle Battle Womens (9am Saturday 4/6) - Paddle Up Pickleball Club
LOCATION:Court 2
CATEGORIES:QuickScores; Pickleball Game
TRANSP:0
DALARM:20240406T073000;PT10M;2;BobbieTracy/CarrolSanders vs. AngelaLamb/KristyHagen
END:VEVENT
BEGIN:VEVENT
DTSTART:20240406T093000
DTEND:20240406T095000
SUMMARY:KarenShaw/LindaRobben vs. TinaIngrim/LauraFletcher
DESCRIPTION:April Paddle Battle Womens (9am Saturday 4/6) - Paddle Up Pickleball Club
LOCATION:Court 4
CATEGORIES:QuickScores; Pickleball Game
TRANSP:0
DALARM:20240406T073000;PT10M;2;KarenShaw/LindaRobben vs. TinaIngrim/LauraFletcher
END:VEVENT
BEGIN:VEVENT
DTSTART:20240406T093000
DTEND:20240406T095000
SUMMARY:LoriGibson/ColleenSiebeneck vs. BridgetGagne/DinaDougherty
DESCRIPTION:April Paddle Battle Womens (9am Saturday 4/6) - Paddle Up Pickleball Club
LOCATION:Court 7
CATEGORIES:QuickScores; Pickleball Game
TRANSP:0
DALARM:20240406T073000;PT10M;2;LoriGibson/ColleenSiebeneck vs. BridgetGagne/DinaDougherty
END:VEVENT
BEGIN:VEVENT
DTSTART:20240406T095000
DTEND:20240406T101000
SUMMARY:RobynJones/BeckyBee vs. CristinZiegler/AmySenter
DESCRIPTION:April Paddle Battle Womens (9am Saturday 4/6) - Paddle Up Pickleball Club
LOCATION:Court 2
CATEGORIES:QuickScores; Pickleball Game
TRANSP:0
DALARM:20240406T075000;PT10M;2;RobynJones/BeckyBee vs. CristinZiegler/AmySenter
END:VEVENT
BEGIN:VEVENT
DTSTART:20240406T095000
DTEND:20240406T101000
SUMMARY:SierraBraun/JaneJoy vs. LauraSwindler/LauraGladis
DESCRIPTION:April Paddle Battle Womens (9am Saturday 4/6) - Paddle Up Pickleball Club
LOCATION:Court 8
CATEGORIES:QuickScores; Pickleball Game
TRANSP:0
DALARM:20240406T075000;PT10M;2;SierraBraun/JaneJoy vs. LauraSwindler/LauraGladis
END:VEVENT
BEGIN:VEVENT
DTSTART:20240406T095000
DTEND:20240406T101000
SUMMARY:WendyWitte/LindseyHeaberlin vs. ErinSmith/KayleighTrokey
DESCRIPTION:April Paddle Battle Womens (9am Saturday 4/6) - Paddle Up Pickleball Club
LOCATION:Court 4
CATEGORIES:QuickScores; Pickleball Game
TRANSP:0
DALARM:20240406T075000;PT10M;2;WendyWitte/LindseyHeaberlin vs. ErinSmith/KayleighTrokey
END:VEVENT
BEGIN:VEVENT
DTSTART:20240406T095000
DTEND:20240406T101000
SUMMARY:LoriGibson/ColleenSiebeneck vs. KarenShaw/LindaRobben
DESCRIPTION:April Paddle Battle Womens (9am Saturday 4/6) - Paddle Up Pickleball Club
LOCATION:Court 5
CATEGORIES:QuickScores; Pickleball Game
TRANSP:0
DALARM:20240406T075000;PT10M;2;LoriGibson/ColleenSiebeneck vs. KarenShaw/LindaRobben
END:VEVENT
BEGIN:VEVENT
DTSTART:20240406T095000
DTEND:20240406T101000
SUMMARY:WhitneyDurham/FlorDeLuca vs. BobbieTracy/CarrolSanders
DESCRIPTION:April Paddle Battle Womens (9am Saturday 4/6) - Paddle Up Pickleball Club
LOCATION:Court 9
CATEGORIES:QuickScores; Pickleball Game
TRANSP:0
DALARM:20240406T075000;PT10M;2;WhitneyDurham/FlorDeLuca vs. BobbieTracy/CarrolSanders
END:VEVENT
BEGIN:VEVENT
DTSTART:20240406T095000
DTEND:20240406T101000
SUMMARY:BridgetGagne/DinaDougherty vs. AngelaLamb/KristyHagen
DESCRIPTION:April Paddle Battle Womens (9am Saturday 4/6) - Paddle Up Pickleball Club
LOCATION:Court 7
CATEGORIES:QuickScores; Pickleball Game
TRANSP:0
DALARM:20240406T075000;PT10M;2;BridgetGagne/DinaDougherty vs. AngelaLamb/KristyHagen
END:VEVENT
BEGIN:VEVENT
DTSTART:20240406T101000
DTEND:20240406T103000
SUMMARY:SierraBraun/JaneJoy vs. WendyWitte/LindseyHeaberlin
DESCRIPTION:April Paddle Battle Womens (9am Saturday 4/6) - Paddle Up Pickleball Club
LOCATION:Court 7
CATEGORIES:QuickScores; Pickleball Game
TRANSP:0
DALARM:20240406T081000;PT10M;2;SierraBraun/JaneJoy vs. WendyWitte/LindseyHeaberlin
END:VEVENT
BEGIN:VEVENT
DTSTART:20240406T101000
DTEND:20240406T103000
SUMMARY:CristinZiegler/AmySenter vs. LauraSwindler/LauraGladis
DESCRIPTION:April Paddle Battle Womens (9am Saturday 4/6) - Paddle Up Pickleball Club
LOCATION:Court 2
CATEGORIES:QuickScores; Pickleball Game
TRANSP:0
DALARM:20240406T081000;PT10M;2;CristinZiegler/AmySenter vs. LauraSwindler/LauraGladis
END:VEVENT
BEGIN:VEVENT
DTSTART:20240406T101000
DTEND:20240406T103000
SUMMARY:ErinSmith/KayleighTrokey vs. RobynJones/BeckyBee
DESCRIPTION:April Paddle Battle Womens (9am Saturday 4/6) - Paddle Up Pickleball Club
LOCATION:Court 9
CATEGORIES:QuickScores; Pickleball Game
TRANSP:0
DALARM:20240406T081000;PT10M;2;ErinSmith/KayleighTrokey vs. RobynJones/BeckyBee
END:VEVENT
BEGIN:VEVENT
DTSTART:20240406T101000
DTEND:20240406T103000
SUMMARY:AngelaLamb/KristyHagen vs. TinaIngrim/LauraFletcher
DESCRIPTION:April Paddle Battle Womens (9am Saturday 4/6) - Paddle Up Pickleball Club
LOCATION:Court 4
CATEGORIES:QuickScores; Pickleball Game
TRANSP:0
DALARM:20240406T081000;PT10M;2;AngelaLamb/KristyHagen vs. TinaIngrim/LauraFletcher
END:VEVENT
BEGIN:VEVENT
DTSTART:20240406T101000
DTEND:20240406T103000
SUMMARY:BobbieTracy/CarrolSanders vs. BridgetGagne/DinaDougherty
DESCRIPTION:April Paddle Battle Womens (9am Saturday 4/6) - Paddle Up Pickleball Club
LOCATION:Court 5
CATEGORIES:QuickScores; Pickleball Game
TRANSP:0
DALARM:20240406T081000;PT10M;2;BobbieTracy/CarrolSanders vs. BridgetGagne/DinaDougherty
END:VEVENT
BEGIN:VEVENT
DTSTART:20240406T101000
DTEND:20240406T103000
SUMMARY:KarenShaw/LindaRobben vs. WhitneyDurham/FlorDeLuca
DESCRIPTION:April Paddle Battle Womens (9am Saturday 4/6) - Paddle Up Pickleball Club
LOCATION:Court 8
CATEGORIES:QuickScores; Pickleball Game
TRANSP:0
DALARM:20240406T081000;PT10M;2;KarenShaw/LindaRobben vs. WhitneyDurham/FlorDeLuca
END:VEVENT
BEGIN:VEVENT
DTSTART:20240406T103000
DTEND:20240406T105000
SUMMARY:CristinZiegler/AmySenter vs. SierraBraun/JaneJoy
DESCRIPTION:April Paddle Battle Womens (9am Saturday 4/6) - Paddle Up Pickleball Club
LOCATION:Court 5
CATEGORIES:QuickScores; Pickleball Game
TRANSP:0
DALARM:20240406T083000;PT10M;2;CristinZiegler/AmySenter vs. SierraBraun/JaneJoy
END:VEVENT
BEGIN:VEVENT
DTSTART:20240406T103000
DTEND:20240406T105000
SUMMARY:WendyWitte/LindseyHeaberlin vs. RobynJones/BeckyBee
DESCRIPTION:April Paddle Battle Womens (9am Saturday 4/6) - Paddle Up Pickleball Club
LOCATION:Court 9
CATEGORIES:QuickScores; Pickleball Game
TRANSP:0
DALARM:20240406T083000;PT10M;2;WendyWitte/LindseyHeaberlin vs. RobynJones/BeckyBee
END:VEVENT
BEGIN:VEVENT
DTSTART:20240406T103000
DTEND:20240406T105000
SUMMARY:LauraSwindler/LauraGladis vs. ErinSmith/KayleighTrokey
DESCRIPTION:April Paddle Battle Womens (9am Saturday 4/6) - Paddle Up Pickleball Club
LOCATION:Court 4
CATEGORIES:QuickScores; Pickleball Game
TRANSP:0
DALARM:20240406T083000;PT10M;2;LauraSwindler/LauraGladis vs. ErinSmith/KayleighTrokey
END:VEVENT
BEGIN:VEVENT
DTSTART:20240406T103000
DTEND:20240406T105000
SUMMARY:WhitneyDurham/FlorDeLuca vs. LoriGibson/ColleenSiebeneck
DESCRIPTION:April Paddle Battle Womens (9am Saturday 4/6) - Paddle Up Pickleball Club
LOCATION:Court 8
CATEGORIES:QuickScores; Pickleball Game
TRANSP:0
DALARM:20240406T083000;PT10M;2;WhitneyDurham/FlorDeLuca vs. LoriGibson/ColleenSiebeneck
END:VEVENT
BEGIN:VEVENT
DTSTART:20240406T103000
DTEND:20240406T105000
SUMMARY:BridgetGagne/DinaDougherty vs. KarenShaw/LindaRobben
DESCRIPTION:April Paddle Battle Womens (9am Saturday 4/6) - Paddle Up Pickleball Club
LOCATION:Court 7
CATEGORIES:QuickScores; Pickleball Game
TRANSP:0
DALARM:20240406T083000;PT10M;2;BridgetGagne/DinaDougherty vs. KarenShaw/LindaRobben
END:VEVENT
BEGIN:VEVENT
DTSTART:20240406T103000
DTEND:20240406T105000
SUMMARY:TinaIngrim/LauraFletcher vs. BobbieTracy/CarrolSanders
DESCRIPTION:April Paddle Battle Womens (9am Saturday 4/6) - Paddle Up Pickleball Club
LOCATION:Court 2
CATEGORIES:QuickScores; Pickleball Game
TRANSP:0
DALARM:20240406T083000;PT10M;2;TinaIngrim/LauraFletcher vs. BobbieTracy/CarrolSanders
END:VEVENT
BEGIN:VEVENT
DTSTART:20240406T105000
DTEND:20240406T111000
SUMMARY:CristinZiegler/AmySenter vs. WendyWitte/LindseyHeaberlin
DESCRIPTION:April Paddle Battle Womens (9am Saturday 4/6) - Paddle Up Pickleball Club
LOCATION:Court 5
CATEGORIES:QuickScores; Pickleball Game
TRANSP:0
DALARM:20240406T085000;PT10M;2;CristinZiegler/AmySenter vs. WendyWitte/LindseyHeaberlin
END:VEVENT
BEGIN:VEVENT
DTSTART:20240406T105000
DTEND:20240406T111000
SUMMARY:ErinSmith/KayleighTrokey vs. SierraBraun/JaneJoy
DESCRIPTION:April Paddle Battle Womens (9am Saturday 4/6) - Paddle Up Pickleball Club
LOCATION:Court 8
CATEGORIES:QuickScores; Pickleball Game
TRANSP:0
DALARM:20240406T085000;PT10M;2;ErinSmith/KayleighTrokey vs. SierraBraun/JaneJoy
END:VEVENT
BEGIN:VEVENT
DTSTART:20240406T105000
DTEND:20240406T111000
SUMMARY:TinaIngrim/LauraFletcher vs. BridgetGagne/DinaDougherty
DESCRIPTION:April Paddle Battle Womens (9am Saturday 4/6) - Paddle Up Pickleball Club
LOCATION:Court 2
CATEGORIES:QuickScores; Pickleball Game
TRANSP:0
DALARM:20240406T085000;PT10M;2;TinaIngrim/LauraFletcher vs. BridgetGagne/DinaDougherty
END:VEVENT
BEGIN:VEVENT
DTSTART:20240406T105000
DTEND:20240406T111000
SUMMARY:AngelaLamb/KristyHagen vs. WhitneyDurham/FlorDeLuca
DESCRIPTION:April Paddle Battle Womens (9am Saturday 4/6) - Paddle Up Pickleball Club
LOCATION:Court 7
CATEGORIES:QuickScores; Pickleball Game
TRANSP:0
DALARM:20240406T085000;PT10M;2;AngelaLamb/KristyHagen vs. WhitneyDurham/FlorDeLuca
END:VEVENT
BEGIN:VEVENT
DTSTART:20240406T105000
DTEND:20240406T111000
SUMMARY:BobbieTracy/CarrolSanders vs. LoriGibson/ColleenSiebeneck
DESCRIPTION:April Paddle Battle Womens (9am Saturday 4/6) - Paddle Up Pickleball Club
LOCATION:Court 4
CATEGORIES:QuickScores; Pickleball Game
TRANSP:0
DALARM:20240406T085000;PT10M;2;BobbieTracy/CarrolSanders vs. LoriGibson/ColleenSiebeneck
END:VEVENT
BEGIN:VEVENT
DTSTART:20240406T105000
DTEND:20240406T111000
SUMMARY:LauraSwindler/LauraGladis vs. RobynJones/BeckyBee
DESCRIPTION:April Paddle Battle Womens (9am Saturday 4/6) - Paddle Up Pickleball Club
LOCATION:Court 9
CATEGORIES:QuickScores; Pickleball Game
TRANSP:0
DALARM:20240406T085000;PT10M;2;LauraSwindler/LauraGladis vs. RobynJones/BeckyBee
END:VEVENT
BEGIN:VEVENT
DTSTART:20240406T111000
DTEND:20240406T113000
SUMMARY:BridgetGagne/DinaDougherty vs. WhitneyDurham/FlorDeLuca
DESCRIPTION:April Paddle Battle Womens (9am Saturday 4/6) - Paddle Up Pickleball Club
LOCATION:Court 4
CATEGORIES:QuickScores; Pickleball Game
TRANSP:0
DALARM:20240406T091000;PT10M;2;BridgetGagne/DinaDougherty vs. WhitneyDurham/FlorDeLuca
END:VEVENT
BEGIN:VEVENT
DTSTART:20240406T111000
DTEND:20240406T113000
SUMMARY:TinaIngrim/LauraFletcher vs. LoriGibson/ColleenSiebeneck
DESCRIPTION:April Paddle Battle Womens (9am Saturday 4/6) - Paddle Up Pickleball Club
LOCATION:Court 5
CATEGORIES:QuickScores; Pickleball Game
TRANSP:0
DALARM:20240406T091000;PT10M;2;TinaIngrim/LauraFletcher vs. LoriGibson/ColleenSiebeneck
END:VEVENT
BEGIN:VEVENT
DTSTART:20240406T111000
DTEND:20240406T113000
SUMMARY:AngelaLamb/KristyHagen vs. KarenShaw/LindaRobben
DESCRIPTION:April Paddle Battle Womens (9am Saturday 4/6) - Paddle Up Pickleball Club
LOCATION:Court 2
CATEGORIES:QuickScores; Pickleball Game
TRANSP:0
DALARM:20240406T091000;PT10M;2;AngelaLamb/KristyHagen vs. KarenShaw/LindaRobben
END:VEVENT
END:VCALENDAR
