BEGIN:VCALENDAR
VERSION:1.0
BEGIN:VEVENT
DTSTART:20240503T120000
DTEND:20240503T133000
SUMMARY:Bassa Mist/Goodman vs. Grill 584
DESCRIPTION:Men 60 Major/65 Major/Major Gold - International Senior Softball Association<br>ISSA
LOCATION:FLP 1
CATEGORIES:QuickScores; Softball Game
TRANSP:0
DALARM:20240503T100000;PT10M;2;Bassa Mist/Goodman vs. Grill 584
END:VEVENT
BEGIN:VEVENT
DTSTART:20240503T133000
DTEND:20240503T150000
SUMMARY:Carolina Legends vs. DT Express
DESCRIPTION:Men 60 Major/65 Major/Major Gold - International Senior Softball Association<br>ISSA
LOCATION:FLP 3
CATEGORIES:QuickScores; Softball Game
TRANSP:0
DALARM:20240503T113000;PT10M;2;Carolina Legends vs. DT Express
END:VEVENT
BEGIN:VEVENT
DTSTART:20240503T133000
DTEND:20240503T150000
SUMMARY:Grill 584 vs. New Life Building Supplies/Reality Check
DESCRIPTION:Men 60 Major/65 Major/Major Gold - International Senior Softball Association<br>ISSA
LOCATION:FLP 1
CATEGORIES:QuickScores; Softball Game
TRANSP:0
DALARM:20240503T113000;PT10M;2;Grill 584 vs. New Life Building Supplies/Reality Check
END:VEVENT
BEGIN:VEVENT
DTSTART:20240503T150000
DTEND:20240503T163000
SUMMARY:DT Express vs. Steel City A's
DESCRIPTION:Men 60 Major/65 Major/Major Gold - International Senior Softball Association<br>ISSA
LOCATION:FLP 3
CATEGORIES:QuickScores; Softball Game
TRANSP:0
DALARM:20240503T130000;PT10M;2;DT Express vs. Steel City A's
END:VEVENT
BEGIN:VEVENT
DTSTART:20240503T150000
DTEND:20240503T163000
SUMMARY:New Life Building Supplies/Reality Check vs. Bassa Mist/Goodman
DESCRIPTION:Men 60 Major/65 Major/Major Gold - International Senior Softball Association<br>ISSA
LOCATION:FLP 1
CATEGORIES:QuickScores; Softball Game
TRANSP:0
DALARM:20240503T130000;PT10M;2;New Life Building Supplies/Reality Check vs. Bassa Mist/Goodman
END:VEVENT
BEGIN:VEVENT
DTSTART:20240503T163000
DTEND:20240503T180000
SUMMARY:Steel City A's vs. Carolina Legends
DESCRIPTION:Men 60 Major/65 Major/Major Gold - International Senior Softball Association<br>ISSA
LOCATION:FLP 3
CATEGORIES:QuickScores; Softball Game
TRANSP:0
DALARM:20240503T143000;PT10M;2;Steel City A's vs. Carolina Legends
END:VEVENT
END:VCALENDAR
